From mboxrd@z Thu Jan 1 00:00:00 1970 Return-Path: Received: from mails.dpdk.org (mails.dpdk.org [217.70.189.124]) by inbox.dpdk.org (Postfix) with ESMTP id AD44446ADC for ; Wed, 2 Jul 2025 22:25:13 +0200 (CEST) Received: from mails.dpdk.org (localhost [127.0.0.1]) by mails.dpdk.org (Postfix) with ESMTP id A919A4064C; Wed, 2 Jul 2025 22:25:13 +0200 (CEST) Received: from mail-pg1-f225.google.com (mail-pg1-f225.google.com [209.85.215.225]) by mails.dpdk.org (Postfix) with ESMTP id CCE494064C for ; Wed, 2 Jul 2025 22:25:12 +0200 (CEST) Received: by mail-pg1-f225.google.com with SMTP id 41be03b00d2f7-879d2e419b9so5419563a12.2 for ; Wed, 02 Jul 2025 13:25:12 -0700 (PDT) DKIM-Signature: v=1; a=rsa-sha256; c=relaxed/relaxed; d=iol.unh.edu; s=unh-iol; t=1751487912; x=1752092712; darn=dpdk.org; h=references:in-reply-to:cc:to:from:subject:message-id:date:from:to :cc:subject:date:message-id:reply-to; bh=vnqCj3/izuN3rw4kXQf+QCCrdF8dNwxAScyyn1MyeM4=; b=Cs6xQC6HF0yGg6u6KE9lceymEazGOgjtjZgdypcGU+yoJlROEhRy1+LjMUcgu+cZwk pnVA/H20mbG/HkIVKLHT2NgacRWoH8EhzxBIo7VpyS1LrpKt4jXOGMI8H1/KER7EouR0 G7GWBsS8nmzvFojk1HrS1b+vlQC1DzY2pkPx0= X-Google-DKIM-Signature: v=1; a=rsa-sha256; c=relaxed/relaxed; d=1e100.net; s=20230601; t=1751487912; x=1752092712; h=references:in-reply-to:cc:to:from:subject:message-id:date :x-gm-message-state:from:to:cc:subject:date:message-id:reply-to; bh=vnqCj3/izuN3rw4kXQf+QCCrdF8dNwxAScyyn1MyeM4=; b=lw+MkWY3EHvNOSZHhr7tr6TFvROyCxYbRXU+s/BWGQTBFu9rc4/RxQXtHcrZtpFd95 Jr7+KQON1rjpqVL8W2uNDJfwFggZOh9d9cm6v3NUngFEXwuY/o3bJsLpQBKud81OYbLc lFplIhUVAFNCeepS3z1uDi0lmS2byAnvN99fs8kzuChO2Y7VYq7IqpmQXPd/flNLlMsr /Q9xRtwlHXmQwpPpQ7pTspZ5HASDzMQo6qqLtyK4aXWKzGJATcpJaqvKDAXEqQUaOVZg wCym+K6r4C8ZoD5mvemzAt//qwvWbQuCz7XwDjVilWjaikak2lNiOdKi5jsA8RguzWdH g6Jg== X-Gm-Message-State: AOJu0Yzk5V3oDb6+v6rlqz3+EXN9yJX3IfYm+m5+w82ZQXu4pldRMzuJ WC4roEan5kKFrcAZuZF1QdytFk2qmyRSQ1ZIPpY9qrXpe7gPFsK549oqQn+NC54KnMza1Sr5auR ozMXlN0L54IhUa59LbY/AdNWrP95MoPuc/aubu5DDFTWUiHGmTlEd1FWfyI8Y X-Gm-Gg: ASbGncvC20pUSgnbU46c4U2/RmZw615QH9KMgFzu++hEh6n+FLEbAO7FSk/G+IF787/ +mkH0a8Yil/Zx67dMO8U4RWPQbt/LW3iQZG4bCOsxLHS4fp5l2J8uzJ71CEFRHKxVZGBBuey7Mw lB3sGwAjMPrCV46bgqYN1yyR0b4VajMYMugEFIEm6byOrChWFoUJDhQfe8Ib9wOnBV9vM0wsJ5f kj1AxPZA+mr1PET0QyNdSTL1LEc/ICgTnx3ihcG1rn5W6LZ4MKj4ijuUZYfkm7N9AEQ4NOZfIRX YycyMRTOMEqW2xdBjj91sOfmI6rRUaR+z0fPse3XwA2KFoY= X-Google-Smtp-Source: AGHT+IHYndATyWmTNi1H9e4kdzOPbHjXTaJB+oZaY+OM71v2mnhA09ct6SO0O8gT7r2zMy8ekv3nFvxFOHux X-Received: by 2002:a17:90b:5101:b0:311:e8cc:425d with SMTP id 98e67ed59e1d1-31a90b972e1mr6957833a91.10.1751487911829; Wed, 02 Jul 2025 13:25:11 -0700 (PDT) Received: from postal.iol.unh.edu (postal.iol.unh.edu. [2606:4100:3880:1234::84]) by smtp-relay.gmail.com with ESMTPS id 98e67ed59e1d1-31a9cd0cfefsm28518a91.13.2025.07.02.13.25.11 (version=TLS1_2 cipher=ECDHE-ECDSA-AES128-GCM-SHA256 bits=128/128); Wed, 02 Jul 2025 13:25:11 -0700 (PDT) X-Relaying-Domain: iol.unh.edu Date: Wed, 02 Jul 2025 13:25:11 -0700 (PDT) Message-ID: <686595a7.170a0220.3a4fb0.186fSMTPIN_ADDED_MISSING@mx.google.com> Received: from [172.21.0.5] (unknown [172.18.0.240]) by postal.iol.unh.edu (Postfix) with ESMTP id DE05C6051830; Wed, 2 Jul 2025 16:25:10 -0400 (EDT) Subject: |SUCCESS| pw154966 [PATCH] net/mlx5: fix crash when using meter in t From: dpdklab@iol.unh.edu To: Test Report Cc: dpdk-test-reports@iol.unh.edu In-Reply-To: <20250702123617.1814996-1-14pwcse1224@uetpeshawar.edu.pk> References: <20250702123617.1814996-1-14pwcse1224@uetpeshawar.edu.pk> Content-Type: text/plain X-BeenThere: test-report@dpdk.org X-Mailman-Version: 2.1.29 Precedence: list List-Id: automatic DPDK test reports List-Unsubscribe: , List-Archive: List-Post: List-Help: List-Subscribe: , Errors-To: test-report-bounces@dpdk.org Test-Label: iol-abi-testing Test-Status: SUCCESS http://dpdk.org/patch/154966 _Testing PASS_ Submitter: Khadem Ullah <14pwcse1224@uetpeshawar.edu.pk> Date: Wednesday, July 02 2025 12:36:17 DPDK git baseline: Repo:dpdk Branch: master CommitID:5c0c1a13c34aa57c6e18f9ba852a9b5807c58b72 154966 --> testing pass Upstream job id: Generic-DPDK-Compile-ABI#132702 Test environment and result as below: +-------------------------------+----------+ | Environment | abi_test | +===============================+==========+ | CentOS Stream 9 | PASS | +-------------------------------+----------+ | Fedora Linux 41 | PASS | +-------------------------------+----------+ | Debian GNU/Linux 12 | PASS | +-------------------------------+----------+ | Red Hat Enterprise Linux 8.10 | PASS | +-------------------------------+----------+ | Fedora Linux 40 | PASS | +-------------------------------+----------+ | Red Hat Enterprise Linux 9.5 | PASS | +-------------------------------+----------+ | CentOS Stream 10 | PASS | +-------------------------------+----------+ | openSUSE Leap 15.6 | PASS | +-------------------------------+----------+ | Ubuntu 24.04 | PASS | +-------------------------------+----------+ | Ubuntu 22.04 | PASS | +-------------------------------+----------+ CentOS Stream 9 Kernel: 5.15 Compiler: gcc gcc (GCC) 11.5.0 20240719 (Red Hat 11.5.0-7) Fedora Linux 41 Kernel: 5.15 Compiler: gcc gcc (GCC) 14.3.1 20250523 (Red Hat 14.3.1-1) Debian GNU/Linux 12 Kernel: 5.15 Compiler: gcc gcc (Debian 12.2.0-14+deb12u1) 12.2.0 Red Hat Enterprise Linux 8.10 Kernel: 5.15 Compiler: gcc gcc (GCC) 8.5.0 20210514 (Red Hat 8.5.0-22) Fedora Linux 40 Kernel: 5.15 Compiler: clang gcc (GCC) 14.2.1 20240912 (Red Hat 14.2.1-3) Red Hat Enterprise Linux 9.5 Kernel: 5.15 Compiler: gcc gcc (GCC) 11.5.0 20240719 (Red Hat 11.5.0-2) CentOS Stream 10 Kernel: 5.15 Compiler: gcc gcc (GCC) 14.2.1 20250110 (Red Hat 14.2.1-8) openSUSE Leap 15.6 Kernel: 5.15 Compiler: gcc gcc (SUSE Linux) 7.5.0 Ubuntu 24.04 Kernel: 5.15 Compiler: gcc gcc (Ubuntu 13.3.0-6ubuntu2~24.04) 13.3.0 Ubuntu 22.04 Kernel: 5.15 Compiler: gcc gcc (Ubuntu 11.4.0-1ubuntu1~22.04) 11.4.0 To view detailed results, visit: https://lab.dpdk.org/results/dashboard/patchsets/33567/ UNH-IOL DPDK Community Lab To manage your email subscriptions, visit: https://lab.dpdk.org/results/dashboard/preferences/subscriptions/