automatic DPDK test reports
 help / color / mirror / Atom feed
* |SUCCESS| pw154978 [PATCH v3] net/iavf: fix VLAN offload strip flag
       [not found] <20250702183856.99326-1-amiyaranjan.mohakud@gmail.com>
@ 2025-07-02 18:05 ` qemudev
  2025-07-02 18:09 ` qemudev
                   ` (19 subsequent siblings)
  20 siblings, 0 replies; 21+ messages in thread
From: qemudev @ 2025-07-02 18:05 UTC (permalink / raw)
  To: test-report

Test-Label: loongarch-compilation
Test-Status: SUCCESS
http://dpdk.org/patch/154978

_Compilation OK_

Submitter: Amiya Ranjan Mohakud <amiyaranjan.mohakud@gmail.com>
Date: Thu,  3 Jul 2025 00:08:56 +0530
DPDK git baseline: Repo:dpdk-next-net-intel
  Branch: main
  CommitID: 9d9c24079d2f98ea595cefda4b60e1adf18f875d

154978 --> meson & ninja build successfully

Test environment and result as below:

+---------------------+----------------+
|     Environment     | compilation    |
+---------------------+----------------+
| Loongnix-Server 8.3 | PASS           |
+---------------------+----------------+

Loongnix-Server 8.3
    Kernel: 4.19.190+
    Compiler: gcc 8.3


^ permalink raw reply	[flat|nested] 21+ messages in thread

* |SUCCESS| pw154978 [PATCH v3] net/iavf: fix VLAN offload strip flag
       [not found] <20250702183856.99326-1-amiyaranjan.mohakud@gmail.com>
  2025-07-02 18:05 ` |SUCCESS| pw154978 [PATCH v3] net/iavf: fix VLAN offload strip flag qemudev
@ 2025-07-02 18:09 ` qemudev
  2025-07-02 18:38 ` checkpatch
                   ` (18 subsequent siblings)
  20 siblings, 0 replies; 21+ messages in thread
From: qemudev @ 2025-07-02 18:09 UTC (permalink / raw)
  To: test-report

Test-Label: loongarch-unit-testing
Test-Status: SUCCESS
http://dpdk.org/patch/154978

_Unit Testing PASS_

Submitter: Amiya Ranjan Mohakud <amiyaranjan.mohakud@gmail.com>
Date: Thu,  3 Jul 2025 00:08:56 +0530
DPDK git baseline: Repo:dpdk-next-net-intel
  Branch: main
  CommitID: 9d9c24079d2f98ea595cefda4b60e1adf18f875d

154978 --> testing pass

Test environment and result as below:

+---------------------+----------------+
|     Environment     | dpdk_unit_test |
+---------------------+----------------+
| Loongnix-Server 8.3 | PASS           |
+---------------------+----------------+

Loongnix-Server 8.3
    Kernel: 4.19.190+
    Compiler: gcc 8.3


Test result details:
  1/121 DPDK:fast-tests / acl_autotest                            OK              3.13s
  2/121 DPDK:fast-tests / alarm_autotest                          OK              1.40s
  3/121 DPDK:fast-tests / argparse_autotest                       OK              0.40s
  4/121 DPDK:fast-tests / atomic_autotest                         OK              7.31s
  5/121 DPDK:fast-tests / bitcount_autotest                       OK              0.39s
  6/121 DPDK:fast-tests / bitmap_autotest                         OK              0.40s
  7/121 DPDK:fast-tests / bitops_autotest                         OK              1.90s
  8/121 DPDK:fast-tests / bitratestats_autotest                   OK              0.40s
  9/121 DPDK:fast-tests / bitset_autotest                         OK              3.12s
 10/121 DPDK:fast-tests / bpf_autotest                            OK              0.40s
 11/121 DPDK:fast-tests / bpf_convert_autotest                    OK              0.42s
 12/121 DPDK:fast-tests / byteorder_autotest                      OK              0.40s
 13/121 DPDK:fast-tests / cfgfile_autotest                        OK              0.40s
 14/121 DPDK:fast-tests / cksum_autotest                          OK              0.40s
 15/121 DPDK:fast-tests / cmdline_autotest                        OK              0.40s
 16/121 DPDK:fast-tests / common_autotest                         OK              1.28s
 17/121 DPDK:fast-tests / compressdev_autotest                    SKIP            0.06s   exit status 77
 18/121 DPDK:fast-tests / cpuflags_autotest                       OK              0.39s
 19/121 DPDK:fast-tests / crc_autotest                            OK              0.39s
 20/121 DPDK:fast-tests / user_delay_us                           OK              0.40s
 21/121 DPDK:fast-tests / debug_autotest                          OK             18.97s
 22/121 DPDK:fast-tests / devargs_autotest                        OK              0.39s
 23/121 DPDK:fast-tests / dispatcher_autotest                     OK              2.54s
 24/121 DPDK:fast-tests / distributor_autotest                    OK              1.20s
 25/121 DPDK:fast-tests / eal_flags_c_opt_autotest                OK              0.79s
 26/121 DPDK:fast-tests / eal_flags_main_opt_autotest             OK              0.22s
 27/121 DPDK:fast-tests / eal_flags_n_opt_autotest                OK              0.20s
 28/121 DPDK:fast-tests / eal_flags_hpet_autotest                 OK              0.13s
 29/121 DPDK:fast-tests / eal_flags_no_huge_autotest              OK              0.22s
 30/121 DPDK:fast-tests / eal_flags_a_opt_autotest                OK              0.30s
 31/121 DPDK:fast-tests / eal_flags_b_opt_autotest                OK              0.25s
 32/121 DPDK:fast-tests / eal_flags_vdev_opt_autotest             OK              0.20s
 33/121 DPDK:fast-tests / eal_flags_r_opt_autotest                OK              0.19s
 34/121 DPDK:fast-tests / eal_flags_mem_autotest                  OK              0.60s
 35/121 DPDK:fast-tests / eal_flags_file_prefix_autotest          OK             22.26s
 36/121 DPDK:fast-tests / eal_flags_misc_autotest                 OK              1.06s
 37/121 DPDK:fast-tests / eal_fs_autotest                         OK              0.39s
 38/121 DPDK:fast-tests / errno_autotest                          OK              0.40s
 39/121 DPDK:fast-tests / ethdev_link_status                      OK              0.40s
 40/121 DPDK:fast-tests / event_eth_tx_adapter_autotest           OK              1.69s
 41/121 DPDK:fast-tests / event_ring_autotest                     OK              0.40s
 42/121 DPDK:fast-tests / event_vector_adapter_autotest           OK              0.76s
 43/121 DPDK:fast-tests / eventdev_common_autotest                OK              0.39s
 44/121 DPDK:fast-tests / eventdev_selftest_sw                    OK              7.28s
 45/121 DPDK:fast-tests / fbarray_autotest                        OK              0.40s
 46/121 DPDK:fast-tests / fib_autotest                            OK              1.24s
 47/121 DPDK:fast-tests / fib6_autotest                           OK              1.03s
 48/121 DPDK:fast-tests / func_reentrancy_autotest                OK              2.23s
 49/121 DPDK:fast-tests / graph_autotest                          OK              0.40s
 50/121 DPDK:fast-tests / node_list_dump                          OK              0.40s
 51/121 DPDK:fast-tests / graph_feature_arc_autotest              OK              0.40s
 52/121 DPDK:fast-tests / hash_autotest                           OK              1.03s
 53/121 DPDK:fast-tests / hash_readwrite_func_autotest            OK              6.40s
 54/121 DPDK:fast-tests / interrupt_autotest                      OK              1.70s
 55/121 DPDK:fast-tests / ipfrag_autotest                         OK              0.07s
 56/121 DPDK:fast-tests / ipsec_autotest                          SKIP            0.40s   exit status 77
 57/121 DPDK:fast-tests / kvargs_autotest                         OK              0.40s
 58/121 DPDK:fast-tests / latencystats_autotest                   OK              0.40s
 59/121 DPDK:fast-tests / lcore_var_autotest                      OK              0.54s
 60/121 DPDK:fast-tests / lcores_autotest                         OK              5.21s
 61/121 DPDK:fast-tests / logs_autotest                           OK              0.40s
 62/121 DPDK:fast-tests / lpm_autotest                            OK              2.45s
 63/121 DPDK:fast-tests / lpm6_autotest                           OK              5.57s
 64/121 DPDK:fast-tests / malloc_autotest                         OK             60.18s
 65/121 DPDK:fast-tests / mbuf_autotest                           OK              4.96s
 66/121 DPDK:fast-tests / mcslock_autotest                        OK              2.71s
 67/121 DPDK:fast-tests / member_autotest                         OK              1.57s
 68/121 DPDK:fast-tests / memcpy_autotest                         OK              6.92s
 69/121 DPDK:fast-tests / memory_autotest                         OK              0.10s
 70/121 DPDK:fast-tests / mempool_autotest                        OK              0.43s
 71/121 DPDK:fast-tests / memzone_autotest                        OK              0.14s
 72/121 DPDK:fast-tests / meter_autotest                          OK              0.39s
 73/121 DPDK:fast-tests / metrics_autotest                        OK              0.40s
 74/121 DPDK:fast-tests / multiprocess_autotest                   OK              0.19s
 75/121 DPDK:fast-tests / net_ether_autotest                      OK              1.06s
 76/121 DPDK:fast-tests / net_ipv6_autotest                       OK              0.39s
 77/121 DPDK:fast-tests / pcapng_autotest                         OK              7.22s
 78/121 DPDK:fast-tests / pdcp_autotest                           SKIP            0.07s   exit status 77
 79/121 DPDK:fast-tests / pdump_autotest                          OK              0.52s
 80/121 DPDK:fast-tests / per_lcore_autotest                      OK              0.50s
 81/121 DPDK:fast-tests / pflock_autotest                         OK              1.21s
 82/121 DPDK:fast-tests / pie_autotest                            OK              0.40s
 83/121 DPDK:fast-tests / ring_pmd_autotest                       OK              0.40s
 84/121 DPDK:fast-tests / power_autotest                          OK              0.40s
 85/121 DPDK:fast-tests / power_cpufreq_autotest                  SKIP            0.07s   exit status 77
 86/121 DPDK:fast-tests / power_intel_uncore_autotest             SKIP            0.39s   exit status 77
 87/121 DPDK:fast-tests / power_kvm_vm_autotest                   SKIP            0.07s   exit status 77
 88/121 DPDK:fast-tests / prefetch_autotest                       OK              0.39s
 89/121 DPDK:fast-tests / ptr_compress_autotest                   OK              0.40s
 90/121 DPDK:fast-tests / rawdev_autotest                         OK              0.40s
 91/121 DPDK:fast-tests / rcu_qsbr_autotest                       OK              0.92s
 92/121 DPDK:fast-tests / reorder_autotest                        OK              0.46s
 93/121 DPDK:fast-tests / rib_autotest                            OK              9.05s
 94/121 DPDK:fast-tests / rib6_autotest                           OK              9.04s
 95/121 DPDK:fast-tests / ring_autotest                           OK              0.43s
 96/121 DPDK:fast-tests / rwlock_test1_autotest                   OK              1.15s
 97/121 DPDK:fast-tests / rwlock_rda_autotest                     OK              5.40s
 98/121 DPDK:fast-tests / rwlock_rds_wrm_autotest                 OK              5.40s
 99/121 DPDK:fast-tests / rwlock_rde_wro_autotest                 OK              5.40s
100/121 DPDK:fast-tests / sched_autotest                          OK              0.40s
101/121 DPDK:fast-tests / security_autotest                       OK              0.07s
102/121 DPDK:fast-tests / seqlock_autotest                        OK              2.40s
103/121 DPDK:fast-tests / service_autotest                        OK              3.10s
104/121 DPDK:fast-tests / soring_autotest                         OK              0.40s
105/121 DPDK:fast-tests / spinlock_autotest                       OK              0.47s
106/121 DPDK:fast-tests / stack_autotest                          OK              0.86s
107/121 DPDK:fast-tests / stack_lf_autotest                       SKIP            0.06s   exit status 77
108/121 DPDK:fast-tests / string_autotest                         OK              0.39s
109/121 DPDK:fast-tests / table_autotest                          OK              7.77s
110/121 DPDK:fast-tests / tailq_autotest                          OK              0.39s
111/121 DPDK:fast-tests / telemetry_data_autotest                 OK              0.40s
112/121 DPDK:fast-tests / telemetry_json_autotest                 OK              0.40s
113/121 DPDK:fast-tests / thash_autotest                          OK              0.41s
114/121 DPDK:fast-tests / threads_autotest                        OK              0.58s
115/121 DPDK:fast-tests / ticketlock_autotest                     OK              0.56s
116/121 DPDK:fast-tests / timer_autotest                          OK              3.89s
117/121 DPDK:fast-tests / trace_autotest                          OK              0.39s
118/121 DPDK:fast-tests / trace_autotest_with_traces              OK              0.40s
119/121 DPDK:fast-tests / vdev_autotest                           OK              0.39s
120/121 DPDK:fast-tests / version_autotest                        OK              0.40s
121/121 DPDK:fast-tests / telemetry_all                           OK              1.32s


Ok:                 114
Expected Fail:      0
Fail:               0
Unexpected Pass:    0
Skipped:            7
Timeout:            0


^ permalink raw reply	[flat|nested] 21+ messages in thread

* |SUCCESS| pw154978 [PATCH v3] net/iavf: fix VLAN offload strip flag
       [not found] <20250702183856.99326-1-amiyaranjan.mohakud@gmail.com>
  2025-07-02 18:05 ` |SUCCESS| pw154978 [PATCH v3] net/iavf: fix VLAN offload strip flag qemudev
  2025-07-02 18:09 ` qemudev
@ 2025-07-02 18:38 ` checkpatch
  2025-07-02 19:43 ` 0-day Robot
                   ` (17 subsequent siblings)
  20 siblings, 0 replies; 21+ messages in thread
From: checkpatch @ 2025-07-02 18:38 UTC (permalink / raw)
  To: test-report

Test-Label: checkpatch
Test-Status: SUCCESS
http://dpdk.org/patch/154978

_coding style OK_



^ permalink raw reply	[flat|nested] 21+ messages in thread

* |SUCCESS| pw154978 [PATCH v3] net/iavf: fix VLAN offload strip flag
       [not found] <20250702183856.99326-1-amiyaranjan.mohakud@gmail.com>
                   ` (2 preceding siblings ...)
  2025-07-02 18:38 ` checkpatch
@ 2025-07-02 19:43 ` 0-day Robot
  2025-07-02 20:29 ` |PENDING| pw154978 [PATCH] [v3] net/iavf: fix VLAN offload strip fla dpdklab
                   ` (16 subsequent siblings)
  20 siblings, 0 replies; 21+ messages in thread
From: 0-day Robot @ 2025-07-02 19:43 UTC (permalink / raw)
  To: test-report; +Cc: robot

From: robot@bytheb.org

Test-Label: github-robot: build
Test-Status: SUCCESS
http://patchwork.dpdk.org/patch/154978/

_github build: passed_
Build URL: https://github.com/ovsrobot/dpdk/actions/runs/16033278750

^ permalink raw reply	[flat|nested] 21+ messages in thread

* |PENDING| pw154978 [PATCH] [v3] net/iavf: fix VLAN offload strip fla
       [not found] <20250702183856.99326-1-amiyaranjan.mohakud@gmail.com>
                   ` (3 preceding siblings ...)
  2025-07-02 19:43 ` 0-day Robot
@ 2025-07-02 20:29 ` dpdklab
  2025-07-02 20:30 ` |SUCCESS| " dpdklab
                   ` (15 subsequent siblings)
  20 siblings, 0 replies; 21+ messages in thread
From: dpdklab @ 2025-07-02 20:29 UTC (permalink / raw)
  To: Test Report; +Cc: dpdk-test-reports

Test-Label: iol-compile-amd64-testing
Test-Status: PENDING
http://dpdk.org/patch/154978

_Testing pending_

Submitter: Amiya Ranjan Mohakud <amiyaranjan.mohakud@gmail.com>
Date: Wednesday, July 02 2025 18:38:56 
DPDK git baseline: Repo:dpdk
  Branch: master
  CommitID:9d9c24079d2f98ea595cefda4b60e1adf18f875d

154978 --> testing pending

Upstream job id: Generic-VM-DPDK-Compile-Meson#36891

Test environment and result as below:

+--------------+--------------------+
| Environment  | dpdk_meson_compile |
+==============+====================+
| Ubuntu 20.04 | PASS               |
+--------------+--------------------+
| FreeBSD 14.2 | PEND               |
+--------------+--------------------+


Ubuntu 20.04
	Kernel: 4.19
	Compiler: gcc gcc (Ubuntu 9.4.0-1ubuntu1~20.04.2) 9.4.0

FreeBSD 14.2
	Kernel: 14.2-RELEASE
	Compiler: clang 18.1.6

To view detailed results, visit:
https://lab.dpdk.org/results/dashboard/patchsets/33575/

UNH-IOL DPDK Community Lab

To manage your email subscriptions, visit: 
https://lab.dpdk.org/results/dashboard/preferences/subscriptions/

^ permalink raw reply	[flat|nested] 21+ messages in thread

* |SUCCESS| pw154978 [PATCH] [v3] net/iavf: fix VLAN offload strip fla
       [not found] <20250702183856.99326-1-amiyaranjan.mohakud@gmail.com>
                   ` (4 preceding siblings ...)
  2025-07-02 20:29 ` |PENDING| pw154978 [PATCH] [v3] net/iavf: fix VLAN offload strip fla dpdklab
@ 2025-07-02 20:30 ` dpdklab
  2025-07-02 20:36 ` dpdklab
                   ` (14 subsequent siblings)
  20 siblings, 0 replies; 21+ messages in thread
From: dpdklab @ 2025-07-02 20:30 UTC (permalink / raw)
  To: Test Report; +Cc: dpdk-test-reports

Test-Label: iol-sample-apps-testing
Test-Status: SUCCESS
http://dpdk.org/patch/154978

_Testing PASS_

Submitter: Amiya Ranjan Mohakud <amiyaranjan.mohakud@gmail.com>
Date: Wednesday, July 02 2025 18:38:56 
DPDK git baseline: Repo:dpdk
  Branch: master
  CommitID:9d9c24079d2f98ea595cefda4b60e1adf18f875d

154978 --> testing pass

Upstream job id: Template-DTS-Pipeline#234677

Test environment and result as below:

+--------------+----------------------+
| Environment  | compressdev_zlib_pmd |
+==============+======================+
| Ubuntu 22.04 | PASS                 |
+--------------+----------------------+


Ubuntu 22.04
	Kernel: 5.15
	Compiler: gcc gcc (Ubuntu 11.4.0-1ubuntu1~22.04) 11.4.0

To view detailed results, visit:
https://lab.dpdk.org/results/dashboard/patchsets/33575/

UNH-IOL DPDK Community Lab

To manage your email subscriptions, visit: 
https://lab.dpdk.org/results/dashboard/preferences/subscriptions/

^ permalink raw reply	[flat|nested] 21+ messages in thread

* |SUCCESS| pw154978 [PATCH] [v3] net/iavf: fix VLAN offload strip fla
       [not found] <20250702183856.99326-1-amiyaranjan.mohakud@gmail.com>
                   ` (5 preceding siblings ...)
  2025-07-02 20:30 ` |SUCCESS| " dpdklab
@ 2025-07-02 20:36 ` dpdklab
  2025-07-02 20:45 ` dpdklab
                   ` (13 subsequent siblings)
  20 siblings, 0 replies; 21+ messages in thread
From: dpdklab @ 2025-07-02 20:36 UTC (permalink / raw)
  To: Test Report; +Cc: dpdk-test-reports

Test-Label: iol-compile-amd64-testing
Test-Status: SUCCESS
http://dpdk.org/patch/154978

_Testing PASS_

Submitter: Amiya Ranjan Mohakud <amiyaranjan.mohakud@gmail.com>
Date: Wednesday, July 02 2025 18:38:56 
DPDK git baseline: Repo:dpdk
  Branch: master
  CommitID:9d9c24079d2f98ea595cefda4b60e1adf18f875d

154978 --> testing pass

Upstream job id: Generic-VM-DPDK-Compile-Meson#36892

Test environment and result as below:

+--------------+--------------------+
| Environment  | dpdk_meson_compile |
+==============+====================+
| Ubuntu 20.04 | PASS               |
+--------------+--------------------+
| FreeBSD 14.2 | PASS               |
+--------------+--------------------+


Ubuntu 20.04
	Kernel: 4.19
	Compiler: gcc gcc (Ubuntu 9.4.0-1ubuntu1~20.04.2) 9.4.0

FreeBSD 14.2
	Kernel: 14.2-RELEASE
	Compiler: clang 18.1.6

To view detailed results, visit:
https://lab.dpdk.org/results/dashboard/patchsets/33575/

UNH-IOL DPDK Community Lab

To manage your email subscriptions, visit: 
https://lab.dpdk.org/results/dashboard/preferences/subscriptions/

^ permalink raw reply	[flat|nested] 21+ messages in thread

* |SUCCESS| pw154978 [PATCH] [v3] net/iavf: fix VLAN offload strip fla
       [not found] <20250702183856.99326-1-amiyaranjan.mohakud@gmail.com>
                   ` (6 preceding siblings ...)
  2025-07-02 20:36 ` dpdklab
@ 2025-07-02 20:45 ` dpdklab
  2025-07-02 21:30 ` |PENDING| " dpdklab
                   ` (12 subsequent siblings)
  20 siblings, 0 replies; 21+ messages in thread
From: dpdklab @ 2025-07-02 20:45 UTC (permalink / raw)
  To: Ali Alnubani, Test Report; +Cc: dpdk-test-reports

Test-Label: iol-mellanox-Performance
Test-Status: SUCCESS
http://dpdk.org/patch/154978

_Performance Testing PASS_

Submitter: Amiya Ranjan Mohakud <amiyaranjan.mohakud@gmail.com>
Date: Wednesday, July 02 2025 18:38:56 
DPDK git baseline: Repo:dpdk
  Branch: master
  CommitID:9d9c24079d2f98ea595cefda4b60e1adf18f875d

154978 --> performance testing pass

Upstream job id: Template-DTS-Pipeline#234664

Test environment and result as below:

Ubuntu 24.04
Kernel: 6.8
Compiler: gcc gcc (Ubuntu 13.3.0-6ubuntu2~24.04) 13.3.0
NIC: NVIDIA Mellanox ConnectX-7 100000 Mbps
Fail/Total: 0/6

Detail performance results: 
+------------+---------+----------+-------------+------------------------------+
| frame_size | txd/rxd | num_cpus | num_threads |  throughput difference from  |
|            |         |          |             |           expected           |
+============+=========+==========+=============+==============================+
| 64         | 1024    | 1        | 1           | -1.5%                        |
+------------+---------+----------+-------------+------------------------------+
| 128        | 1024    | 1        | 1           | 0.6%                         |
+------------+---------+----------+-------------+------------------------------+
| 256        | 1024    | 1        | 1           | -0.5%                        |
+------------+---------+----------+-------------+------------------------------+
| 512        | 1024    | 1        | 1           | 0.1%                         |
+------------+---------+----------+-------------+------------------------------+
| 1024       | 1024    | 1        | 1           | -0.1%                        |
+------------+---------+----------+-------------+------------------------------+
| 1518       | 1024    | 1        | 1           | -0.2%                        |
+------------+---------+----------+-------------+------------------------------+

Ubuntu 24.04
Kernel: 6.8
Compiler: gcc gcc (Ubuntu 13.3.0-6ubuntu2~24.04) 13.3.0
NIC: Mellanox ConnectX-6 Lx 25000 Mbps
Fail/Total: 0/6

Detail performance results: 
+------------+---------+----------+-------------+------------------------------+
| frame_size | txd/rxd | num_cpus | num_threads |  throughput difference from  |
|            |         |          |             |           expected           |
+============+=========+==========+=============+==============================+
| 64         | 1024    | 1        | 1           | -0.0%                        |
+------------+---------+----------+-------------+------------------------------+
| 128        | 1024    | 1        | 1           | 0.1%                         |
+------------+---------+----------+-------------+------------------------------+
| 256        | 1024    | 1        | 1           | 0.0%                         |
+------------+---------+----------+-------------+------------------------------+
| 512        | 1024    | 1        | 1           | -0.0%                        |
+------------+---------+----------+-------------+------------------------------+
| 1024       | 1024    | 1        | 1           | 0.0%                         |
+------------+---------+----------+-------------+------------------------------+
| 1518       | 1024    | 1        | 1           | -0.0%                        |
+------------+---------+----------+-------------+------------------------------+

To view detailed results, visit:
https://lab.dpdk.org/results/dashboard/patchsets/33575/

UNH-IOL DPDK Community Lab

To manage your email subscriptions, visit: 
https://lab.dpdk.org/results/dashboard/preferences/subscriptions/

^ permalink raw reply	[flat|nested] 21+ messages in thread

* |PENDING| pw154978 [PATCH] [v3] net/iavf: fix VLAN offload strip fla
       [not found] <20250702183856.99326-1-amiyaranjan.mohakud@gmail.com>
                   ` (7 preceding siblings ...)
  2025-07-02 20:45 ` dpdklab
@ 2025-07-02 21:30 ` dpdklab
  2025-07-03  1:48 ` dpdklab
                   ` (11 subsequent siblings)
  20 siblings, 0 replies; 21+ messages in thread
From: dpdklab @ 2025-07-02 21:30 UTC (permalink / raw)
  To: Test Report; +Cc: dpdk-test-reports

Test-Label: iol-unit-arm64-testing
Test-Status: PENDING
http://dpdk.org/patch/154978

_Testing pending_

Submitter: Amiya Ranjan Mohakud <amiyaranjan.mohakud@gmail.com>
Date: Wednesday, July 02 2025 18:38:56 
DPDK git baseline: Repo:dpdk
  Branch: master
  CommitID:9d9c24079d2f98ea595cefda4b60e1adf18f875d

154978 --> testing pending

Upstream job id: Generic-Unit-Test-DPDK#351988

Test environment and result as below:

+------------------------------+---------------------------+--------------+------------------------------+----------------+
|         Environment          | cryptodev_sw_zuc_autotest | lpm_autotest | cryptodev_sw_snow3g_autotest | dpdk_unit_test |
+==============================+===========================+==============+==============================+================+
| Debian 12 (arm)              | PASS                      | SKIPPED      | PEND                         | SKIPPED        |
+------------------------------+---------------------------+--------------+------------------------------+----------------+
| Ubuntu 20.04                 | SKIPPED                   | PEND         | SKIPPED                      | PEND           |
+------------------------------+---------------------------+--------------+------------------------------+----------------+
| CentOS Stream 9              | SKIPPED                   | SKIPPED      | SKIPPED                      | PEND           |
+------------------------------+---------------------------+--------------+------------------------------+----------------+
| CentOS Stream 10             | SKIPPED                   | SKIPPED      | SKIPPED                      | PEND           |
+------------------------------+---------------------------+--------------+------------------------------+----------------+
| Debian GNU/Linux 12          | SKIPPED                   | SKIPPED      | SKIPPED                      | PEND           |
+------------------------------+---------------------------+--------------+------------------------------+----------------+
| Fedora Linux 40              | SKIPPED                   | SKIPPED      | SKIPPED                      | PEND           |
+------------------------------+---------------------------+--------------+------------------------------+----------------+
| Fedora Linux 41              | SKIPPED                   | SKIPPED      | SKIPPED                      | PEND           |
+------------------------------+---------------------------+--------------+------------------------------+----------------+
| Red Hat Enterprise Linux 9.5 | SKIPPED                   | SKIPPED      | SKIPPED                      | PEND           |
+------------------------------+---------------------------+--------------+------------------------------+----------------+
| Ubuntu 22.04                 | SKIPPED                   | SKIPPED      | SKIPPED                      | PEND           |
+------------------------------+---------------------------+--------------+------------------------------+----------------+
| Ubuntu 24.04                 | SKIPPED                   | SKIPPED      | SKIPPED                      | PEND           |
+------------------------------+---------------------------+--------------+------------------------------+----------------+


Debian 12 (arm)
	Kernel: Depends on container host
	Compiler: gcc (Debian 12.2.0-14) 12.2.0

Ubuntu 20.04
	Kernel: 5.4
	Compiler: gcc gcc (Ubuntu 9.4.0-1ubuntu1~20.04.2) 9.4.0

CentOS Stream 9
	Kernel: 5.4
	Compiler: gcc gcc (GCC) 11.5.0 20240719 (Red Hat 11.5.0-7)

CentOS Stream 10
	Kernel: 5.4
	Compiler: gcc gcc (GCC) 14.2.1 20250110 (Red Hat 14.2.1-8)

Debian GNU/Linux 12
	Kernel: 5.4
	Compiler: gcc gcc (Debian 12.2.0-14+deb12u1) 12.2.0

Fedora Linux 40
	Kernel: 5.4
	Compiler: gcc gcc (GCC) 14.2.1 20240912 (Red Hat 14.2.1-3)

Fedora Linux 41
	Kernel: 5.4
	Compiler: clang gcc (GCC) 14.3.1 20250523 (Red Hat 14.3.1-1)

Red Hat Enterprise Linux 9.5
	Kernel: 5.4
	Compiler: gcc gcc (GCC) 11.5.0 20240719 (Red Hat 11.5.0-2)

Ubuntu 22.04
	Kernel: 5.4
	Compiler: gcc gcc (Ubuntu 11.4.0-1ubuntu1~22.04) 11.4.0

Ubuntu 24.04
	Kernel: 5.4
	Compiler: gcc gcc (Ubuntu 13.3.0-6ubuntu2~24.04) 13.3.0

To view detailed results, visit:
https://lab.dpdk.org/results/dashboard/patchsets/33575/

UNH-IOL DPDK Community Lab

To manage your email subscriptions, visit: 
https://lab.dpdk.org/results/dashboard/preferences/subscriptions/

^ permalink raw reply	[flat|nested] 21+ messages in thread

* |PENDING| pw154978 [PATCH] [v3] net/iavf: fix VLAN offload strip fla
       [not found] <20250702183856.99326-1-amiyaranjan.mohakud@gmail.com>
                   ` (8 preceding siblings ...)
  2025-07-02 21:30 ` |PENDING| " dpdklab
@ 2025-07-03  1:48 ` dpdklab
  2025-07-04 18:51 ` |SUCCESS| " dpdklab
                   ` (10 subsequent siblings)
  20 siblings, 0 replies; 21+ messages in thread
From: dpdklab @ 2025-07-03  1:48 UTC (permalink / raw)
  To: Test Report; +Cc: dpdk-test-reports

Test-Label: iol-unit-amd64-testing
Test-Status: PENDING
http://dpdk.org/patch/154978

_Testing pending_

Submitter: Amiya Ranjan Mohakud <amiyaranjan.mohakud@gmail.com>
Date: Wednesday, July 02 2025 18:38:56 
DPDK git baseline: Repo:dpdk
  Branch: master
  CommitID:9d9c24079d2f98ea595cefda4b60e1adf18f875d

154978 --> testing pending

Upstream job id: Generic-VM-Unit-Test-DPDK#29667

Test environment and result as below:

+-------------------------------+----------------+
|          Environment          | dpdk_unit_test |
+===============================+================+
| Debian GNU/Linux 12           | PEND           |
+-------------------------------+----------------+
| CentOS Stream 9               | PEND           |
+-------------------------------+----------------+
| Fedora Linux 40               | PEND           |
+-------------------------------+----------------+
| CentOS Stream 10              | PEND           |
+-------------------------------+----------------+
| Fedora Linux 41               | PEND           |
+-------------------------------+----------------+
| Red Hat Enterprise Linux 8.10 | PEND           |
+-------------------------------+----------------+
| Red Hat Enterprise Linux 9.5  | PEND           |
+-------------------------------+----------------+
| Ubuntu 20.04                  | PEND           |
+-------------------------------+----------------+
| Ubuntu 22.04                  | PEND           |
+-------------------------------+----------------+
| Ubuntu 24.04                  | PEND           |
+-------------------------------+----------------+
| Windows Server 2022           | PASS           |
+-------------------------------+----------------+


Debian GNU/Linux 12
	Kernel: 5.15
	Compiler: gcc gcc (Debian 12.2.0-14+deb12u1) 12.2.0

CentOS Stream 9
	Kernel: 5.15
	Compiler: gcc gcc (GCC) 11.5.0 20240719 (Red Hat 11.5.0-7)

Fedora Linux 40
	Kernel: 5.15
	Compiler: gcc gcc (GCC) 14.2.1 20240912 (Red Hat 14.2.1-3)

CentOS Stream 10
	Kernel: 5.15
	Compiler: gcc gcc (GCC) 14.2.1 20250110 (Red Hat 14.2.1-8)

Fedora Linux 41
	Kernel: 5.15
	Compiler: gcc gcc (GCC) 14.3.1 20250523 (Red Hat 14.3.1-1)

Red Hat Enterprise Linux 8.10
	Kernel: 5.15
	Compiler: gcc gcc (GCC) 8.5.0 20210514 (Red Hat 8.5.0-22)

Red Hat Enterprise Linux 9.5
	Kernel: 5.15
	Compiler: gcc gcc (GCC) 11.5.0 20240719 (Red Hat 11.5.0-2)

Ubuntu 20.04
	Kernel: 5.15
	Compiler: gcc gcc (Ubuntu 9.4.0-1ubuntu1~20.04.2) 9.4.0

Ubuntu 22.04
	Kernel: 5.15
	Compiler: gcc gcc (Ubuntu 11.4.0-1ubuntu1~22.04) 11.4.0

Ubuntu 24.04
	Kernel: 5.15
	Compiler: gcc gcc (Ubuntu 13.3.0-6ubuntu2~24.04) 13.3.0

Windows Server 2022
	Kernel: 10.0.20348.2031
	Compiler: clang 15.0.7, gcc 14.1.0 (MinGW), and MSVC VS 19.39.33521

To view detailed results, visit:
https://lab.dpdk.org/results/dashboard/patchsets/33575/

UNH-IOL DPDK Community Lab

To manage your email subscriptions, visit: 
https://lab.dpdk.org/results/dashboard/preferences/subscriptions/

^ permalink raw reply	[flat|nested] 21+ messages in thread

* |SUCCESS| pw154978 [PATCH] [v3] net/iavf: fix VLAN offload strip fla
       [not found] <20250702183856.99326-1-amiyaranjan.mohakud@gmail.com>
                   ` (9 preceding siblings ...)
  2025-07-03  1:48 ` dpdklab
@ 2025-07-04 18:51 ` dpdklab
  2025-07-04 19:16 ` |PENDING| " dpdklab
                   ` (9 subsequent siblings)
  20 siblings, 0 replies; 21+ messages in thread
From: dpdklab @ 2025-07-04 18:51 UTC (permalink / raw)
  To: Test Report; +Cc: dpdk-test-reports

Test-Label: iol-sample-apps-testing
Test-Status: SUCCESS
http://dpdk.org/patch/154978

_Testing PASS_

Submitter: Amiya Ranjan Mohakud <amiyaranjan.mohakud@gmail.com>
Date: Wednesday, July 02 2025 18:38:56 
DPDK git baseline: Repo:dpdk
  Branch: master
  CommitID:0ae2a33d16a8727ac2935ac500e216906b50ac2c

154978 --> testing pass

Upstream job id: Template-DTS-Pipeline#235080

Test environment and result as below:

+--------------+----------------------+
| Environment  | compressdev_zlib_pmd |
+==============+======================+
| Ubuntu 22.04 | PASS                 |
+--------------+----------------------+


Ubuntu 22.04
	Kernel: 5.15
	Compiler: gcc gcc (Ubuntu 11.4.0-1ubuntu1~22.04) 11.4.0

To view detailed results, visit:
https://lab.dpdk.org/results/dashboard/patchsets/33575/

UNH-IOL DPDK Community Lab

To manage your email subscriptions, visit: 
https://lab.dpdk.org/results/dashboard/preferences/subscriptions/

^ permalink raw reply	[flat|nested] 21+ messages in thread

* |PENDING| pw154978 [PATCH] [v3] net/iavf: fix VLAN offload strip fla
       [not found] <20250702183856.99326-1-amiyaranjan.mohakud@gmail.com>
                   ` (10 preceding siblings ...)
  2025-07-04 18:51 ` |SUCCESS| " dpdklab
@ 2025-07-04 19:16 ` dpdklab
  2025-07-04 19:22 ` dpdklab
                   ` (8 subsequent siblings)
  20 siblings, 0 replies; 21+ messages in thread
From: dpdklab @ 2025-07-04 19:16 UTC (permalink / raw)
  To: Test Report; +Cc: dpdk-test-reports

Test-Label: iol-abi-testing
Test-Status: PENDING
http://dpdk.org/patch/154978

_Testing pending_

Submitter: Amiya Ranjan Mohakud <amiyaranjan.mohakud@gmail.com>
Date: Wednesday, July 02 2025 18:38:56 
DPDK git baseline: Repo:dpdk
  Branch: master
  CommitID:0ae2a33d16a8727ac2935ac500e216906b50ac2c

154978 --> testing pending

Upstream job id: Generic-DPDK-Compile-ABI#133070

Test environment and result as below:

+-------------------------------+----------+
|          Environment          | abi_test |
+===============================+==========+
| CentOS Stream 9               | PASS     |
+-------------------------------+----------+
| CentOS Stream 10              | PEND     |
+-------------------------------+----------+
| Fedora Linux 40               | PEND     |
+-------------------------------+----------+
| Fedora Linux 41               | PEND     |
+-------------------------------+----------+
| Ubuntu 22.04                  | PEND     |
+-------------------------------+----------+
| Red Hat Enterprise Linux 9.5  | PEND     |
+-------------------------------+----------+
| Red Hat Enterprise Linux 8.10 | PEND     |
+-------------------------------+----------+
| openSUSE Leap 15.6            | PEND     |
+-------------------------------+----------+
| Ubuntu 24.04                  | PEND     |
+-------------------------------+----------+


CentOS Stream 9
	Kernel: 5.15
	Compiler: gcc gcc (GCC) 11.5.0 20240719 (Red Hat 11.5.0-7)

CentOS Stream 10
	Kernel: 5.15
	Compiler: gcc gcc (GCC) 14.2.1 20250110 (Red Hat 14.2.1-8)

Fedora Linux 40
	Kernel: 5.15
	Compiler: clang gcc (GCC) 14.2.1 20240912 (Red Hat 14.2.1-3)

Fedora Linux 41
	Kernel: 5.15
	Compiler: clang gcc (GCC) 14.3.1 20250523 (Red Hat 14.3.1-1)

Ubuntu 22.04
	Kernel: 5.15
	Compiler: gcc gcc (Ubuntu 11.4.0-1ubuntu1~22.04) 11.4.0

Red Hat Enterprise Linux 9.5
	Kernel: 5.15
	Compiler: gcc gcc (GCC) 11.5.0 20240719 (Red Hat 11.5.0-2)

Red Hat Enterprise Linux 8.10
	Kernel: 5.15
	Compiler: gcc gcc (GCC) 8.5.0 20210514 (Red Hat 8.5.0-22)

openSUSE Leap 15.6
	Kernel: 5.15
	Compiler: gcc gcc (SUSE Linux) 7.5.0

Ubuntu 24.04
	Kernel: 5.15
	Compiler: gcc gcc (Ubuntu 13.3.0-6ubuntu2~24.04) 13.3.0

To view detailed results, visit:
https://lab.dpdk.org/results/dashboard/patchsets/33575/

UNH-IOL DPDK Community Lab

To manage your email subscriptions, visit: 
https://lab.dpdk.org/results/dashboard/preferences/subscriptions/

^ permalink raw reply	[flat|nested] 21+ messages in thread

* |PENDING| pw154978 [PATCH] [v3] net/iavf: fix VLAN offload strip fla
       [not found] <20250702183856.99326-1-amiyaranjan.mohakud@gmail.com>
                   ` (11 preceding siblings ...)
  2025-07-04 19:16 ` |PENDING| " dpdklab
@ 2025-07-04 19:22 ` dpdklab
  2025-07-04 19:25 ` |SUCCESS| " dpdklab
                   ` (7 subsequent siblings)
  20 siblings, 0 replies; 21+ messages in thread
From: dpdklab @ 2025-07-04 19:22 UTC (permalink / raw)
  To: Test Report; +Cc: dpdk-test-reports

Test-Label: iol-compile-amd64-testing
Test-Status: PENDING
http://dpdk.org/patch/154978

_Testing pending_

Submitter: Amiya Ranjan Mohakud <amiyaranjan.mohakud@gmail.com>
Date: Wednesday, July 02 2025 18:38:56 
DPDK git baseline: Repo:dpdk
  Branch: master
  CommitID:0ae2a33d16a8727ac2935ac500e216906b50ac2c

154978 --> testing pending

Upstream job id: Generic-VM-DPDK-Compile-Meson#36937

Test environment and result as below:

+-------------------------------+--------------------+-------------------+------------------+-------------------------+-------------------+
|          Environment          | dpdk_meson_compile | dpdk_compile_spdk | dpdk_compile_ovs | dpdk_llvm_clang_compile | dpdk_msvc_compile |
+===============================+====================+===================+==================+=========================+===================+
| CentOS Stream 9               | PEND               | PEND              | SKIPPED          | SKIPPED                 | SKIPPED           |
+-------------------------------+--------------------+-------------------+------------------+-------------------------+-------------------+
| CentOS Stream 10              | PEND               | SKIPPED           | SKIPPED          | SKIPPED                 | SKIPPED           |
+-------------------------------+--------------------+-------------------+------------------+-------------------------+-------------------+
| Debian GNU/Linux 12           | PEND               | PEND              | SKIPPED          | SKIPPED                 | SKIPPED           |
+-------------------------------+--------------------+-------------------+------------------+-------------------------+-------------------+
| Fedora Linux 40               | PEND               | PEND              | SKIPPED          | SKIPPED                 | SKIPPED           |
+-------------------------------+--------------------+-------------------+------------------+-------------------------+-------------------+
| Fedora Linux 41               | PEND               | PEND              | PEND             | SKIPPED                 | SKIPPED           |
+-------------------------------+--------------------+-------------------+------------------+-------------------------+-------------------+
| openSUSE Leap 15.6            | PEND               | SKIPPED           | SKIPPED          | SKIPPED                 | SKIPPED           |
+-------------------------------+--------------------+-------------------+------------------+-------------------------+-------------------+
| Ubuntu 20.04                  | PEND               | SKIPPED           | SKIPPED          | SKIPPED                 | SKIPPED           |
+-------------------------------+--------------------+-------------------+------------------+-------------------------+-------------------+
| Red Hat Enterprise Linux 8.10 | PEND               | SKIPPED           | SKIPPED          | SKIPPED                 | SKIPPED           |
+-------------------------------+--------------------+-------------------+------------------+-------------------------+-------------------+
| Red Hat Enterprise Linux 9.5  | PEND               | SKIPPED           | SKIPPED          | SKIPPED                 | SKIPPED           |
+-------------------------------+--------------------+-------------------+------------------+-------------------------+-------------------+
| Ubuntu 22.04                  | PEND               | PEND              | SKIPPED          | SKIPPED                 | SKIPPED           |
+-------------------------------+--------------------+-------------------+------------------+-------------------------+-------------------+
| Alpine Linux 3.22.0           | PEND               | SKIPPED           | SKIPPED          | SKIPPED                 | SKIPPED           |
+-------------------------------+--------------------+-------------------+------------------+-------------------------+-------------------+
| Windows Server 2022           | SKIPPED            | SKIPPED           | SKIPPED          | PEND                    | PEND              |
+-------------------------------+--------------------+-------------------+------------------+-------------------------+-------------------+


CentOS Stream 9
	Kernel: 5.15
	Compiler: gcc gcc (GCC) 11.5.0 20240719 (Red Hat 11.5.0-7)

CentOS Stream 10
	Kernel: 5.15
	Compiler: gcc gcc (GCC) 14.2.1 20250110 (Red Hat 14.2.1-8)

Debian GNU/Linux 12
	Kernel: 5.15
	Compiler: gcc gcc (Debian 12.2.0-14+deb12u1) 12.2.0

Fedora Linux 40
	Kernel: 5.15
	Compiler: gcc gcc (GCC) 14.2.1 20240912 (Red Hat 14.2.1-3)

Fedora Linux 41
	Kernel: 5.15
	Compiler: clang gcc (GCC) 14.3.1 20250523 (Red Hat 14.3.1-1)

openSUSE Leap 15.6
	Kernel: 5.15
	Compiler: gcc gcc (SUSE Linux) 7.5.0

Ubuntu 20.04
	Kernel: 4.19
	Compiler: gcc gcc (Ubuntu 9.4.0-1ubuntu1~20.04.2) 9.4.0

Red Hat Enterprise Linux 8.10
	Kernel: 5.15
	Compiler: gcc gcc (GCC) 8.5.0 20210514 (Red Hat 8.5.0-22)

Red Hat Enterprise Linux 9.5
	Kernel: 5.15
	Compiler: gcc gcc (GCC) 11.5.0 20240719 (Red Hat 11.5.0-2)

Ubuntu 22.04
	Kernel: 5.15
	Compiler: gcc gcc (Ubuntu 11.4.0-1ubuntu1~22.04) 11.4.0

Alpine Linux 3.22.0
	Kernel: 5.15
	Compiler: gcc gcc (Alpine 14.2.0) 14.2.0

Windows Server 2022
	Kernel: 10.0.20348.2031
	Compiler: clang 15.0.7, gcc 14.1.0 (MinGW), and MSVC VS 19.39.33521

To view detailed results, visit:
https://lab.dpdk.org/results/dashboard/patchsets/33575/

UNH-IOL DPDK Community Lab

To manage your email subscriptions, visit: 
https://lab.dpdk.org/results/dashboard/preferences/subscriptions/

^ permalink raw reply	[flat|nested] 21+ messages in thread

* |SUCCESS| pw154978 [PATCH] [v3] net/iavf: fix VLAN offload strip fla
       [not found] <20250702183856.99326-1-amiyaranjan.mohakud@gmail.com>
                   ` (12 preceding siblings ...)
  2025-07-04 19:22 ` dpdklab
@ 2025-07-04 19:25 ` dpdklab
  2025-07-04 19:44 ` |PENDING| " dpdklab
                   ` (6 subsequent siblings)
  20 siblings, 0 replies; 21+ messages in thread
From: dpdklab @ 2025-07-04 19:25 UTC (permalink / raw)
  To: Ali Alnubani, Test Report; +Cc: dpdk-test-reports

Test-Label: iol-mellanox-Performance
Test-Status: SUCCESS
http://dpdk.org/patch/154978

_Performance Testing PASS_

Submitter: Amiya Ranjan Mohakud <amiyaranjan.mohakud@gmail.com>
Date: Wednesday, July 02 2025 18:38:56 
DPDK git baseline: Repo:dpdk
  Branch: master
  CommitID:0ae2a33d16a8727ac2935ac500e216906b50ac2c

154978 --> performance testing pass

Upstream job id: Template-DTS-Pipeline#235067

Test environment and result as below:

Ubuntu 24.04
Kernel: 6.8
Compiler: gcc gcc (Ubuntu 13.3.0-6ubuntu2~24.04) 13.3.0
NIC: NVIDIA Mellanox ConnectX-7 100000 Mbps
Fail/Total: 0/6

Detail performance results: 
+------------+---------+----------+-------------+------------------------------+
| frame_size | txd/rxd | num_cpus | num_threads |  throughput difference from  |
|            |         |          |             |           expected           |
+============+=========+==========+=============+==============================+
| 64         | 1024    | 1        | 1           | 0.8%                         |
+------------+---------+----------+-------------+------------------------------+
| 128        | 1024    | 1        | 1           | 1.5%                         |
+------------+---------+----------+-------------+------------------------------+
| 256        | 1024    | 1        | 1           | 0.6%                         |
+------------+---------+----------+-------------+------------------------------+
| 512        | 1024    | 1        | 1           | -0.1%                        |
+------------+---------+----------+-------------+------------------------------+
| 1024       | 1024    | 1        | 1           | 0.1%                         |
+------------+---------+----------+-------------+------------------------------+
| 1518       | 1024    | 1        | 1           | -0.1%                        |
+------------+---------+----------+-------------+------------------------------+

Ubuntu 24.04
Kernel: 6.8
Compiler: gcc gcc (Ubuntu 13.3.0-6ubuntu2~24.04) 13.3.0
NIC: Mellanox ConnectX-6 Lx 25000 Mbps
Fail/Total: 0/6

Detail performance results: 
+------------+---------+----------+-------------+------------------------------+
| frame_size | txd/rxd | num_cpus | num_threads |  throughput difference from  |
|            |         |          |             |           expected           |
+============+=========+==========+=============+==============================+
| 64         | 1024    | 1        | 1           | 0.2%                         |
+------------+---------+----------+-------------+------------------------------+
| 128        | 1024    | 1        | 1           | 0.2%                         |
+------------+---------+----------+-------------+------------------------------+
| 256        | 1024    | 1        | 1           | 0.2%                         |
+------------+---------+----------+-------------+------------------------------+
| 512        | 1024    | 1        | 1           | 0.1%                         |
+------------+---------+----------+-------------+------------------------------+
| 1024       | 1024    | 1        | 1           | 0.1%                         |
+------------+---------+----------+-------------+------------------------------+
| 1518       | 1024    | 1        | 1           | -0.1%                        |
+------------+---------+----------+-------------+------------------------------+

To view detailed results, visit:
https://lab.dpdk.org/results/dashboard/patchsets/33575/

UNH-IOL DPDK Community Lab

To manage your email subscriptions, visit: 
https://lab.dpdk.org/results/dashboard/preferences/subscriptions/

^ permalink raw reply	[flat|nested] 21+ messages in thread

* |PENDING| pw154978 [PATCH] [v3] net/iavf: fix VLAN offload strip fla
       [not found] <20250702183856.99326-1-amiyaranjan.mohakud@gmail.com>
                   ` (13 preceding siblings ...)
  2025-07-04 19:25 ` |SUCCESS| " dpdklab
@ 2025-07-04 19:44 ` dpdklab
  2025-07-04 20:04 ` dpdklab
                   ` (5 subsequent siblings)
  20 siblings, 0 replies; 21+ messages in thread
From: dpdklab @ 2025-07-04 19:44 UTC (permalink / raw)
  To: Test Report; +Cc: dpdk-test-reports

Test-Label: iol-unit-arm64-testing
Test-Status: PENDING
http://dpdk.org/patch/154978

_Testing pending_

Submitter: Amiya Ranjan Mohakud <amiyaranjan.mohakud@gmail.com>
Date: Wednesday, July 02 2025 18:38:56 
DPDK git baseline: Repo:dpdk
  Branch: master
  CommitID:0ae2a33d16a8727ac2935ac500e216906b50ac2c

154978 --> testing pending

Upstream job id: Aarch32-Unit-Test#6813

Test environment and result as below:

+------------------------------+---------------------------+--------------+------------------------------+----------------+
|         Environment          | cryptodev_sw_zuc_autotest | lpm_autotest | cryptodev_sw_snow3g_autotest | dpdk_unit_test |
+==============================+===========================+==============+==============================+================+
| Debian 12 (arm)              | PEND                      | SKIPPED      | PEND                         | SKIPPED        |
+------------------------------+---------------------------+--------------+------------------------------+----------------+
| Ubuntu 20.04                 | SKIPPED                   | PEND         | SKIPPED                      | PEND           |
+------------------------------+---------------------------+--------------+------------------------------+----------------+
| Ubuntu 22.04                 | SKIPPED                   | SKIPPED      | SKIPPED                      | PEND           |
+------------------------------+---------------------------+--------------+------------------------------+----------------+
| Debian GNU/Linux 12          | SKIPPED                   | SKIPPED      | SKIPPED                      | PEND           |
+------------------------------+---------------------------+--------------+------------------------------+----------------+
| Fedora Linux 40              | SKIPPED                   | SKIPPED      | SKIPPED                      | PEND           |
+------------------------------+---------------------------+--------------+------------------------------+----------------+
| CentOS Stream 9              | SKIPPED                   | SKIPPED      | SKIPPED                      | PEND           |
+------------------------------+---------------------------+--------------+------------------------------+----------------+
| CentOS Stream 10             | SKIPPED                   | SKIPPED      | SKIPPED                      | PEND           |
+------------------------------+---------------------------+--------------+------------------------------+----------------+
| Fedora Linux 41              | SKIPPED                   | SKIPPED      | SKIPPED                      | PEND           |
+------------------------------+---------------------------+--------------+------------------------------+----------------+
| Red Hat Enterprise Linux 9.5 | SKIPPED                   | SKIPPED      | SKIPPED                      | PEND           |
+------------------------------+---------------------------+--------------+------------------------------+----------------+
| Ubuntu 24.04                 | SKIPPED                   | SKIPPED      | SKIPPED                      | PEND           |
+------------------------------+---------------------------+--------------+------------------------------+----------------+


Debian 12 (arm)
	Kernel: Depends on container host
	Compiler: gcc (Debian 12.2.0-14) 12.2.0

Ubuntu 20.04
	Kernel: 5.4
	Compiler: gcc gcc (Ubuntu 9.4.0-1ubuntu1~20.04.2) 9.4.0

Ubuntu 22.04
	Kernel: 5.15
	Compiler: gcc gcc (Ubuntu 11.4.0-1ubuntu1~22.04) 11.4.0

Debian GNU/Linux 12
	Kernel: 5.4
	Compiler: gcc gcc (Debian 12.2.0-14+deb12u1) 12.2.0

Fedora Linux 40
	Kernel: 5.4
	Compiler: gcc gcc (GCC) 14.2.1 20240912 (Red Hat 14.2.1-3)

CentOS Stream 9
	Kernel: 5.4
	Compiler: gcc gcc (GCC) 11.5.0 20240719 (Red Hat 11.5.0-7)

CentOS Stream 10
	Kernel: 5.4
	Compiler: gcc gcc (GCC) 14.2.1 20250110 (Red Hat 14.2.1-8)

Fedora Linux 41
	Kernel: 5.4
	Compiler: gcc gcc (GCC) 14.3.1 20250523 (Red Hat 14.3.1-1)

Red Hat Enterprise Linux 9.5
	Kernel: 5.4
	Compiler: gcc gcc (GCC) 11.5.0 20240719 (Red Hat 11.5.0-2)

Ubuntu 24.04
	Kernel: 5.4
	Compiler: gcc gcc (Ubuntu 13.3.0-6ubuntu2~24.04) 13.3.0

To view detailed results, visit:
https://lab.dpdk.org/results/dashboard/patchsets/33575/

UNH-IOL DPDK Community Lab

To manage your email subscriptions, visit: 
https://lab.dpdk.org/results/dashboard/preferences/subscriptions/

^ permalink raw reply	[flat|nested] 21+ messages in thread

* |PENDING| pw154978 [PATCH] [v3] net/iavf: fix VLAN offload strip fla
       [not found] <20250702183856.99326-1-amiyaranjan.mohakud@gmail.com>
                   ` (14 preceding siblings ...)
  2025-07-04 19:44 ` |PENDING| " dpdklab
@ 2025-07-04 20:04 ` dpdklab
  2025-07-04 20:14 ` |SUCCESS| " dpdklab
                   ` (4 subsequent siblings)
  20 siblings, 0 replies; 21+ messages in thread
From: dpdklab @ 2025-07-04 20:04 UTC (permalink / raw)
  To: Test Report; +Cc: dpdk-test-reports

Test-Label: iol-unit-amd64-testing
Test-Status: PENDING
http://dpdk.org/patch/154978

_Testing pending_

Submitter: Amiya Ranjan Mohakud <amiyaranjan.mohakud@gmail.com>
Date: Wednesday, July 02 2025 18:38:56 
DPDK git baseline: Repo:dpdk
  Branch: master
  CommitID:0ae2a33d16a8727ac2935ac500e216906b50ac2c

154978 --> testing pending

Upstream job id: Generic-Unit-Test-DPDK#352617

Test environment and result as below:

+-------------------------------+----------------+
|          Environment          | dpdk_unit_test |
+===============================+================+
| CentOS Stream 9               | PASS           |
+-------------------------------+----------------+
| CentOS Stream 10              | PEND           |
+-------------------------------+----------------+
| Debian GNU/Linux 12           | PEND           |
+-------------------------------+----------------+
| Fedora Linux 41               | PEND           |
+-------------------------------+----------------+
| Fedora Linux 40               | PEND           |
+-------------------------------+----------------+
| Ubuntu 20.04                  | PEND           |
+-------------------------------+----------------+
| Red Hat Enterprise Linux 8.10 | PEND           |
+-------------------------------+----------------+
| Red Hat Enterprise Linux 9.5  | PEND           |
+-------------------------------+----------------+
| Ubuntu 22.04                  | PEND           |
+-------------------------------+----------------+
| Ubuntu 24.04                  | PEND           |
+-------------------------------+----------------+


CentOS Stream 9
	Kernel: 5.15
	Compiler: gcc gcc (GCC) 11.5.0 20240719 (Red Hat 11.5.0-7)

CentOS Stream 10
	Kernel: 5.15
	Compiler: gcc gcc (GCC) 14.2.1 20250110 (Red Hat 14.2.1-8)

Debian GNU/Linux 12
	Kernel: 5.15
	Compiler: gcc gcc (Debian 12.2.0-14+deb12u1) 12.2.0

Fedora Linux 41
	Kernel: 5.15
	Compiler: gcc gcc (GCC) 14.3.1 20250523 (Red Hat 14.3.1-1)

Fedora Linux 40
	Kernel: 5.15
	Compiler: clang gcc (GCC) 14.2.1 20240912 (Red Hat 14.2.1-3)

Ubuntu 20.04
	Kernel: 5.15
	Compiler: gcc gcc (Ubuntu 9.4.0-1ubuntu1~20.04.2) 9.4.0

Red Hat Enterprise Linux 8.10
	Kernel: 5.15
	Compiler: gcc gcc (GCC) 8.5.0 20210514 (Red Hat 8.5.0-22)

Red Hat Enterprise Linux 9.5
	Kernel: 5.15
	Compiler: gcc gcc (GCC) 11.5.0 20240719 (Red Hat 11.5.0-2)

Ubuntu 22.04
	Kernel: 5.15
	Compiler: gcc gcc (Ubuntu 11.4.0-1ubuntu1~22.04) 11.4.0

Ubuntu 24.04
	Kernel: 5.15
	Compiler: gcc gcc (Ubuntu 13.3.0-6ubuntu2~24.04) 13.3.0

To view detailed results, visit:
https://lab.dpdk.org/results/dashboard/patchsets/33575/

UNH-IOL DPDK Community Lab

To manage your email subscriptions, visit: 
https://lab.dpdk.org/results/dashboard/preferences/subscriptions/

^ permalink raw reply	[flat|nested] 21+ messages in thread

* |SUCCESS| pw154978 [PATCH] [v3] net/iavf: fix VLAN offload strip fla
       [not found] <20250702183856.99326-1-amiyaranjan.mohakud@gmail.com>
                   ` (15 preceding siblings ...)
  2025-07-04 20:04 ` dpdklab
@ 2025-07-04 20:14 ` dpdklab
  2025-07-04 20:30 ` dpdklab
                   ` (3 subsequent siblings)
  20 siblings, 0 replies; 21+ messages in thread
From: dpdklab @ 2025-07-04 20:14 UTC (permalink / raw)
  To: Test Report; +Cc: dpdk-test-reports

Test-Label: iol-broadcom-Performance
Test-Status: SUCCESS
http://dpdk.org/patch/154978

_Performance Testing PASS_

Submitter: Amiya Ranjan Mohakud <amiyaranjan.mohakud@gmail.com>
Date: Wednesday, July 02 2025 18:38:56 
DPDK git baseline: Repo:dpdk
  Branch: master
  CommitID:0ae2a33d16a8727ac2935ac500e216906b50ac2c

154978 --> performance testing pass

Upstream job id: Template-DTS-Pipeline#235072

Test environment and result as below:

Ubuntu 22.04
Kernel: 5.15
Compiler: gcc gcc (Ubuntu 11.4.0-1ubuntu1~22.04) 11.4.0
NIC: Arm Broadcom Inc. brcm_57414 25000 Mbps
Fail/Total: 0/2

Detail performance results: 
+------------+---------+----------+-------------+------------------------------+
| frame_size | txd/rxd | num_cpus | num_threads |  throughput difference from  |
|            |         |          |             |           expected           |
+============+=========+==========+=============+==============================+
| 64         | 512     | 1        | 1           | 0.1%                         |
+------------+---------+----------+-------------+------------------------------+
| 64         | 2048    | 1        | 1           | -0.3%                        |
+------------+---------+----------+-------------+------------------------------+

Ubuntu 22.04
Kernel: 5.15
Compiler: gcc gcc (Ubuntu 11.4.0-1ubuntu1~22.04) 11.4.0
NIC: Broadcom Inc. and subsidiaries BCM57414 NetXtreme-E 10Gb/25Gb RDMA Ethernet Controller 16d7 25 Mbps
Fail/Total: 0/3

Detail performance results: 
+------------+---------+----------+-------------+------------------------------+
| frame_size | txd/rxd | num_cpus | num_threads |  throughput difference from  |
|            |         |          |             |           expected           |
+============+=========+==========+=============+==============================+
| 64         | 128     | 1        | 1           | 0.8%                         |
+------------+---------+----------+-------------+------------------------------+
| 64         | 512     | 1        | 1           | 1.0%                         |
+------------+---------+----------+-------------+------------------------------+
| 64         | 2048    | 1        | 1           | -0.6%                        |
+------------+---------+----------+-------------+------------------------------+

To view detailed results, visit:
https://lab.dpdk.org/results/dashboard/patchsets/33575/

UNH-IOL DPDK Community Lab

To manage your email subscriptions, visit: 
https://lab.dpdk.org/results/dashboard/preferences/subscriptions/

^ permalink raw reply	[flat|nested] 21+ messages in thread

* |SUCCESS| pw154978 [PATCH] [v3] net/iavf: fix VLAN offload strip fla
       [not found] <20250702183856.99326-1-amiyaranjan.mohakud@gmail.com>
                   ` (16 preceding siblings ...)
  2025-07-04 20:14 ` |SUCCESS| " dpdklab
@ 2025-07-04 20:30 ` dpdklab
  2025-07-04 20:45 ` |PENDING| " dpdklab
                   ` (2 subsequent siblings)
  20 siblings, 0 replies; 21+ messages in thread
From: dpdklab @ 2025-07-04 20:30 UTC (permalink / raw)
  To: Test Report; +Cc: dpdk-test-reports

Test-Label: iol-sample-apps-testing
Test-Status: SUCCESS
http://dpdk.org/patch/154978

_Testing PASS_

Submitter: Amiya Ranjan Mohakud <amiyaranjan.mohakud@gmail.com>
Date: Wednesday, July 02 2025 18:38:56 
DPDK git baseline: Repo:dpdk
  Branch: master
  CommitID:0ae2a33d16a8727ac2935ac500e216906b50ac2c

154978 --> testing pass

Upstream job id: Template-DTS-Pipeline#235079

Test environment and result as below:

+--------------+----------------------+
| Environment  | compressdev_zlib_pmd |
+==============+======================+
| Ubuntu 22.04 | PASS                 |
+--------------+----------------------+


Ubuntu 22.04
	Kernel: 5.15
	Compiler: gcc gcc (Ubuntu 11.4.0-1ubuntu1~22.04) 11.4.0

To view detailed results, visit:
https://lab.dpdk.org/results/dashboard/patchsets/33575/

UNH-IOL DPDK Community Lab

To manage your email subscriptions, visit: 
https://lab.dpdk.org/results/dashboard/preferences/subscriptions/

^ permalink raw reply	[flat|nested] 21+ messages in thread

* |PENDING| pw154978 [PATCH] [v3] net/iavf: fix VLAN offload strip fla
       [not found] <20250702183856.99326-1-amiyaranjan.mohakud@gmail.com>
                   ` (17 preceding siblings ...)
  2025-07-04 20:30 ` dpdklab
@ 2025-07-04 20:45 ` dpdklab
  2025-07-04 21:05 ` |SUCCESS| " dpdklab
  2025-07-04 21:17 ` dpdklab
  20 siblings, 0 replies; 21+ messages in thread
From: dpdklab @ 2025-07-04 20:45 UTC (permalink / raw)
  To: Test Report; +Cc: dpdk-test-reports

Test-Label: iol-compile-arm64-testing
Test-Status: PENDING
http://dpdk.org/patch/154978

_Testing pending_

Submitter: Amiya Ranjan Mohakud <amiyaranjan.mohakud@gmail.com>
Date: Wednesday, July 02 2025 18:38:56 
DPDK git baseline: Repo:dpdk
  Branch: master
  CommitID:0ae2a33d16a8727ac2935ac500e216906b50ac2c

154978 --> testing pending

Upstream job id: Generic-DPDK-Compile-Meson#405453

Test environment and result as below:

+------------------------------+--------------------+
|         Environment          | dpdk_meson_compile |
+==============================+====================+
| Red Hat Enterprise Linux 9.5 | PEND               |
+------------------------------+--------------------+
| Ubuntu 20.04                 | PEND               |
+------------------------------+--------------------+
| Debian GNU/Linux 12          | PEND               |
+------------------------------+--------------------+
| Ubuntu 24.04                 | PEND               |
+------------------------------+--------------------+
| Fedora Linux 40              | PEND               |
+------------------------------+--------------------+
| Fedora Linux 41              | PEND               |
+------------------------------+--------------------+
| CentOS Stream 9              | PEND               |
+------------------------------+--------------------+
| CentOS Stream 10             | PEND               |
+------------------------------+--------------------+
| Ubuntu 22.04                 | PEND               |
+------------------------------+--------------------+


Red Hat Enterprise Linux 9.5
	Kernel: 5.4
	Compiler: gcc gcc (GCC) 11.5.0 20240719 (Red Hat 11.5.0-2)

Ubuntu 20.04
	Kernel: 5.4
	Compiler: gcc gcc (Ubuntu 9.4.0-1ubuntu1~20.04.2) 9.4.0

Debian GNU/Linux 12
	Kernel: 5.4
	Compiler: gcc gcc (Debian 12.2.0-14+deb12u1) 12.2.0

Ubuntu 24.04
	Kernel: 5.4
	Compiler: gcc gcc (Ubuntu 13.3.0-6ubuntu2~24.04) 13.3.0

Fedora Linux 40
	Kernel: 5.4
	Compiler: clang gcc (GCC) 14.2.1 20240912 (Red Hat 14.2.1-3)

Fedora Linux 41
	Kernel: 5.4
	Compiler: gcc gcc (GCC) 14.3.1 20250523 (Red Hat 14.3.1-1)

CentOS Stream 9
	Kernel: 5.4
	Compiler: gcc gcc (GCC) 11.5.0 20240719 (Red Hat 11.5.0-7)

CentOS Stream 10
	Kernel: 5.4
	Compiler: gcc gcc (GCC) 14.2.1 20250110 (Red Hat 14.2.1-8)

Ubuntu 22.04
	Kernel: 5.4
	Compiler: gcc gcc (Ubuntu 11.4.0-1ubuntu1~22.04) 11.4.0

To view detailed results, visit:
https://lab.dpdk.org/results/dashboard/patchsets/33575/

UNH-IOL DPDK Community Lab

To manage your email subscriptions, visit: 
https://lab.dpdk.org/results/dashboard/preferences/subscriptions/

^ permalink raw reply	[flat|nested] 21+ messages in thread

* |SUCCESS| pw154978 [PATCH] [v3] net/iavf: fix VLAN offload strip fla
       [not found] <20250702183856.99326-1-amiyaranjan.mohakud@gmail.com>
                   ` (18 preceding siblings ...)
  2025-07-04 20:45 ` |PENDING| " dpdklab
@ 2025-07-04 21:05 ` dpdklab
  2025-07-04 21:17 ` dpdklab
  20 siblings, 0 replies; 21+ messages in thread
From: dpdklab @ 2025-07-04 21:05 UTC (permalink / raw)
  To: Test Report; +Cc: dpdk-test-reports

Test-Label: iol-unit-amd64-testing
Test-Status: SUCCESS
http://dpdk.org/patch/154978

_Testing PASS_

Submitter: Amiya Ranjan Mohakud <amiyaranjan.mohakud@gmail.com>
Date: Wednesday, July 02 2025 18:38:56 
DPDK git baseline: Repo:dpdk
  Branch: master
  CommitID:0ae2a33d16a8727ac2935ac500e216906b50ac2c

154978 --> testing pass

Upstream job id: Generic-Unit-Test-DPDK#352638

Test environment and result as below:

+-------------------------------+----------------+
|          Environment          | dpdk_unit_test |
+===============================+================+
| CentOS Stream 9               | PASS           |
+-------------------------------+----------------+
| CentOS Stream 10              | PASS           |
+-------------------------------+----------------+
| Debian GNU/Linux 12           | PASS           |
+-------------------------------+----------------+
| Fedora Linux 41               | PASS           |
+-------------------------------+----------------+
| Fedora Linux 40               | PASS           |
+-------------------------------+----------------+
| Ubuntu 20.04                  | PASS           |
+-------------------------------+----------------+
| Red Hat Enterprise Linux 8.10 | PASS           |
+-------------------------------+----------------+
| Red Hat Enterprise Linux 9.5  | PASS           |
+-------------------------------+----------------+
| Ubuntu 22.04                  | PASS           |
+-------------------------------+----------------+
| Ubuntu 24.04                  | PASS           |
+-------------------------------+----------------+
| Windows Server 2022           | PASS           |
+-------------------------------+----------------+


CentOS Stream 9
	Kernel: 5.15
	Compiler: gcc gcc (GCC) 11.5.0 20240719 (Red Hat 11.5.0-7)

CentOS Stream 10
	Kernel: 5.15
	Compiler: gcc gcc (GCC) 14.2.1 20250110 (Red Hat 14.2.1-8)

Debian GNU/Linux 12
	Kernel: 5.15
	Compiler: gcc gcc (Debian 12.2.0-14+deb12u1) 12.2.0

Fedora Linux 41
	Kernel: 5.15
	Compiler: gcc gcc (GCC) 14.3.1 20250523 (Red Hat 14.3.1-1)

Fedora Linux 40
	Kernel: 5.15
	Compiler: clang gcc (GCC) 14.2.1 20240912 (Red Hat 14.2.1-3)

Ubuntu 20.04
	Kernel: 5.15
	Compiler: gcc gcc (Ubuntu 9.4.0-1ubuntu1~20.04.2) 9.4.0

Red Hat Enterprise Linux 8.10
	Kernel: 5.15
	Compiler: gcc gcc (GCC) 8.5.0 20210514 (Red Hat 8.5.0-22)

Red Hat Enterprise Linux 9.5
	Kernel: 5.15
	Compiler: gcc gcc (GCC) 11.5.0 20240719 (Red Hat 11.5.0-2)

Ubuntu 22.04
	Kernel: 5.15
	Compiler: gcc gcc (Ubuntu 11.4.0-1ubuntu1~22.04) 11.4.0

Ubuntu 24.04
	Kernel: 5.15
	Compiler: gcc gcc (Ubuntu 13.3.0-6ubuntu2~24.04) 13.3.0

Windows Server 2022
	Kernel: 10.0.20348.2031
	Compiler: clang 15.0.7, gcc 14.1.0 (MinGW), and MSVC VS 19.39.33521

To view detailed results, visit:
https://lab.dpdk.org/results/dashboard/patchsets/33575/

UNH-IOL DPDK Community Lab

To manage your email subscriptions, visit: 
https://lab.dpdk.org/results/dashboard/preferences/subscriptions/

^ permalink raw reply	[flat|nested] 21+ messages in thread

* |SUCCESS| pw154978 [PATCH] [v3] net/iavf: fix VLAN offload strip fla
       [not found] <20250702183856.99326-1-amiyaranjan.mohakud@gmail.com>
                   ` (19 preceding siblings ...)
  2025-07-04 21:05 ` |SUCCESS| " dpdklab
@ 2025-07-04 21:17 ` dpdklab
  20 siblings, 0 replies; 21+ messages in thread
From: dpdklab @ 2025-07-04 21:17 UTC (permalink / raw)
  To: Test Report; +Cc: dpdk-test-reports

Test-Label: iol-intel-Functional
Test-Status: SUCCESS
http://dpdk.org/patch/154978

_Functional Testing PASS_

Submitter: Amiya Ranjan Mohakud <amiyaranjan.mohakud@gmail.com>
Date: Wednesday, July 02 2025 18:38:56 
DPDK git baseline: Repo:dpdk
  Branch: master
  CommitID:0ae2a33d16a8727ac2935ac500e216906b50ac2c

154978 --> functional testing pass

Upstream job id: Template-DTS-Pipeline#235077

Test environment and result as below:

Ubuntu 22.04
Kernel: 5.15
Compiler: gcc gcc (Ubuntu 11.4.0-1ubuntu1~22.04) 11.4.0
NIC: Intel Corporation QAT 8970 0 Mbps

Aggregate Results by Test Suite
+----------------------------+--------+
|         Test Suite         | Result |
+============================+========+
| crypto_perf_cryptodev_perf |  PASS  |
+----------------------------+--------+


To view detailed results, visit:
https://lab.dpdk.org/results/dashboard/patchsets/33575/

UNH-IOL DPDK Community Lab

To manage your email subscriptions, visit: 
https://lab.dpdk.org/results/dashboard/preferences/subscriptions/

^ permalink raw reply	[flat|nested] 21+ messages in thread

end of thread, other threads:[~2025-07-04 21:17 UTC | newest]

Thread overview: 21+ messages (download: mbox.gz / follow: Atom feed)
-- links below jump to the message on this page --
     [not found] <20250702183856.99326-1-amiyaranjan.mohakud@gmail.com>
2025-07-02 18:05 ` |SUCCESS| pw154978 [PATCH v3] net/iavf: fix VLAN offload strip flag qemudev
2025-07-02 18:09 ` qemudev
2025-07-02 18:38 ` checkpatch
2025-07-02 19:43 ` 0-day Robot
2025-07-02 20:29 ` |PENDING| pw154978 [PATCH] [v3] net/iavf: fix VLAN offload strip fla dpdklab
2025-07-02 20:30 ` |SUCCESS| " dpdklab
2025-07-02 20:36 ` dpdklab
2025-07-02 20:45 ` dpdklab
2025-07-02 21:30 ` |PENDING| " dpdklab
2025-07-03  1:48 ` dpdklab
2025-07-04 18:51 ` |SUCCESS| " dpdklab
2025-07-04 19:16 ` |PENDING| " dpdklab
2025-07-04 19:22 ` dpdklab
2025-07-04 19:25 ` |SUCCESS| " dpdklab
2025-07-04 19:44 ` |PENDING| " dpdklab
2025-07-04 20:04 ` dpdklab
2025-07-04 20:14 ` |SUCCESS| " dpdklab
2025-07-04 20:30 ` dpdklab
2025-07-04 20:45 ` |PENDING| " dpdklab
2025-07-04 21:05 ` |SUCCESS| " dpdklab
2025-07-04 21:17 ` dpdklab

This is a public inbox, see mirroring instructions
for how to clone and mirror all data and code used for this inbox;
as well as URLs for NNTP newsgroup(s).