From mboxrd@z Thu Jan 1 00:00:00 1970 Return-Path: Received: from mails.dpdk.org (mails.dpdk.org [217.70.189.124]) by inbox.dpdk.org (Postfix) with ESMTP id CE11346ADE for ; Wed, 2 Jul 2025 22:35:11 +0200 (CEST) Received: from mails.dpdk.org (localhost [127.0.0.1]) by mails.dpdk.org (Postfix) with ESMTP id BF3A84064C; Wed, 2 Jul 2025 22:35:11 +0200 (CEST) Received: from mail-pl1-f225.google.com (mail-pl1-f225.google.com [209.85.214.225]) by mails.dpdk.org (Postfix) with ESMTP id 1A1354064C for ; Wed, 2 Jul 2025 22:35:11 +0200 (CEST) Received: by mail-pl1-f225.google.com with SMTP id d9443c01a7336-235d6de331fso63243055ad.3 for ; Wed, 02 Jul 2025 13:35:10 -0700 (PDT) DKIM-Signature: v=1; a=rsa-sha256; c=relaxed/relaxed; d=iol.unh.edu; s=unh-iol; t=1751488510; x=1752093310; darn=dpdk.org; h=references:in-reply-to:cc:to:from:subject:message-id:date:from:to :cc:subject:date:message-id:reply-to; bh=4DJ3TKAHByOPb04sVUQF8cUe8BHoQBJmzU0xur/JmSY=; b=aRo3Zw2niClgFaQXAh5OCkz0F3LYlJK+l258rCVyZ6nd00rPrg8nTexka8jSuNPRU4 D7mrkl+He6S7ySgZ+2QIY925n2GEMHutjFVvbTGMNDeoRWHcRm8ismIS1YYuGMjl8p+D GfmVufkyRV+i/17vAw99PPO4pjldiZ8CcJ7DY= X-Google-DKIM-Signature: v=1; a=rsa-sha256; c=relaxed/relaxed; d=1e100.net; s=20230601; t=1751488510; x=1752093310; h=references:in-reply-to:cc:to:from:subject:message-id:date :x-gm-message-state:from:to:cc:subject:date:message-id:reply-to; bh=4DJ3TKAHByOPb04sVUQF8cUe8BHoQBJmzU0xur/JmSY=; b=OFy7EFnVVFshs2C5xZfK9TGioy079rzVqF2p8nNoYBr/nrL1I865DViyQrPKxsfenL 0r+9N8fKh0UcbqizicRO48/1s3HFmohDS/DXGgBhj6dmmK35NiHCqceQWT31XmYoHVUm Qe4wR8Js2ue3BgeUjfXPzgy8xRx0tZWs2we5NtrrKNeIyzyG9bRU+VRcoorBGgafqzDN 7DyUofYjgyZIlpAQu78eX0i9QCk6zq8n4WNMJlR6zWGr+1RPBQs8t4IaX8jDdiuWtKQ4 X+4qXEEVkWTmGsuxHJwCldcBPT3Yd7sh6zLatLrE4K9hltnmW/Su4hG52uTUXE2bbenW KbWA== X-Gm-Message-State: AOJu0YxoEGLuSZJVyzw5l7SugE8jeuBf565KOfPvOGM0MbD1NQjhNXQI ozK6nO0jK05pi8KhTXK1b1K3CqfQetqZLaP7sQNxsnFBOXvdDjI/QCkopvv9AnyB0wkJkToB9/T ws0CzgkkTswX7FJ0eEELtBFwEcqfsM1jwoqk2U+Z4srCRecPLv7ZIRAMmph2/ X-Gm-Gg: ASbGncuAKd0CsuNWhzojUzIa+1YwsVU+AuHHD4tiOm5BVI5CN3CJ9dSODGY1z8xOEtU NRU7M8+mIPVulgPm2dWMfzjICruZdrGJLy0Op+dLd8lutB1ED82hsKLEDWVL7emkFKD52EFw1G3 d/Rwj3b76EjDT/0XnvN2XBaGxT/qINFPXBMYn/OumnYoFPkyrnYpZ5PWchsNi9jX4SVJonqJwuX Q7ejNno0Eanh6VlH8lMzgCDc/VwcFikIba7DApieY3rjHUsQo9S06wlRf4b/cYAvnENYpGpHiKl O0yhpet9q2JPBZP1NA407HzFtfH+qNHb+9DZLzJHfuGxpH0= X-Google-Smtp-Source: AGHT+IGsHlOls6zwamvphO0dQsw/jkiPK44w02CiEVfOMbEcEVL2fDH7vUUGt9SYniGLx2b6n8BP7gj+EAuu X-Received: by 2002:a17:902:cccf:b0:234:a139:11fa with SMTP id d9443c01a7336-23c79624109mr7598645ad.3.1751488510184; Wed, 02 Jul 2025 13:35:10 -0700 (PDT) Received: from postal.iol.unh.edu (postal.iol.unh.edu. [2606:4100:3880:1234::84]) by smtp-relay.gmail.com with ESMTPS id d9443c01a7336-23acb2e1bcesm7474165ad.2.2025.07.02.13.35.10 (version=TLS1_2 cipher=ECDHE-ECDSA-AES128-GCM-SHA256 bits=128/128); Wed, 02 Jul 2025 13:35:10 -0700 (PDT) X-Relaying-Domain: iol.unh.edu Date: Wed, 02 Jul 2025 13:35:10 -0700 (PDT) Message-ID: <686597fe.170a0220.181a42.978bSMTPIN_ADDED_MISSING@mx.google.com> Received: from [172.21.0.5] (unknown [172.18.0.240]) by postal.iol.unh.edu (Postfix) with ESMTP id 65E9A604D420; Wed, 2 Jul 2025 16:35:09 -0400 (EDT) Subject: |SUCCESS| pw154893-154898 [PATCH] [v3,6/6] net/hns3: VF support mult From: dpdklab@iol.unh.edu To: Test Report Cc: dpdk-test-reports@iol.unh.edu In-Reply-To: <20250701091004.531704-7-huangdengdui@huawei.com> References: <20250701091004.531704-7-huangdengdui@huawei.com> Content-Type: text/plain X-BeenThere: test-report@dpdk.org X-Mailman-Version: 2.1.29 Precedence: list List-Id: automatic DPDK test reports List-Unsubscribe: , List-Archive: List-Post: List-Help: List-Subscribe: , Errors-To: test-report-bounces@dpdk.org Test-Label: iol-unit-amd64-testing Test-Status: SUCCESS http://dpdk.org/patch/154898 _Testing PASS_ Submitter: Dengdui Huang Date: Tuesday, July 01 2025 09:10:04 DPDK git baseline: Repo:dpdk Branch: master CommitID:77864da82f25a9e1e43c14b2cba68c2049a3ee3e 154893-154898 --> testing pass Upstream job id: Generic-Unit-Test-DPDK#351882 Test environment and result as below: +-------------------------------+----------------+ | Environment | dpdk_unit_test | +===============================+================+ | Debian GNU/Linux 12 | PASS | +-------------------------------+----------------+ | CentOS Stream 9 | PASS | +-------------------------------+----------------+ | Fedora Linux 41 | PASS | +-------------------------------+----------------+ | Fedora Linux 40 | PASS | +-------------------------------+----------------+ | CentOS Stream 10 | PASS | +-------------------------------+----------------+ | Ubuntu 22.04 | PASS | +-------------------------------+----------------+ | Red Hat Enterprise Linux 9.5 | PASS | +-------------------------------+----------------+ | Red Hat Enterprise Linux 8.10 | PASS | +-------------------------------+----------------+ | Ubuntu 20.04 | PASS | +-------------------------------+----------------+ | Ubuntu 24.04 | PASS | +-------------------------------+----------------+ | Windows Server 2022 | PASS | +-------------------------------+----------------+ Debian GNU/Linux 12 Kernel: 5.15 Compiler: gcc gcc (Debian 12.2.0-14+deb12u1) 12.2.0 CentOS Stream 9 Kernel: 5.15 Compiler: gcc gcc (GCC) 11.5.0 20240719 (Red Hat 11.5.0-7) Fedora Linux 41 Kernel: 5.15 Compiler: gcc gcc (GCC) 14.3.1 20250523 (Red Hat 14.3.1-1) Fedora Linux 40 Kernel: 5.15 Compiler: clang gcc (GCC) 14.2.1 20240912 (Red Hat 14.2.1-3) CentOS Stream 10 Kernel: 5.15 Compiler: gcc gcc (GCC) 14.2.1 20250110 (Red Hat 14.2.1-8) Ubuntu 22.04 Kernel: 5.15 Compiler: gcc gcc (Ubuntu 11.4.0-1ubuntu1~22.04) 11.4.0 Red Hat Enterprise Linux 9.5 Kernel: 5.15 Compiler: gcc gcc (GCC) 11.5.0 20240719 (Red Hat 11.5.0-2) Red Hat Enterprise Linux 8.10 Kernel: 5.15 Compiler: gcc gcc (GCC) 8.5.0 20210514 (Red Hat 8.5.0-22) Ubuntu 20.04 Kernel: 5.15 Compiler: gcc gcc (Ubuntu 9.4.0-1ubuntu1~20.04.2) 9.4.0 Ubuntu 24.04 Kernel: 5.15 Compiler: gcc gcc (Ubuntu 13.3.0-6ubuntu2~24.04) 13.3.0 Windows Server 2022 Kernel: 10.0.20348.2031 Compiler: clang 15.0.7, gcc 14.1.0 (MinGW), and MSVC VS 19.39.33521 To view detailed results, visit: https://lab.dpdk.org/results/dashboard/patchsets/33551/ UNH-IOL DPDK Community Lab To manage your email subscriptions, visit: https://lab.dpdk.org/results/dashboard/preferences/subscriptions/