From mboxrd@z Thu Jan 1 00:00:00 1970 Return-Path: Received: from mails.dpdk.org (mails.dpdk.org [217.70.189.124]) by inbox.dpdk.org (Postfix) with ESMTP id 326BD46ADC for ; Wed, 2 Jul 2025 22:38:39 +0200 (CEST) Received: from mails.dpdk.org (localhost [127.0.0.1]) by mails.dpdk.org (Postfix) with ESMTP id 2DBC24064C; Wed, 2 Jul 2025 22:38:39 +0200 (CEST) Received: from mail-pf1-f228.google.com (mail-pf1-f228.google.com [209.85.210.228]) by mails.dpdk.org (Postfix) with ESMTP id 633FA4064C for ; Wed, 2 Jul 2025 22:38:38 +0200 (CEST) Received: by mail-pf1-f228.google.com with SMTP id d2e1a72fcca58-748e63d4b05so3242282b3a.2 for ; Wed, 02 Jul 2025 13:38:38 -0700 (PDT) DKIM-Signature: v=1; a=rsa-sha256; c=relaxed/relaxed; d=iol.unh.edu; s=unh-iol; t=1751488717; x=1752093517; darn=dpdk.org; h=references:in-reply-to:cc:to:from:subject:message-id:date:from:to :cc:subject:date:message-id:reply-to; bh=t0hzXyyszBxeiz1w3tHPrUewK97Wx0PLoY87sE4xumY=; b=B6s0Uhpg45iYrrJ92lZLOVsmNc3/5oaqZg3j8WelKaSlBfcS0zWyswAYuZTCBhnJqi rtdHLkhbZSY/aCOG3ie/gpQsu/NMMYkR1IhIhgl1UxR+DNvH4qWgCDf94fnXWuk3FyEt 8SICSbPMUKI5QMDiatnck3lpi6f9tgmXNUumQ= X-Google-DKIM-Signature: v=1; a=rsa-sha256; c=relaxed/relaxed; d=1e100.net; s=20230601; t=1751488717; x=1752093517; h=references:in-reply-to:cc:to:from:subject:message-id:date :x-gm-message-state:from:to:cc:subject:date:message-id:reply-to; bh=t0hzXyyszBxeiz1w3tHPrUewK97Wx0PLoY87sE4xumY=; b=LgZPNj+yLb2ZqOLT9p3j7tCYZYo+5ZfGsIh3GpiFdq7aBcyBDcueQikKnN9v1ux5BS 4aMkKV40sMC7x4m8Jv0flWjz+lnKe8BCJgpZgfPZYDV5ZGmbsy/ItwRrSRFHDY3GS3jb dMZGXDtXtQbvc53Xb0IIxzqttftCrQnfcChsVtlmE42PRBIxPB8GxQIJ6c1LhP1vUTQf s7yx4Fb4WicbsZjPQ6vYGbDm4uS4inTFglmqqHCvimfOAfyOnUrc2rowVcuu3HHtsvmm E82l/0gxlmf0/gksxvvJmerXtv9f1OAjDfzNb1vgBFzI8+sdsV6+cgJ+uXLnlEuWaXzC 9q/g== X-Gm-Message-State: AOJu0Ywo0PWBsZ5sp6zHlfazl1AXG69U1I+zrdtNODVYnimGc3NAjHbU uUukIuRTxf9QbWHQB2pyXVfBONKNhfkPqfm6+opapH4A/OpMgWUt1ckDt4KsvHFNaR159vEfi1P V7WRWgYhXJmbaD2laQ+ma1o23Y0P+R7w2uDKG6lkFjO5T01IIPooPBqz47q4v X-Gm-Gg: ASbGncue80MYL1RGwGVLKuDFboPB5NsSjaGUc7779QAiphFhRjfVcfIb5xCGGqCRXov jJ3u1OlHL/1NWVlR82gTwQPp+JVj72pqbTvnG+6NE4B2cdgIlMktNnlKD1y3s13VF5XpappNyFV LqyvMAm4BZBpXGCADvHJPv6fRgHhUlO5amtmW6S04TBfAGBkkYYbdoFrxCUW7e+3gZGInLAl8L8 NhWaDu2O5d2uDX7CU0xdS9525//StevX7zA3dp8E+WDfBwbGrUDkoBnxTXSbbNdUy4EzOvU15MK KE0Q4tgbdWiviBgo5cxkhsNLV5GyQMRB8nrleUxIYTEYcoA= X-Google-Smtp-Source: AGHT+IHqW/FQoUGfGFvIyJiicfZp0NTPGL8yIyhqhfxFaM2YUAFJrcemSvEA3f/HuPfjz6bNISQwdj8GkooD X-Received: by 2002:a05:6a21:6497:b0:220:e5e:5909 with SMTP id adf61e73a8af0-222d7e99a8emr6220286637.20.1751488717564; Wed, 02 Jul 2025 13:38:37 -0700 (PDT) Received: from postal.iol.unh.edu (postal.iol.unh.edu. [2606:4100:3880:1234::84]) by smtp-relay.gmail.com with ESMTPS id d2e1a72fcca58-74af54ea7ddsm723172b3a.11.2025.07.02.13.38.37 (version=TLS1_2 cipher=ECDHE-ECDSA-AES128-GCM-SHA256 bits=128/128); Wed, 02 Jul 2025 13:38:37 -0700 (PDT) X-Relaying-Domain: iol.unh.edu Date: Wed, 02 Jul 2025 13:38:37 -0700 (PDT) Message-ID: <686598cd.050a0220.30fda2.73b9SMTPIN_ADDED_MISSING@mx.google.com> Received: from [172.21.0.7] (unknown [172.18.0.240]) by postal.iol.unh.edu (Postfix) with ESMTP id 5AB43604D420; Wed, 2 Jul 2025 16:38:36 -0400 (EDT) Subject: |SUCCESS| pw154952 [PATCH] net/mlx5: fix inline data size adjustment From: dpdklab@iol.unh.edu To: Test Report Cc: dpdk-test-reports@iol.unh.edu In-Reply-To: <20250702093459.102142-1-shperetz@nvidia.com> References: <20250702093459.102142-1-shperetz@nvidia.com> Content-Type: text/plain X-BeenThere: test-report@dpdk.org X-Mailman-Version: 2.1.29 Precedence: list List-Id: automatic DPDK test reports List-Unsubscribe: , List-Archive: List-Post: List-Help: List-Subscribe: , Errors-To: test-report-bounces@dpdk.org Test-Label: iol-unit-amd64-testing Test-Status: SUCCESS http://dpdk.org/patch/154952 _Testing PASS_ Submitter: Shani Peretz Date: Wednesday, July 02 2025 09:34:59 DPDK git baseline: Repo:dpdk Branch: master CommitID:5c0c1a13c34aa57c6e18f9ba852a9b5807c58b72 154952 --> testing pass Upstream job id: Generic-Unit-Test-DPDK#351871 Test environment and result as below: +-------------------------------+----------------+ | Environment | dpdk_unit_test | +===============================+================+ | CentOS Stream 9 | PASS | +-------------------------------+----------------+ | CentOS Stream 10 | PASS | +-------------------------------+----------------+ | Fedora Linux 40 | PASS | +-------------------------------+----------------+ | Debian GNU/Linux 12 | PASS | +-------------------------------+----------------+ | Fedora Linux 41 | PASS | +-------------------------------+----------------+ | Ubuntu 20.04 | PASS | +-------------------------------+----------------+ | Red Hat Enterprise Linux 9.5 | PASS | +-------------------------------+----------------+ | Ubuntu 24.04 | PASS | +-------------------------------+----------------+ | Ubuntu 22.04 | PASS | +-------------------------------+----------------+ | Red Hat Enterprise Linux 8.10 | PASS | +-------------------------------+----------------+ CentOS Stream 9 Kernel: 5.15 Compiler: gcc gcc (GCC) 11.5.0 20240719 (Red Hat 11.5.0-7) CentOS Stream 10 Kernel: 5.15 Compiler: gcc gcc (GCC) 14.2.1 20250110 (Red Hat 14.2.1-8) Fedora Linux 40 Kernel: 5.15 Compiler: clang gcc (GCC) 14.2.1 20240912 (Red Hat 14.2.1-3) Debian GNU/Linux 12 Kernel: 5.15 Compiler: gcc gcc (Debian 12.2.0-14+deb12u1) 12.2.0 Fedora Linux 41 Kernel: 5.15 Compiler: clang gcc (GCC) 14.3.1 20250523 (Red Hat 14.3.1-1) Ubuntu 20.04 Kernel: 5.15 Compiler: gcc gcc (Ubuntu 9.4.0-1ubuntu1~20.04.2) 9.4.0 Red Hat Enterprise Linux 9.5 Kernel: 5.15 Compiler: gcc gcc (GCC) 11.5.0 20240719 (Red Hat 11.5.0-2) Ubuntu 24.04 Kernel: 5.15 Compiler: gcc gcc (Ubuntu 13.3.0-6ubuntu2~24.04) 13.3.0 Ubuntu 22.04 Kernel: 5.15 Compiler: gcc gcc (Ubuntu 11.4.0-1ubuntu1~22.04) 11.4.0 Red Hat Enterprise Linux 8.10 Kernel: 5.15 Compiler: gcc gcc (GCC) 8.5.0 20210514 (Red Hat 8.5.0-22) To view detailed results, visit: https://lab.dpdk.org/results/dashboard/patchsets/33564/ UNH-IOL DPDK Community Lab To manage your email subscriptions, visit: https://lab.dpdk.org/results/dashboard/preferences/subscriptions/