From mboxrd@z Thu Jan 1 00:00:00 1970 Return-Path: Received: from mails.dpdk.org (mails.dpdk.org [217.70.189.124]) by inbox.dpdk.org (Postfix) with ESMTP id E9F5046ADF for ; Wed, 2 Jul 2025 22:57:29 +0200 (CEST) Received: from mails.dpdk.org (localhost [127.0.0.1]) by mails.dpdk.org (Postfix) with ESMTP id E62534064C; Wed, 2 Jul 2025 22:57:29 +0200 (CEST) Received: from mail-pl1-f228.google.com (mail-pl1-f228.google.com [209.85.214.228]) by mails.dpdk.org (Postfix) with ESMTP id E943240EE2 for ; Wed, 2 Jul 2025 22:57:28 +0200 (CEST) Received: by mail-pl1-f228.google.com with SMTP id d9443c01a7336-2363616a1a6so44506605ad.3 for ; Wed, 02 Jul 2025 13:57:28 -0700 (PDT) DKIM-Signature: v=1; a=rsa-sha256; c=relaxed/relaxed; d=iol.unh.edu; s=unh-iol; t=1751489848; x=1752094648; darn=dpdk.org; h=references:in-reply-to:cc:to:from:subject:message-id:date:from:to :cc:subject:date:message-id:reply-to; bh=8LJT17nx7Y9pH/e3tl5z3CIPdfGr0nRchTAVH9gb2ig=; b=PSGImLxY2/EXGKeFiPGiO8yUWT2pomw9OiYAkfM2OOlWLZ0GPk64e8E3QI0nQfsD9W zRDCyv50FUDWhQ0aZw8m5WJ3jjv6NRrNFsM1VYwQ98Iae0p0yQVxbGXrt3fILgmqh8D9 FCwtOxJnjShDTvnIHszxKNDYUwGxrq3zgTmoA= X-Google-DKIM-Signature: v=1; a=rsa-sha256; c=relaxed/relaxed; d=1e100.net; s=20230601; t=1751489848; x=1752094648; h=references:in-reply-to:cc:to:from:subject:message-id:date :x-gm-message-state:from:to:cc:subject:date:message-id:reply-to; bh=8LJT17nx7Y9pH/e3tl5z3CIPdfGr0nRchTAVH9gb2ig=; b=p+1K+DmJ/WkhoJL5gVYjaP/w0kXZVPlx2nse76KsocB8pUmx1OwxA0gOVmbLFiaobf Q6MtkpN05W9/mz1zLkPUxMMJ1cvRuugy2tHeL6wKEFZw/zLzV7Y18X+7qtfcFJfoOohU gvki84wjAAlKbiPmeHPczv2GDa2zODvz+s8UKEiig4WQiDZTF26UWFGQ9dhXyb5BSnlb p9IHU0K9snLyJjytca0v728WGMHnFwotxUZGSRP3036apgTgZQ549fBx7aSeaXfFFYWL PT4oloJ2A1pt4alnDhRc5G7HuSALXwpSJ18cL0BXfnJBdOVUe4i6nTh1lhMkSCerRCHw fy8Q== X-Gm-Message-State: AOJu0YyDaxa/B0YLlCj6L7YM8CMWj4W1r8wIncqCYJv6JV9irl2uWinV XdWICe0jK2oxENBqByQA1AeNf+KAHN/v24UHYSO9qjfnNO3MeMNcicSXtSuLZ94Jf0zfsdqI5Sa 1LWCeN0m+H9JRPslfxRt4sVHdDPb7EX32Du1120FmikUt X-Gm-Gg: ASbGncuCn7Ojzi9HA+R7dcNBOud4C2IiLfY51kBazDkj4FrSVzrJlOtLpp3Cp/z4umU bWwtQ3QzQT5nA1cmlf9WKg2/qoZ3Q3Ay7Sb3a7mfnkHSlLlBc2u3T+TT0DpLMrOL6Vzi5Eq5A5I fkqYnyR//dnoBFS7QqaLZ9Yyj7dHCqq9Py1V01dxdMWOMtwPHafoWQvOg3YrJQRAR2O3Lt+4prJ cFDA84gmnnmyth60oQZVnErijjJbiNDuLI4ucdQUFqARnoLfNI1m/dpQU/ReoasoU/aZOfYuJiN me9vQZPuSq4jvZ3dE47VV5W2NShnhchhtHRcsYuw9BGC5+EnVjaYECXLAGW9DXYARh6eQA== X-Google-Smtp-Source: AGHT+IHgTmYjYEIkm4+iLo1AkVoY9usPTEkc1mPKESSkSxNjFnV1qZfOCXgbY3A6WG4BTbsTnMNoXdlxm4yo X-Received: by 2002:a17:902:f78a:b0:234:d679:72f7 with SMTP id d9443c01a7336-23c6e4c942fmr51964425ad.23.1751489848162; Wed, 02 Jul 2025 13:57:28 -0700 (PDT) Received: from postal.iol.unh.edu (postal.iol.unh.edu. [132.177.123.84]) by smtp-relay.gmail.com with ESMTPS id d9443c01a7336-23acb2e1c10sm7231475ad.11.2025.07.02.13.57.28 (version=TLS1_2 cipher=ECDHE-ECDSA-AES128-GCM-SHA256 bits=128/128); Wed, 02 Jul 2025 13:57:28 -0700 (PDT) X-Relaying-Domain: iol.unh.edu Date: Wed, 02 Jul 2025 13:57:28 -0700 (PDT) Message-ID: <68659d38.170a0220.38a666.820cSMTPIN_ADDED_MISSING@mx.google.com> Received: from [172.21.0.6] (unknown [172.18.0.240]) by postal.iol.unh.edu (Postfix) with ESMTP id A7771604D420; Wed, 2 Jul 2025 16:57:27 -0400 (EDT) Subject: |SUCCESS| pw154974-154975 [PATCH] [2/2] dts: add generic blocking ap From: dpdklab@iol.unh.edu To: Test Report Cc: dpdk-test-reports@iol.unh.edu In-Reply-To: <20250702164204.607685-3-luca.vizzarro@arm.com> References: <20250702164204.607685-3-luca.vizzarro@arm.com> Content-Type: text/plain X-BeenThere: test-report@dpdk.org X-Mailman-Version: 2.1.29 Precedence: list List-Id: automatic DPDK test reports List-Unsubscribe: , List-Archive: List-Post: List-Help: List-Subscribe: , Errors-To: test-report-bounces@dpdk.org Test-Label: iol-compile-amd64-testing Test-Status: SUCCESS http://dpdk.org/patch/154975 _Testing PASS_ Submitter: Luca Vizzarro Date: Wednesday, July 02 2025 16:42:04 DPDK git baseline: Repo:dpdk Branch: master CommitID:47b315bcb2778bcbd76c5764a5ed891b93b05814 154974-154975 --> testing pass Upstream job id: Windows-Compile-DPDK-VS#6237 Test environment and result as below: +---------------------+--------------------+-------------------+ | Environment | dpdk_meson_compile | dpdk_msvc_compile | +=====================+====================+===================+ | FreeBSD 14.2 | PASS | SKIPPED | +---------------------+--------------------+-------------------+ | Ubuntu 20.04 | PASS | SKIPPED | +---------------------+--------------------+-------------------+ | Windows Server 2022 | SKIPPED | PASS | +---------------------+--------------------+-------------------+ FreeBSD 14.2 Kernel: 14.2-RELEASE Compiler: clang 18.1.6 Ubuntu 20.04 Kernel: 4.19 Compiler: gcc gcc (Ubuntu 9.4.0-1ubuntu1~20.04.2) 9.4.0 Windows Server 2022 Kernel: 10.0.20348.2031 Compiler: clang 15.0.7, gcc 14.1.0 (MinGW), and MSVC VS 19.39.33521 To view detailed results, visit: https://lab.dpdk.org/results/dashboard/patchsets/33572/ UNH-IOL DPDK Community Lab To manage your email subscriptions, visit: https://lab.dpdk.org/results/dashboard/preferences/subscriptions/