From mboxrd@z Thu Jan 1 00:00:00 1970 Return-Path: Received: from mails.dpdk.org (mails.dpdk.org [217.70.189.124]) by inbox.dpdk.org (Postfix) with ESMTP id 80B7346AC4 for ; Wed, 2 Jul 2025 23:03:38 +0200 (CEST) Received: from mails.dpdk.org (localhost [127.0.0.1]) by mails.dpdk.org (Postfix) with ESMTP id 6C8A24064C; Wed, 2 Jul 2025 23:03:38 +0200 (CEST) Received: from mail-qt1-f226.google.com (mail-qt1-f226.google.com [209.85.160.226]) by mails.dpdk.org (Postfix) with ESMTP id 8ED3540661 for ; Wed, 2 Jul 2025 23:03:37 +0200 (CEST) Received: by mail-qt1-f226.google.com with SMTP id d75a77b69052e-4a52d82adcaso64544161cf.0 for ; Wed, 02 Jul 2025 14:03:37 -0700 (PDT) DKIM-Signature: v=1; a=rsa-sha256; c=relaxed/relaxed; d=iol.unh.edu; s=unh-iol; t=1751490217; x=1752095017; darn=dpdk.org; h=references:in-reply-to:cc:to:from:subject:message-id:date:from:to :cc:subject:date:message-id:reply-to; bh=IDV5z5ISdwKDdoRGRTzexhacIRNL1HVqy6LDwE9T19Q=; b=RgWBxkkWpF80rI9dQiv8bEbMx4HC77sNe2p4jJ5pVDIYgZKo/CQScGdrNa1J4+GNu5 jS2l+r4NSwmWGqvkLu1n7+QQtHrry4xLOThp4eZmBBf5PDbeXV2ggR/Pt/TZMPg45MZP M0fqJCizjrC30Uiys87DySmXMbFohYL1Sv20c= X-Google-DKIM-Signature: v=1; a=rsa-sha256; c=relaxed/relaxed; d=1e100.net; s=20230601; t=1751490217; x=1752095017; h=references:in-reply-to:cc:to:from:subject:message-id:date :x-gm-message-state:from:to:cc:subject:date:message-id:reply-to; bh=IDV5z5ISdwKDdoRGRTzexhacIRNL1HVqy6LDwE9T19Q=; b=cojbOSyxLWmbNJSded3hdcPEQlRvetwFtkCu/U8D8vT7RS3knlj8m3hzS8VcuRy8mG RZ4I0zDwC06iNlJoHgy865CJ3QSnHG1aTiOUUCBGQSJUp21EQ3nwK00RQ1mhMRLrMvPe w93dg19I/BstQhmH898tQRooqU8GMN5UZI7KWgfY44/NmqWG99KdRVfDvK+bIKfckW7n Iie+jGWR5LMElEht3vD7z6N9RPM3q8dGmEhHAT3uy83DJqWH9SX23D8e26NCh6KOks6B 1oojzoxfz4zBhFZfJLt+pNHSOsmYbs7H61TCh67Bb5kw3yPm1iNX5KHpoFNA16WftymT 0yiA== X-Gm-Message-State: AOJu0YxYMUXHgvCZS24wKFMXXqJ2qnahjafCRtR8xZUrSTCm/QnYAj/o nrIsoHaxP7gvutM7MwBF8OqaCMmuWGh1+3nn+1eRgNFR7y3KTIh2qJaXDBg21turNdFdaXsRMTI 65d1fFyfJD7rFqlXkIcyOXp0J6mD4J1mUZSld4t0WfW5F+lDK2WSX+XRhpfBv X-Gm-Gg: ASbGncs6Qmt+7njDxmUV8qrrnI5DruKn8AU+EVhSIdY+gZ8VZjbyzH0VsraCz6l1YgY zrSo0ch8+awfeneVcBpzkJMcD0m7UMGyk9lm/HXMoXZGaY83RkhWqW2Dnz32gi49evoviFfnbt0 mCSZDVDFEfUtQYhjbV2kjropijpiRczNoFD6sjJDl/0rHzufhkZVU1Py16PY1zhno6AgtGQT7i/ fNGW3kODseNyhkFE3RP9V7Fd7p0Dakkm1whVp3rIvduxsnjcKR8z8IMjbcvuXOmcPYwZy6mXVbS x8Tnbgn7w33Gd9vGGVv31iKwn8KC00M6BpcM7khnwgu3dKo= X-Google-Smtp-Source: AGHT+IEODWBzwprKRSqiyqBUSP+Vz2NbkboLK6LcbBoY4+6tEp2xxGGMWmMx1dyI94slX0EuTxe/SP/i+5on X-Received: by 2002:a05:622a:8188:b0:4a4:4bdc:8b1 with SMTP id d75a77b69052e-4a988915358mr4636861cf.19.1751490216925; Wed, 02 Jul 2025 14:03:36 -0700 (PDT) Received: from postal.iol.unh.edu (postal.iol.unh.edu. [2606:4100:3880:1234::84]) by smtp-relay.gmail.com with ESMTPS id d75a77b69052e-4a7fc1c01e0sm5330161cf.13.2025.07.02.14.03.36 (version=TLS1_2 cipher=ECDHE-ECDSA-AES128-GCM-SHA256 bits=128/128); Wed, 02 Jul 2025 14:03:36 -0700 (PDT) X-Relaying-Domain: iol.unh.edu Date: Wed, 02 Jul 2025 14:03:36 -0700 (PDT) Message-ID: <68659ea8.c80a0220.269916.d176SMTPIN_ADDED_MISSING@mx.google.com> Received: from [172.21.0.6] (unknown [172.18.0.240]) by postal.iol.unh.edu (Postfix) with ESMTP id 9301F604D420; Wed, 2 Jul 2025 17:03:36 -0400 (EDT) Subject: |SUCCESS| pw154952 [PATCH] net/mlx5: fix inline data size adjustment From: dpdklab@iol.unh.edu To: Test Report Cc: dpdk-test-reports@iol.unh.edu In-Reply-To: <20250702093459.102142-1-shperetz@nvidia.com> References: <20250702093459.102142-1-shperetz@nvidia.com> Content-Type: text/plain X-BeenThere: test-report@dpdk.org X-Mailman-Version: 2.1.29 Precedence: list List-Id: automatic DPDK test reports List-Unsubscribe: , List-Archive: List-Post: List-Help: List-Subscribe: , Errors-To: test-report-bounces@dpdk.org Test-Label: iol-unit-arm64-testing Test-Status: SUCCESS http://dpdk.org/patch/154952 _Testing PASS_ Submitter: Shani Peretz Date: Wednesday, July 02 2025 09:34:59 DPDK git baseline: Repo:dpdk Branch: master CommitID:5c0c1a13c34aa57c6e18f9ba852a9b5807c58b72 154952 --> testing pass Upstream job id: Generic-Unit-Test-DPDK#351872 Test environment and result as below: +------------------------------+--------------+----------------+------------------------------+---------------------------+ | Environment | lpm_autotest | dpdk_unit_test | cryptodev_sw_snow3g_autotest | cryptodev_sw_zuc_autotest | +==============================+==============+================+==============================+===========================+ | Ubuntu 20.04 | PASS | PASS | SKIPPED | SKIPPED | +------------------------------+--------------+----------------+------------------------------+---------------------------+ | Fedora Linux 40 | SKIPPED | PASS | SKIPPED | SKIPPED | +------------------------------+--------------+----------------+------------------------------+---------------------------+ | CentOS Stream 10 | SKIPPED | PASS | SKIPPED | SKIPPED | +------------------------------+--------------+----------------+------------------------------+---------------------------+ | Debian GNU/Linux 12 | SKIPPED | PASS | SKIPPED | SKIPPED | +------------------------------+--------------+----------------+------------------------------+---------------------------+ | CentOS Stream 9 | SKIPPED | PASS | SKIPPED | SKIPPED | +------------------------------+--------------+----------------+------------------------------+---------------------------+ | Fedora Linux 41 | SKIPPED | PASS | SKIPPED | SKIPPED | +------------------------------+--------------+----------------+------------------------------+---------------------------+ | Ubuntu 24.04 | SKIPPED | PASS | SKIPPED | SKIPPED | +------------------------------+--------------+----------------+------------------------------+---------------------------+ | Red Hat Enterprise Linux 9.5 | SKIPPED | PASS | SKIPPED | SKIPPED | +------------------------------+--------------+----------------+------------------------------+---------------------------+ | Ubuntu 22.04 | SKIPPED | PASS | SKIPPED | SKIPPED | +------------------------------+--------------+----------------+------------------------------+---------------------------+ | Debian 12 (arm) | SKIPPED | SKIPPED | PASS | PASS | +------------------------------+--------------+----------------+------------------------------+---------------------------+ Ubuntu 20.04 Kernel: 5.4 Compiler: gcc gcc (Ubuntu 9.4.0-1ubuntu1~20.04.2) 9.4.0 Fedora Linux 40 Kernel: 5.4 Compiler: gcc gcc (GCC) 14.2.1 20240912 (Red Hat 14.2.1-3) CentOS Stream 10 Kernel: 5.4 Compiler: gcc gcc (GCC) 14.2.1 20250110 (Red Hat 14.2.1-8) Debian GNU/Linux 12 Kernel: 5.4 Compiler: gcc gcc (Debian 12.2.0-14+deb12u1) 12.2.0 CentOS Stream 9 Kernel: 5.4 Compiler: gcc gcc (GCC) 11.5.0 20240719 (Red Hat 11.5.0-7) Fedora Linux 41 Kernel: 5.4 Compiler: gcc gcc (GCC) 14.3.1 20250523 (Red Hat 14.3.1-1) Ubuntu 24.04 Kernel: 5.4 Compiler: gcc gcc (Ubuntu 13.3.0-6ubuntu2~24.04) 13.3.0 Red Hat Enterprise Linux 9.5 Kernel: 5.4 Compiler: gcc gcc (GCC) 11.5.0 20240719 (Red Hat 11.5.0-2) Ubuntu 22.04 Kernel: 5.4 Compiler: gcc gcc (Ubuntu 11.4.0-1ubuntu1~22.04) 11.4.0 Debian 12 (arm) Kernel: Depends on container host Compiler: gcc (Debian 12.2.0-14) 12.2.0 To view detailed results, visit: https://lab.dpdk.org/results/dashboard/patchsets/33564/ UNH-IOL DPDK Community Lab To manage your email subscriptions, visit: https://lab.dpdk.org/results/dashboard/preferences/subscriptions/