From mboxrd@z Thu Jan 1 00:00:00 1970 Return-Path: Received: from mails.dpdk.org (mails.dpdk.org [217.70.189.124]) by inbox.dpdk.org (Postfix) with ESMTP id 0769B46ADF for ; Wed, 2 Jul 2025 23:07:48 +0200 (CEST) Received: from mails.dpdk.org (localhost [127.0.0.1]) by mails.dpdk.org (Postfix) with ESMTP id D13F14064C; Wed, 2 Jul 2025 23:07:47 +0200 (CEST) Received: from mail-io1-f98.google.com (mail-io1-f98.google.com [209.85.166.98]) by mails.dpdk.org (Postfix) with ESMTP id 54BDE4064C for ; Wed, 2 Jul 2025 23:07:46 +0200 (CEST) Received: by mail-io1-f98.google.com with SMTP id ca18e2360f4ac-874a68f6516so625702839f.2 for ; Wed, 02 Jul 2025 14:07:46 -0700 (PDT) DKIM-Signature: v=1; a=rsa-sha256; c=relaxed/relaxed; d=iol.unh.edu; s=unh-iol; t=1751490465; x=1752095265; darn=dpdk.org; h=references:in-reply-to:cc:to:from:subject:message-id:date:from:to :cc:subject:date:message-id:reply-to; bh=uukmYbl8jlP5v9PpkkjiFzgLYw0mP+Xqgs60rHrs+eM=; b=XXYO3+68Yk8XzdT5/wiSoKb2gM4Fle1LO0b+9N5ZxZVY+/Um6nKNgc64bBZAwlmLvB CMnWY2GO6x4TMDpPuaaGJDgJo2FWbGB9pQPFgj0pZD85oMQ9sToXXD1YC9vlILDduP96 mPAz4rKu4p8kxGYQiSkMypYK0dtG25oLFHNcU= X-Google-DKIM-Signature: v=1; a=rsa-sha256; c=relaxed/relaxed; d=1e100.net; s=20230601; t=1751490465; x=1752095265; h=references:in-reply-to:cc:to:from:subject:message-id:date :x-gm-message-state:from:to:cc:subject:date:message-id:reply-to; bh=uukmYbl8jlP5v9PpkkjiFzgLYw0mP+Xqgs60rHrs+eM=; b=R6ORyrbAMhBJQdu2+hiaoWRwl+WIR26lkFoQNweNqfV0YMXBGgNO0ei9yAiQvwdp9E zGWMWyhOrHHGEdpp+3hleZduqN00FXAumxHPR34wudtOD01YDEzia90DktHAJIiwcFUt hIBrftrEXQ1xfbOYeMWRNN05TKiuvjqjJuaDtqMSffdFvQdlt1zvfTQuka+W0yP+qS1z YuQcLAUU4G69knDpwBiR/POgUetapZGALf2ckGy/BegaWVqs69qEmiaznyJysnUwW1VU mOBPadHofokSp/Q1eh/FxmMT1PFSLCeiELYhgz9AQETTp6CzpmQsrmLUXwRca80zV0J4 iO6Q== X-Gm-Message-State: AOJu0YwS83Zjwyqyvl3D6L3oKz7IwCJ95AMa1/F+bRW1tm8LjoFF21hq 5erCNViUF57PuARrfxir1WlCCFXDweBi7ddPRFw4aOmUKyl/NTpk8nOtBPHGuC0wz72vkUKSP8o vKxM28Y2haDO/8WqWI8di/lgmmMzP9ZRRlxzJ/higjHq4 X-Gm-Gg: ASbGnct8NSdhFGNe6SsLTddOPnvpO992H7L0aXGXnPnMeuqRYXEMZYZSUvRwJcj3yhJ lBp5oW+lse4fxnJDrROQZ4tsmpa3yLjAOgQQGrCdK/O6NDCG+gBGWGL9F2/gi1VTszbMlzkP2uM 9osDvXRUO0Xf2j/DvJDUlUmbc+7iHqRfMB+Ff/ahinT8qA5ChAfYSGDNzf1qzOHZ88L8/i3GZd7 EQE37D0Q+YRuziigieyjNB/N9IFc13XDKjhW0O6bG/ac59Q43ZtAuXmXKyG4Fg3S1MRCDq7K4vg VUjk9DMov9jUwm5Irbp1Rp/qnL/qrGxAs25nWGo/RgnS+2euTGihis8xDYONe98zTevRVg== X-Google-Smtp-Source: AGHT+IECpwXW+4NbvXEkuhEtjraEJ2a9ObCHB1dTOmmfkcmymovm6CX7CsHwFHrU/RFqn9sdqh5Vk+aSD4bl X-Received: by 2002:a05:6e02:b22:b0:3df:3eeb:9dd7 with SMTP id e9e14a558f8ab-3e054a32fddmr58306805ab.19.1751490465516; Wed, 02 Jul 2025 14:07:45 -0700 (PDT) Received: from postal.iol.unh.edu (postal.iol.unh.edu. [132.177.123.84]) by smtp-relay.gmail.com with ESMTPS id 8926c6da1cb9f-50204ab02c5sm416791173.70.2025.07.02.14.07.45 (version=TLS1_2 cipher=ECDHE-ECDSA-AES128-GCM-SHA256 bits=128/128); Wed, 02 Jul 2025 14:07:45 -0700 (PDT) X-Relaying-Domain: iol.unh.edu Date: Wed, 02 Jul 2025 14:07:45 -0700 (PDT) Message-ID: <68659fa1.050a0220.d38c8.57bfSMTPIN_ADDED_MISSING@mx.google.com> Received: from [172.21.0.7] (unknown [172.18.0.240]) by postal.iol.unh.edu (Postfix) with ESMTP id 2A7A56051830; Wed, 2 Jul 2025 17:07:45 -0400 (EDT) Subject: |SUCCESS| pw154953-154957 [PATCH] [v8,5/5] net/dpaa2: enable softwar From: dpdklab@iol.unh.edu To: Test Report Cc: dpdk-test-reports@iol.unh.edu In-Reply-To: <20250702095144.3087250-6-g.singh@nxp.com> References: <20250702095144.3087250-6-g.singh@nxp.com> Content-Type: text/plain X-BeenThere: test-report@dpdk.org X-Mailman-Version: 2.1.29 Precedence: list List-Id: automatic DPDK test reports List-Unsubscribe: , List-Archive: List-Post: List-Help: List-Subscribe: , Errors-To: test-report-bounces@dpdk.org Test-Label: iol-abi-testing Test-Status: SUCCESS http://dpdk.org/patch/154957 _Testing PASS_ Submitter: Gagandeep Singh Date: Wednesday, July 02 2025 09:51:44 DPDK git baseline: Repo:dpdk Branch: master CommitID:b18c543ec30729ccc7708a6e064a1f9db5d8c11f 154953-154957 --> testing pass Upstream job id: Generic-DPDK-Compile-ABI#132708 Test environment and result as below: +-------------------------------+----------+ | Environment | abi_test | +===============================+==========+ | CentOS Stream 9 | PASS | +-------------------------------+----------+ | Fedora Linux 40 | PASS | +-------------------------------+----------+ | CentOS Stream 10 | PASS | +-------------------------------+----------+ | Debian GNU/Linux 12 | PASS | +-------------------------------+----------+ | Red Hat Enterprise Linux 9.5 | PASS | +-------------------------------+----------+ | openSUSE Leap 15.6 | PASS | +-------------------------------+----------+ | Fedora Linux 41 | PASS | +-------------------------------+----------+ | Red Hat Enterprise Linux 8.10 | PASS | +-------------------------------+----------+ | Ubuntu 22.04 | PASS | +-------------------------------+----------+ | Ubuntu 24.04 | PASS | +-------------------------------+----------+ CentOS Stream 9 Kernel: 5.15 Compiler: gcc gcc (GCC) 11.5.0 20240719 (Red Hat 11.5.0-7) Fedora Linux 40 Kernel: 5.15 Compiler: clang gcc (GCC) 14.2.1 20240912 (Red Hat 14.2.1-3) CentOS Stream 10 Kernel: 5.15 Compiler: gcc gcc (GCC) 14.2.1 20250110 (Red Hat 14.2.1-8) Debian GNU/Linux 12 Kernel: 5.15 Compiler: gcc gcc (Debian 12.2.0-14+deb12u1) 12.2.0 Red Hat Enterprise Linux 9.5 Kernel: 5.15 Compiler: gcc gcc (GCC) 11.5.0 20240719 (Red Hat 11.5.0-2) openSUSE Leap 15.6 Kernel: 5.15 Compiler: gcc gcc (SUSE Linux) 7.5.0 Fedora Linux 41 Kernel: 5.15 Compiler: clang gcc (GCC) 14.3.1 20250523 (Red Hat 14.3.1-1) Red Hat Enterprise Linux 8.10 Kernel: 5.15 Compiler: gcc gcc (GCC) 8.5.0 20210514 (Red Hat 8.5.0-22) Ubuntu 22.04 Kernel: 5.15 Compiler: gcc gcc (Ubuntu 11.4.0-1ubuntu1~22.04) 11.4.0 Ubuntu 24.04 Kernel: 5.15 Compiler: gcc gcc (Ubuntu 13.3.0-6ubuntu2~24.04) 13.3.0 To view detailed results, visit: https://lab.dpdk.org/results/dashboard/patchsets/33565/ UNH-IOL DPDK Community Lab To manage your email subscriptions, visit: https://lab.dpdk.org/results/dashboard/preferences/subscriptions/