From mboxrd@z Thu Jan 1 00:00:00 1970 Return-Path: Received: from mails.dpdk.org (mails.dpdk.org [217.70.189.124]) by inbox.dpdk.org (Postfix) with ESMTP id 2001246AD5 for ; Wed, 2 Jul 2025 23:09:32 +0200 (CEST) Received: from mails.dpdk.org (localhost [127.0.0.1]) by mails.dpdk.org (Postfix) with ESMTP id 1B6B84064C; Wed, 2 Jul 2025 23:09:32 +0200 (CEST) Received: from mail-yw1-f226.google.com (mail-yw1-f226.google.com [209.85.128.226]) by mails.dpdk.org (Postfix) with ESMTP id 575BE4064C for ; Wed, 2 Jul 2025 23:09:30 +0200 (CEST) Received: by mail-yw1-f226.google.com with SMTP id 00721157ae682-70e3e0415a7so4107107b3.0 for ; Wed, 02 Jul 2025 14:09:30 -0700 (PDT) DKIM-Signature: v=1; a=rsa-sha256; c=relaxed/relaxed; d=iol.unh.edu; s=unh-iol; t=1751490569; x=1752095369; darn=dpdk.org; h=references:in-reply-to:cc:to:from:subject:message-id:date:from:to :cc:subject:date:message-id:reply-to; bh=fUd7DxKgQGGvk2SR096n59dCGxyVbv3OFTJrekM208k=; b=QPb15VL40LqiC83nISq9fY4LrITjMKuERF26FD52Z3VIfLTbvFMfcw7wp/hGf2eey1 5N7M2iAMVb5q/dIwUixS4ZrzPOL0M1VWbIESEntSZpmdsYyhYnuz07W+UQlwzxmuBH5Q lDb86o1i1VEOrvHWcT69X+ygpUvgXV8mbehh4= X-Google-DKIM-Signature: v=1; a=rsa-sha256; c=relaxed/relaxed; d=1e100.net; s=20230601; t=1751490569; x=1752095369; h=references:in-reply-to:cc:to:from:subject:message-id:date :x-gm-message-state:from:to:cc:subject:date:message-id:reply-to; bh=fUd7DxKgQGGvk2SR096n59dCGxyVbv3OFTJrekM208k=; b=OeC4Lzo6rmjWraZHGsLxP5wzjtRDpgj1jcq/rqLPPUI42g9ESvd9lNh4MjOtJnMJjc eT9uG8LaVW8mgOdmY9fHnackHfY5mKmxx1zbFOej1Pn+el39iO0bmwz9eWMdobZ8m3qA wuFMTyBPWdQ3W/ZUKmhwyM9BJkCimoP+FswRRL4oQYQhCFLw3hyo3771HaAUJQ3VUH9a aLh8lDWNQVFxOFYwV/XVAsuoC7EYPPb5ZfnNHbwj2VDjfTp6n7tklpgDLfbw+c+ZDTES UYogy9f4RxVysTPDAXVCnzhpKScmveiAeuFjGp5ZNuhiWdySksN6wmJXICUmaDAoIcuY 6AGg== X-Gm-Message-State: AOJu0YxsvAv7CULKJqUpZxOE3PA3TwPEcYji5yFEenv7OLr+VGDToOn7 qsodGoDQ2h9rEDPlyAEi8EsiXG7OLhV6Noo6JD7RoBAU8ljAV2zwHyS4ud3YzcRUZsMZdnlCs1s CnGs1F6ONXUuDzJXz5IzbFEhRQWkR8/iFXq1rphIqUtW0 X-Gm-Gg: ASbGncv8pJHrc0Xmmuxsn+dpKAb7vaYYeEKkdpermJfWGMa/jUqevsX6U2gjKAoirVk SsH6zIGTSFuHqCjeJ5B66EVH6Oxdock8LdeIBNqd9DZAHy3MC9sFZfFlRqIe18hy5Kh1oFe7Svt 8T/HkB7HpZU/3LO9ABEK4PgIyiOucp/qt4gDuIEkPiILpdk1DskyiD+im1tz2qFjuGoBGIp5sXZ +4FtuvyBR89XLjvlF3O8B9uzeKTT2udO+dr1h+WNN3eWdt+4X3dnTgylpcx5fbR85UsymMQdn6P /3UWDEFH2ZR/H7wXfYdVDWoFCeZidz/kiTriOp9FGu8ricM02Y6pPVWCVfDupCLcMlkSpw== X-Google-Smtp-Source: AGHT+IHwG4VWIq6Ouqttg6uMpLV/Nf9z3OJfUFXMnqHrW+EJ/84JVstFS4jFFAhndScVjT3l4TGN+pUeFVCP X-Received: by 2002:a05:690c:6603:b0:712:c5f7:1eed with SMTP id 00721157ae682-7165918c17dmr18423967b3.16.1751490569511; Wed, 02 Jul 2025 14:09:29 -0700 (PDT) Received: from postal.iol.unh.edu (postal.iol.unh.edu. [132.177.123.84]) by smtp-relay.gmail.com with ESMTPS id 00721157ae682-71515be18d6sm4762677b3.4.2025.07.02.14.09.29 (version=TLS1_2 cipher=ECDHE-ECDSA-AES128-GCM-SHA256 bits=128/128); Wed, 02 Jul 2025 14:09:29 -0700 (PDT) X-Relaying-Domain: iol.unh.edu Date: Wed, 02 Jul 2025 14:09:29 -0700 (PDT) Message-ID: <6865a009.050a0220.a3922.a9cbSMTPIN_ADDED_MISSING@mx.google.com> Received: from [172.21.0.5] (unknown [172.18.0.240]) by postal.iol.unh.edu (Postfix) with ESMTP id 2BD636051830; Wed, 2 Jul 2025 17:09:29 -0400 (EDT) Subject: |SUCCESS| pw154953-154957 [PATCH] [v8,5/5] net/dpaa2: enable softwar From: dpdklab@iol.unh.edu To: Test Report Cc: dpdk-test-reports@iol.unh.edu In-Reply-To: <20250702095144.3087250-6-g.singh@nxp.com> References: <20250702095144.3087250-6-g.singh@nxp.com> Content-Type: text/plain X-BeenThere: test-report@dpdk.org X-Mailman-Version: 2.1.29 Precedence: list List-Id: automatic DPDK test reports List-Unsubscribe: , List-Archive: List-Post: List-Help: List-Subscribe: , Errors-To: test-report-bounces@dpdk.org Test-Label: iol-abi-testing Test-Status: SUCCESS http://dpdk.org/patch/154957 _Testing PASS_ Submitter: Gagandeep Singh Date: Wednesday, July 02 2025 09:51:44 DPDK git baseline: Repo:dpdk Branch: master CommitID:b18c543ec30729ccc7708a6e064a1f9db5d8c11f 154953-154957 --> testing pass Upstream job id: Generic-DPDK-Compile-ABI#132713 Test environment and result as below: +-------------------------------+----------+ | Environment | abi_test | +===============================+==========+ | CentOS Stream 9 | PASS | +-------------------------------+----------+ | Fedora Linux 40 | PASS | +-------------------------------+----------+ | CentOS Stream 10 | PASS | +-------------------------------+----------+ | Debian GNU/Linux 12 | PASS | +-------------------------------+----------+ | Red Hat Enterprise Linux 9.5 | PASS | +-------------------------------+----------+ | openSUSE Leap 15.6 | PASS | +-------------------------------+----------+ | Fedora Linux 41 | PASS | +-------------------------------+----------+ | Red Hat Enterprise Linux 8.10 | PASS | +-------------------------------+----------+ | Ubuntu 22.04 | PASS | +-------------------------------+----------+ | Ubuntu 24.04 | PASS | +-------------------------------+----------+ CentOS Stream 9 Kernel: 5.15 Compiler: gcc gcc (GCC) 11.5.0 20240719 (Red Hat 11.5.0-7) Fedora Linux 40 Kernel: 5.15 Compiler: clang gcc (GCC) 14.2.1 20240912 (Red Hat 14.2.1-3) CentOS Stream 10 Kernel: 5.15 Compiler: gcc gcc (GCC) 14.2.1 20250110 (Red Hat 14.2.1-8) Debian GNU/Linux 12 Kernel: 5.15 Compiler: gcc gcc (Debian 12.2.0-14+deb12u1) 12.2.0 Red Hat Enterprise Linux 9.5 Kernel: 5.15 Compiler: gcc gcc (GCC) 11.5.0 20240719 (Red Hat 11.5.0-2) openSUSE Leap 15.6 Kernel: 5.15 Compiler: gcc gcc (SUSE Linux) 7.5.0 Fedora Linux 41 Kernel: 5.15 Compiler: clang gcc (GCC) 14.3.1 20250523 (Red Hat 14.3.1-1) Red Hat Enterprise Linux 8.10 Kernel: 5.15 Compiler: gcc gcc (GCC) 8.5.0 20210514 (Red Hat 8.5.0-22) Ubuntu 22.04 Kernel: 5.15 Compiler: gcc gcc (Ubuntu 11.4.0-1ubuntu1~22.04) 11.4.0 Ubuntu 24.04 Kernel: 5.15 Compiler: gcc gcc (Ubuntu 13.3.0-6ubuntu2~24.04) 13.3.0 To view detailed results, visit: https://lab.dpdk.org/results/dashboard/patchsets/33565/ UNH-IOL DPDK Community Lab To manage your email subscriptions, visit: https://lab.dpdk.org/results/dashboard/preferences/subscriptions/