From mboxrd@z Thu Jan 1 00:00:00 1970 Return-Path: Received: from mails.dpdk.org (mails.dpdk.org [217.70.189.124]) by inbox.dpdk.org (Postfix) with ESMTP id 582D546AD5 for ; Wed, 2 Jul 2025 23:09:56 +0200 (CEST) Received: from mails.dpdk.org (localhost [127.0.0.1]) by mails.dpdk.org (Postfix) with ESMTP id 518A14064C; Wed, 2 Jul 2025 23:09:56 +0200 (CEST) Received: from mail-il1-f225.google.com (mail-il1-f225.google.com [209.85.166.225]) by mails.dpdk.org (Postfix) with ESMTP id 72FF740FB5 for ; Wed, 2 Jul 2025 23:09:54 +0200 (CEST) Received: by mail-il1-f225.google.com with SMTP id e9e14a558f8ab-3dddc17e4e4so16832935ab.0 for ; Wed, 02 Jul 2025 14:09:54 -0700 (PDT) DKIM-Signature: v=1; a=rsa-sha256; c=relaxed/relaxed; d=iol.unh.edu; s=unh-iol; t=1751490594; x=1752095394; darn=dpdk.org; h=references:in-reply-to:cc:to:from:subject:message-id:date:from:to :cc:subject:date:message-id:reply-to; bh=miuL2qpnQ/EQAoN5XNZtXsevmCZQEM9+mu1LqN1TZgI=; b=EaiHcV0YjTYMyOpZLxrfJAcriI+Lw5fPnO8YRM38SdBjrQ+bIKbSABbVjag6GfJ1eq 1DDaQ85jzeh2ZOT20H10A60XRutIb/V0c83YW4BVYQ9gBeeQ/BlVqSb84NUN+KWc4gd2 MXE/b6nFh3A1q/EysLXg6I/xtOuUU2R6Pc8zA= X-Google-DKIM-Signature: v=1; a=rsa-sha256; c=relaxed/relaxed; d=1e100.net; s=20230601; t=1751490594; x=1752095394; h=references:in-reply-to:cc:to:from:subject:message-id:date :x-gm-message-state:from:to:cc:subject:date:message-id:reply-to; bh=miuL2qpnQ/EQAoN5XNZtXsevmCZQEM9+mu1LqN1TZgI=; b=dgHGQkzPOW9xdnnMgmSLC+Yd1GT2f6ICPFHGd0LuLhzZm9Fks5UESjfdffFx3xCcb/ aI0b9YtbIHDrTKGqpQbhhMRHy5uTo9qay3F5JLFnTBtsk862mvOGLbv/0vpt7baitqZq d7L8EWokV7tWaQwmHaTPXiUNNAc7qwg4di3FpToxbO90VrcS4m7AQBT6yXqAaOmY61iE S2aazGuaHcq04bN7pLCy2PPb1LrB+fcj++Cr4Psfq1yQQ18P8ytPs+30SBUZyKw0UIsU RhE67ZB1NBOtPLyY8uR6xEhfMEZShG9L1jmaHMHuK5Zgq9Y6AbXCpGZAYb18Fl54CI6Q LO8g== X-Gm-Message-State: AOJu0Yy/2Rbe5VLwED2b/uWfPUgJSjRPNpEex4snHQCuqSzf6c/SmRLV 5Ca+KjHASmk1YCF7FA9RKfdV8+Z67OJdb2TEquITtoQlGXfv5zSlJx777kS2Om6Anj2nmOAu7Kl vLiV5gmRQkKRJsLLga2m/Kqn0eiaCrYybMt4QqiHsFQhNgvz+O3ESRlNghIO7 X-Gm-Gg: ASbGncvi7CVUdqBVFEa0zv36USuYmxFzv/k5gUqbo62mbLoak3mXsbPzE/l05v2TDcg m27FgegIxt6FDkGdQBK/arbMaYYW6zqRZncsaYrjBps47lfNzIZVVLh+92cwMjxpioLmDlj8xUj APncG1R9F8EY3+bc0sCUrfwJJ3r+mfMTLg7huvijAHULrv7EuGVuoFf0jiP2kln1QLa87Ol6yJl nJlLO9UJAPzSAljHx3e+a54aJxBdfTFuLvsBecOU8g647zHNe9iFKqRvAtz96+sX5fxXLoRXTx9 40B7a/57bahjk2M+MurqkZOgBX8LmDU5aftHzNb65A3INu0= X-Google-Smtp-Source: AGHT+IGuPXxfmB6YvgIZyqhtZtiODk3YOyGG1LPAUf6j8W8zYL5muAdkNzbChTcVPBLPRwBbH0pgysIrHhaW X-Received: by 2002:a05:6e02:1a83:b0:3df:5354:a804 with SMTP id e9e14a558f8ab-3e05c334beamr17068615ab.18.1751490593688; Wed, 02 Jul 2025 14:09:53 -0700 (PDT) Received: from postal.iol.unh.edu (postal.iol.unh.edu. [2606:4100:3880:1234::84]) by smtp-relay.gmail.com with ESMTPS id e9e14a558f8ab-3df49ffdfb4sm7831665ab.11.2025.07.02.14.09.53 (version=TLS1_2 cipher=ECDHE-ECDSA-AES128-GCM-SHA256 bits=128/128); Wed, 02 Jul 2025 14:09:53 -0700 (PDT) X-Relaying-Domain: iol.unh.edu Date: Wed, 02 Jul 2025 14:09:53 -0700 (PDT) Message-ID: <6865a021.050a0220.15feba.a791SMTPIN_ADDED_MISSING@mx.google.com> Received: from [172.21.0.7] (unknown [172.18.0.240]) by postal.iol.unh.edu (Postfix) with ESMTP id 39D786051830; Wed, 2 Jul 2025 17:09:53 -0400 (EDT) Subject: |SUCCESS| pw154953-154957 [PATCH] [v8,5/5] net/dpaa2: enable softwar From: dpdklab@iol.unh.edu To: Test Report Cc: dpdk-test-reports@iol.unh.edu In-Reply-To: <20250702095144.3087250-6-g.singh@nxp.com> References: <20250702095144.3087250-6-g.singh@nxp.com> Content-Type: text/plain X-BeenThere: test-report@dpdk.org X-Mailman-Version: 2.1.29 Precedence: list List-Id: automatic DPDK test reports List-Unsubscribe: , List-Archive: List-Post: List-Help: List-Subscribe: , Errors-To: test-report-bounces@dpdk.org Test-Label: iol-abi-testing Test-Status: SUCCESS http://dpdk.org/patch/154957 _Testing PASS_ Submitter: Gagandeep Singh Date: Wednesday, July 02 2025 09:51:44 DPDK git baseline: Repo:dpdk Branch: master CommitID:b18c543ec30729ccc7708a6e064a1f9db5d8c11f 154953-154957 --> testing pass Upstream job id: Generic-DPDK-Compile-ABI#132711 Test environment and result as below: +-------------------------------+----------+ | Environment | abi_test | +===============================+==========+ | CentOS Stream 9 | PASS | +-------------------------------+----------+ | Fedora Linux 40 | PASS | +-------------------------------+----------+ | CentOS Stream 10 | PASS | +-------------------------------+----------+ | Debian GNU/Linux 12 | PASS | +-------------------------------+----------+ | Red Hat Enterprise Linux 9.5 | PASS | +-------------------------------+----------+ | openSUSE Leap 15.6 | PASS | +-------------------------------+----------+ | Fedora Linux 41 | PASS | +-------------------------------+----------+ | Red Hat Enterprise Linux 8.10 | PASS | +-------------------------------+----------+ | Ubuntu 22.04 | PASS | +-------------------------------+----------+ | Ubuntu 24.04 | PASS | +-------------------------------+----------+ CentOS Stream 9 Kernel: 5.15 Compiler: gcc gcc (GCC) 11.5.0 20240719 (Red Hat 11.5.0-7) Fedora Linux 40 Kernel: 5.15 Compiler: clang gcc (GCC) 14.2.1 20240912 (Red Hat 14.2.1-3) CentOS Stream 10 Kernel: 5.15 Compiler: gcc gcc (GCC) 14.2.1 20250110 (Red Hat 14.2.1-8) Debian GNU/Linux 12 Kernel: 5.15 Compiler: gcc gcc (Debian 12.2.0-14+deb12u1) 12.2.0 Red Hat Enterprise Linux 9.5 Kernel: 5.15 Compiler: gcc gcc (GCC) 11.5.0 20240719 (Red Hat 11.5.0-2) openSUSE Leap 15.6 Kernel: 5.15 Compiler: gcc gcc (SUSE Linux) 7.5.0 Fedora Linux 41 Kernel: 5.15 Compiler: clang gcc (GCC) 14.3.1 20250523 (Red Hat 14.3.1-1) Red Hat Enterprise Linux 8.10 Kernel: 5.15 Compiler: gcc gcc (GCC) 8.5.0 20210514 (Red Hat 8.5.0-22) Ubuntu 22.04 Kernel: 5.15 Compiler: gcc gcc (Ubuntu 11.4.0-1ubuntu1~22.04) 11.4.0 Ubuntu 24.04 Kernel: 5.15 Compiler: gcc gcc (Ubuntu 13.3.0-6ubuntu2~24.04) 13.3.0 To view detailed results, visit: https://lab.dpdk.org/results/dashboard/patchsets/33565/ UNH-IOL DPDK Community Lab To manage your email subscriptions, visit: https://lab.dpdk.org/results/dashboard/preferences/subscriptions/