From mboxrd@z Thu Jan 1 00:00:00 1970 Return-Path: Received: from mails.dpdk.org (mails.dpdk.org [217.70.189.124]) by inbox.dpdk.org (Postfix) with ESMTP id 787F946AD5 for ; Wed, 2 Jul 2025 23:10:27 +0200 (CEST) Received: from mails.dpdk.org (localhost [127.0.0.1]) by mails.dpdk.org (Postfix) with ESMTP id 73D264064C; Wed, 2 Jul 2025 23:10:27 +0200 (CEST) Received: from mail-il1-f228.google.com (mail-il1-f228.google.com [209.85.166.228]) by mails.dpdk.org (Postfix) with ESMTP id 70E144064C for ; Wed, 2 Jul 2025 23:10:25 +0200 (CEST) Received: by mail-il1-f228.google.com with SMTP id e9e14a558f8ab-3df2ddd39c6so17996995ab.0 for ; Wed, 02 Jul 2025 14:10:25 -0700 (PDT) DKIM-Signature: v=1; a=rsa-sha256; c=relaxed/relaxed; d=iol.unh.edu; s=unh-iol; t=1751490625; x=1752095425; darn=dpdk.org; h=references:in-reply-to:cc:to:from:subject:message-id:date:from:to :cc:subject:date:message-id:reply-to; bh=5fW1yBoHf7RD9Hcqer+05zpS2xQ/H+dmMEb55e883gw=; b=AIu+cRO+zs0ODj4oDmxF/p21pmlFT8raSOJkyjzQVM2V43zRBqiQzegrut38nmM46I 7JuKtM6vlBHk4HPhDj//jyuQ/Rrgl5ZW1PK48RUY+/JjwJBHhEgsKJ01TN3KiZ1YN9jk GJswLH8evX169NcsVAAyDx7ce/JXKovsQpwKg= X-Google-DKIM-Signature: v=1; a=rsa-sha256; c=relaxed/relaxed; d=1e100.net; s=20230601; t=1751490625; x=1752095425; h=references:in-reply-to:cc:to:from:subject:message-id:date :x-gm-message-state:from:to:cc:subject:date:message-id:reply-to; bh=5fW1yBoHf7RD9Hcqer+05zpS2xQ/H+dmMEb55e883gw=; b=wxEfSUFeLpgyxzMFNiKUO0+OjDTatJDrnyyfdpg+AOCUGhx+M08vmMaalRBE/lOMAQ DWoK8RmE0UZF6NyshcB+oz6RG509e8BqLu4duG0GD/hCiu5x2UhhxvdoK08YU9ceBfFp rEk6XaKiTrFlztpv2jti/yjAKvdq0aFBZEffUerUVpXzxfATWrHKkGE1tAxv/fZGREfO M6p0OI2PRk75DlvAr5Fw57uBN14HwOvb3L5+YJ0PNLA0kkhgPimgG2rHfle82TgV4Q0N uUJ+M4fonia1cNwqMWNu8Kmc39U94wyLSvqDmc+c6vkz2ont7dQH5Iwj5PVD0NAV3LWo x1uQ== X-Gm-Message-State: AOJu0YwMObAndd4ytQgKuZRQ7694EDmI2C19KVg/wgBGu++7pVZxahCu 5d+q1SBS5OYWVGlidIUzGF/bdnOk3pXUWFScXi+hbNsazM4bSf8iKXrGGNxb8HeTQVXIGir5afv NyGcrXWkR0N93qYnjo5n6WmoI9clK8zH66IYNSbdxmtncCjdJi1+8odjgtPuU X-Gm-Gg: ASbGncsWHNVa1qRywkvjQxEoZUjlrlYg+U9UqelJbgFHtHPDJDEDfnCZzO+TFRnX9KI HcOYXWMce8msdZ9U2HrjxWT4PkeiMWzaLO87euqdbejVaIu/xAqZFFfJTjUvGl3eVC7PxVu8qwY W6S0mbWqtwWLUjMuLuJs2O3qWPnOxaSdtFqZemgm2mbb4E1KFaiy6HSTxkWEKMlT160zyB6U6zF d9hnwtGQDWYKtuiBRoFfah+ZDYfETlIGJxqpue+r7PKHR0UYTjFrOvHl6v2jDKjJ077N7hHz6dm ckqhyTOAuckl5cXqux7Jo9i8p8tkmR41REOPQzGuYsyDYcE= X-Google-Smtp-Source: AGHT+IE+8h3B0ZePBLec9o8/ZfRvnEw/p29jm6LrDE6OIemRP5pj8Y3U/ioJmAEQQ6K/r+3bRDrqttQe9Pmc X-Received: by 2002:a05:6e02:3311:b0:3e0:5430:3143 with SMTP id e9e14a558f8ab-3e0549dc4ecmr46541385ab.15.1751490624779; Wed, 02 Jul 2025 14:10:24 -0700 (PDT) Received: from postal.iol.unh.edu (postal.iol.unh.edu. [2606:4100:3880:1234::84]) by smtp-relay.gmail.com with ESMTPS id e9e14a558f8ab-3e0579d4b30sm1187745ab.20.2025.07.02.14.10.24 (version=TLS1_2 cipher=ECDHE-ECDSA-AES128-GCM-SHA256 bits=128/128); Wed, 02 Jul 2025 14:10:24 -0700 (PDT) X-Relaying-Domain: iol.unh.edu Date: Wed, 02 Jul 2025 14:10:24 -0700 (PDT) Message-ID: <6865a040.050a0220.2d8d33.678bSMTPIN_ADDED_MISSING@mx.google.com> Received: from [172.21.0.10] (unknown [172.18.0.240]) by postal.iol.unh.edu (Postfix) with ESMTP id 4D5636051835; Wed, 2 Jul 2025 17:10:24 -0400 (EDT) Subject: |SUCCESS| pw154953-154957 [PATCH] [v8,5/5] net/dpaa2: enable softwar From: dpdklab@iol.unh.edu To: Test Report Cc: dpdk-test-reports@iol.unh.edu In-Reply-To: <20250702095144.3087250-6-g.singh@nxp.com> References: <20250702095144.3087250-6-g.singh@nxp.com> Content-Type: text/plain X-BeenThere: test-report@dpdk.org X-Mailman-Version: 2.1.29 Precedence: list List-Id: automatic DPDK test reports List-Unsubscribe: , List-Archive: List-Post: List-Help: List-Subscribe: , Errors-To: test-report-bounces@dpdk.org Test-Label: iol-abi-testing Test-Status: SUCCESS http://dpdk.org/patch/154957 _Testing PASS_ Submitter: Gagandeep Singh Date: Wednesday, July 02 2025 09:51:44 DPDK git baseline: Repo:dpdk Branch: master CommitID:b18c543ec30729ccc7708a6e064a1f9db5d8c11f 154953-154957 --> testing pass Upstream job id: Generic-DPDK-Compile-ABI#132710 Test environment and result as below: +-------------------------------+----------+ | Environment | abi_test | +===============================+==========+ | CentOS Stream 9 | PASS | +-------------------------------+----------+ | Fedora Linux 40 | PASS | +-------------------------------+----------+ | CentOS Stream 10 | PASS | +-------------------------------+----------+ | Debian GNU/Linux 12 | PASS | +-------------------------------+----------+ | Red Hat Enterprise Linux 9.5 | PASS | +-------------------------------+----------+ | openSUSE Leap 15.6 | PASS | +-------------------------------+----------+ | Fedora Linux 41 | PASS | +-------------------------------+----------+ | Red Hat Enterprise Linux 8.10 | PASS | +-------------------------------+----------+ | Ubuntu 22.04 | PASS | +-------------------------------+----------+ | Ubuntu 24.04 | PASS | +-------------------------------+----------+ CentOS Stream 9 Kernel: 5.15 Compiler: gcc gcc (GCC) 11.5.0 20240719 (Red Hat 11.5.0-7) Fedora Linux 40 Kernel: 5.15 Compiler: clang gcc (GCC) 14.2.1 20240912 (Red Hat 14.2.1-3) CentOS Stream 10 Kernel: 5.15 Compiler: gcc gcc (GCC) 14.2.1 20250110 (Red Hat 14.2.1-8) Debian GNU/Linux 12 Kernel: 5.15 Compiler: gcc gcc (Debian 12.2.0-14+deb12u1) 12.2.0 Red Hat Enterprise Linux 9.5 Kernel: 5.15 Compiler: gcc gcc (GCC) 11.5.0 20240719 (Red Hat 11.5.0-2) openSUSE Leap 15.6 Kernel: 5.15 Compiler: gcc gcc (SUSE Linux) 7.5.0 Fedora Linux 41 Kernel: 5.15 Compiler: clang gcc (GCC) 14.3.1 20250523 (Red Hat 14.3.1-1) Red Hat Enterprise Linux 8.10 Kernel: 5.15 Compiler: gcc gcc (GCC) 8.5.0 20210514 (Red Hat 8.5.0-22) Ubuntu 22.04 Kernel: 5.15 Compiler: gcc gcc (Ubuntu 11.4.0-1ubuntu1~22.04) 11.4.0 Ubuntu 24.04 Kernel: 5.15 Compiler: gcc gcc (Ubuntu 13.3.0-6ubuntu2~24.04) 13.3.0 To view detailed results, visit: https://lab.dpdk.org/results/dashboard/patchsets/33565/ UNH-IOL DPDK Community Lab To manage your email subscriptions, visit: https://lab.dpdk.org/results/dashboard/preferences/subscriptions/