From mboxrd@z Thu Jan 1 00:00:00 1970 Return-Path: Received: from mails.dpdk.org (mails.dpdk.org [217.70.189.124]) by inbox.dpdk.org (Postfix) with ESMTP id 8F17D46AD5 for ; Wed, 2 Jul 2025 23:11:00 +0200 (CEST) Received: from mails.dpdk.org (localhost [127.0.0.1]) by mails.dpdk.org (Postfix) with ESMTP id 8A2B14064C; Wed, 2 Jul 2025 23:11:00 +0200 (CEST) Received: from mail-qt1-f225.google.com (mail-qt1-f225.google.com [209.85.160.225]) by mails.dpdk.org (Postfix) with ESMTP id BEE4C4064C for ; Wed, 2 Jul 2025 23:10:58 +0200 (CEST) Received: by mail-qt1-f225.google.com with SMTP id d75a77b69052e-4a77ffcb795so72598121cf.0 for ; Wed, 02 Jul 2025 14:10:58 -0700 (PDT) DKIM-Signature: v=1; a=rsa-sha256; c=relaxed/relaxed; d=iol.unh.edu; s=unh-iol; t=1751490658; x=1752095458; darn=dpdk.org; h=references:in-reply-to:cc:to:from:subject:message-id:date:from:to :cc:subject:date:message-id:reply-to; bh=+awEm9gJG2pH6nKWe3e3nZXEygNhtVpwa3j3TSRhzEs=; b=iW0Bz/ztj1LBB0O5QBAcGsmBmGS5UT8IwgRi1H3Jt+ZlQAKpaGv5qyL09QqsRo6STm 8Gn7pZlJoXjFi98mV5JdbDBPmeIuYVjdqk81X2rg0OPzw07vLUXCpeAXsUSSoQG08RM6 AxY/Mwr1G0saxGAHsKnNBt2tDOI6IAKBlTjzw= X-Google-DKIM-Signature: v=1; a=rsa-sha256; c=relaxed/relaxed; d=1e100.net; s=20230601; t=1751490658; x=1752095458; h=references:in-reply-to:cc:to:from:subject:message-id:date :x-gm-message-state:from:to:cc:subject:date:message-id:reply-to; bh=+awEm9gJG2pH6nKWe3e3nZXEygNhtVpwa3j3TSRhzEs=; b=vbFEXSD1pe9DaLzKdoahgs/T83BphAxdWc/yvMsk3ZbfGFZ3rr44gWkTl130Hllc5h FGQI66D+kkwcXgIisxRM1/EVfsQeUHvn8Ri2833Qsqi1julaLFwIPGCszsZlT2DBfA3n I5PbMRaxgzlJ5eRl1h4UZPR5pm6Y9dvOJ5ruQ8kY2/4inh5SaUFl0Wn7PuoWx1SEcFsQ RxPCR2AoyBCmaHg1QI1DmePUFRTgWlWoqtSjFlVuwU8jUrpdvkhdmcVDbFDi5zSrEYGe sSjzQqn9xIdufUVPVBRH83TN2HVEGcpb6QWH1u+og9t/CQ5q5KtRvpjQzU8peYXNAFfT t61A== X-Gm-Message-State: AOJu0YwulXXvlsb8VflM0x1tT7d3GioH+R3qP9kwL13rxTr9pogZXyy+ 6/Xe7gWuPMK+2BRIFnBGrJjz2iLqVVKf1TOnUtRjq3deBgJmYQ+L2EczCngCDkO9THZfhtH04mq l89cHJ5IRKJTr0NzFX2Hx6W4f7JxpecAiP2ckJQ/q0Ufnl76Q2RO+H5sECqDz X-Gm-Gg: ASbGncuMO3lMjk7XAaIQ94hUctkW1RO9UegbsfP/lACeYtmyo+10RV/3JPg/XnQXLUR 8j+XBdsXvLcA3Al8fX3YA51UBYCkWSTxIAVjYW3v73f5fZoEFnC0hNBw0JpH+eUGGKr9YqJ2si2 5F2hgJD2vpWee5YopBqXPiqNxDpyBo7/MTu83P4I9ifx5jsCqiFYjmWyKj4jTRZosCrfU2iGo36 9tTuPybEI/8KVeJUnnhHrrXqIIXjS9SHPjFUalHZu6TMdcyCN2X9p6gAizRN04t4Z/oUQK41dTt tiptACx2qAf50cLNyGZpTTY3J+CUI37DUi0hfp3M7em62E8= X-Google-Smtp-Source: AGHT+IHtYiDw/iVXOsmeKC1gXX4ygQZFHg0dPZwRDyzy7Ehi0VSFIknM+HFYsw8oOOBEGUwIVc53ufhVERK5 X-Received: by 2002:ac8:594d:0:b0:494:b1f9:d683 with SMTP id d75a77b69052e-4a987dd1fc1mr12158961cf.49.1751490657949; Wed, 02 Jul 2025 14:10:57 -0700 (PDT) Received: from postal.iol.unh.edu (postal.iol.unh.edu. [2606:4100:3880:1234::84]) by smtp-relay.gmail.com with ESMTPS id d75a77b69052e-4a986743c23sm323051cf.14.2025.07.02.14.10.57 (version=TLS1_2 cipher=ECDHE-ECDSA-AES128-GCM-SHA256 bits=128/128); Wed, 02 Jul 2025 14:10:57 -0700 (PDT) X-Relaying-Domain: iol.unh.edu Date: Wed, 02 Jul 2025 14:10:57 -0700 (PDT) Message-ID: <6865a061.050a0220.44f58.1b18SMTPIN_ADDED_MISSING@mx.google.com> Received: from [172.21.0.7] (unknown [172.18.0.240]) by postal.iol.unh.edu (Postfix) with ESMTP id AAD7C6051830; Wed, 2 Jul 2025 17:10:57 -0400 (EDT) Subject: |SUCCESS| pw154953-154957 [PATCH] [v8,5/5] net/dpaa2: enable softwar From: dpdklab@iol.unh.edu To: Test Report Cc: dpdk-test-reports@iol.unh.edu In-Reply-To: <20250702095144.3087250-6-g.singh@nxp.com> References: <20250702095144.3087250-6-g.singh@nxp.com> Content-Type: text/plain X-BeenThere: test-report@dpdk.org X-Mailman-Version: 2.1.29 Precedence: list List-Id: automatic DPDK test reports List-Unsubscribe: , List-Archive: List-Post: List-Help: List-Subscribe: , Errors-To: test-report-bounces@dpdk.org Test-Label: iol-abi-testing Test-Status: SUCCESS http://dpdk.org/patch/154957 _Testing PASS_ Submitter: Gagandeep Singh Date: Wednesday, July 02 2025 09:51:44 DPDK git baseline: Repo:dpdk Branch: master CommitID:b18c543ec30729ccc7708a6e064a1f9db5d8c11f 154953-154957 --> testing pass Upstream job id: Generic-DPDK-Compile-ABI#132709 Test environment and result as below: +-------------------------------+----------+ | Environment | abi_test | +===============================+==========+ | CentOS Stream 9 | PASS | +-------------------------------+----------+ | Fedora Linux 40 | PASS | +-------------------------------+----------+ | CentOS Stream 10 | PASS | +-------------------------------+----------+ | Debian GNU/Linux 12 | PASS | +-------------------------------+----------+ | Red Hat Enterprise Linux 9.5 | PASS | +-------------------------------+----------+ | openSUSE Leap 15.6 | PASS | +-------------------------------+----------+ | Fedora Linux 41 | PASS | +-------------------------------+----------+ | Red Hat Enterprise Linux 8.10 | PASS | +-------------------------------+----------+ | Ubuntu 22.04 | PASS | +-------------------------------+----------+ | Ubuntu 24.04 | PASS | +-------------------------------+----------+ CentOS Stream 9 Kernel: 5.15 Compiler: gcc gcc (GCC) 11.5.0 20240719 (Red Hat 11.5.0-7) Fedora Linux 40 Kernel: 5.15 Compiler: clang gcc (GCC) 14.2.1 20240912 (Red Hat 14.2.1-3) CentOS Stream 10 Kernel: 5.15 Compiler: gcc gcc (GCC) 14.2.1 20250110 (Red Hat 14.2.1-8) Debian GNU/Linux 12 Kernel: 5.15 Compiler: gcc gcc (Debian 12.2.0-14+deb12u1) 12.2.0 Red Hat Enterprise Linux 9.5 Kernel: 5.15 Compiler: gcc gcc (GCC) 11.5.0 20240719 (Red Hat 11.5.0-2) openSUSE Leap 15.6 Kernel: 5.15 Compiler: gcc gcc (SUSE Linux) 7.5.0 Fedora Linux 41 Kernel: 5.15 Compiler: clang gcc (GCC) 14.3.1 20250523 (Red Hat 14.3.1-1) Red Hat Enterprise Linux 8.10 Kernel: 5.15 Compiler: gcc gcc (GCC) 8.5.0 20210514 (Red Hat 8.5.0-22) Ubuntu 22.04 Kernel: 5.15 Compiler: gcc gcc (Ubuntu 11.4.0-1ubuntu1~22.04) 11.4.0 Ubuntu 24.04 Kernel: 5.15 Compiler: gcc gcc (Ubuntu 13.3.0-6ubuntu2~24.04) 13.3.0 To view detailed results, visit: https://lab.dpdk.org/results/dashboard/patchsets/33565/ UNH-IOL DPDK Community Lab To manage your email subscriptions, visit: https://lab.dpdk.org/results/dashboard/preferences/subscriptions/