From mboxrd@z Thu Jan 1 00:00:00 1970 Return-Path: Received: from mails.dpdk.org (mails.dpdk.org [217.70.189.124]) by inbox.dpdk.org (Postfix) with ESMTP id A467546AD5 for ; Wed, 2 Jul 2025 23:11:36 +0200 (CEST) Received: from mails.dpdk.org (localhost [127.0.0.1]) by mails.dpdk.org (Postfix) with ESMTP id 9F5864064C; Wed, 2 Jul 2025 23:11:36 +0200 (CEST) Received: from mail-qv1-f97.google.com (mail-qv1-f97.google.com [209.85.219.97]) by mails.dpdk.org (Postfix) with ESMTP id 5F5554064C for ; Wed, 2 Jul 2025 23:11:35 +0200 (CEST) Received: by mail-qv1-f97.google.com with SMTP id 6a1803df08f44-6fad8b4c927so48335506d6.0 for ; Wed, 02 Jul 2025 14:11:35 -0700 (PDT) DKIM-Signature: v=1; a=rsa-sha256; c=relaxed/relaxed; d=iol.unh.edu; s=unh-iol; t=1751490694; x=1752095494; darn=dpdk.org; h=references:in-reply-to:cc:to:from:subject:message-id:date:from:to :cc:subject:date:message-id:reply-to; bh=9H0pe3k38xQJ6nU/HABtxcim0HHY6rrSl71MzTaQhu4=; b=dgqaImCSFR+inI/EyP8HhSXkFK432ofZPkvya7TPhUIS1CFsfYcY+IYcBlQRWvwxQ0 1KkgNPmbrHQF7IpR/bY6JeSprlP3MfNz3nWRPtEt1l76+Ni0Kq3crT3DM9xVlWqQfjmW +0+zuavcyfDnzST7NKHgYK8Bg06ZZhmUVPaRg= X-Google-DKIM-Signature: v=1; a=rsa-sha256; c=relaxed/relaxed; d=1e100.net; s=20230601; t=1751490694; x=1752095494; h=references:in-reply-to:cc:to:from:subject:message-id:date :x-gm-message-state:from:to:cc:subject:date:message-id:reply-to; bh=9H0pe3k38xQJ6nU/HABtxcim0HHY6rrSl71MzTaQhu4=; b=VXmXv2V1/SQSJF9Zh6VKeGz0iEL8wojQtv50miY3X462ZXRZXUAudvCvE2SVADkanH QPeIwMCDXON9ITdWwdYdcNu97xI67vwq7M5/z7wc2pcF1dYbEEZa6RZAxZZQFIiYRmzQ khBSYoV2T8UNjm89YrxxQCgA3A7TiBiyAde/qdqe2piHK3zFdaaVDegxVjxRLmmbIsPS mBZe7w5ID3eYuANg/hYS10/LWC+gN1igiQHBlfOTKdmIAcKCqqsHU1r6OpidjhsDLoSX ajX3LLH737cyh9+JlgisG7ARKihacoH/pomPUWX6T4n5FsBaexKvdk4+fVDfsaDegIDe uIWA== X-Gm-Message-State: AOJu0YzG6nhQh3KtMOMNAVxrayorNevJ2cLhbouZdT3C+xrOYTGrTC6X 5hM0/XLvc2ynmG295L+/f4WqqEZ9wAQ3z+4X7OT1vFrJYZDAvGVQaf1bq1J+1jPijj2UA9feNYD gxNy39SY/jjQhnoUizaCZuJc1i2gXCblgrwIcWL2dpC8bHnld+BVMbFXEvirh X-Gm-Gg: ASbGncsZDVdHqt+sAozQ/dtJQJ43nNzhQzLm2+pji8uGVQ55oU5nQeG/vwMXfaVqm5v FGgyMK0uv6mGpxezE6/4l1vpOWHoIoVurXLs3ZoaX/eeiwJUM5DHOVZc4dqdQlQA/ijqQiM4O/U y0eyGbRFVjLtocubeuy9r90m/zW0ePwfZqIgLvI+jp+R+kIZyGTz/o5yGl2swYQ4gJrpOVrS/6x W3w8Q7oYoMcmMycAqufusXog/8e9cRxBxtqjsBQ0rKd1l0UQFwogOIUFV56D3fzH70wKBFg7ReC auuDrbHYU9vkYJ6wsAb+sJih7rpMSPefTB+I+6ZAMCZJGp8= X-Google-Smtp-Source: AGHT+IGMud9v6eWYGGPe+MXN7bfHlAwFYPa+OQ75ZRTquOe1s5yAp3jpW2oId75gXNwBpWwJzXxaXkuSNkjw X-Received: by 2002:a05:6214:3a82:b0:6fb:23:4812 with SMTP id 6a1803df08f44-702bc90d624mr12199236d6.26.1751490694696; Wed, 02 Jul 2025 14:11:34 -0700 (PDT) Received: from postal.iol.unh.edu (postal.iol.unh.edu. [2606:4100:3880:1234::84]) by smtp-relay.gmail.com with ESMTPS id 6a1803df08f44-700c4cc513bsm5259466d6.51.2025.07.02.14.11.34 (version=TLS1_2 cipher=ECDHE-ECDSA-AES128-GCM-SHA256 bits=128/128); Wed, 02 Jul 2025 14:11:34 -0700 (PDT) X-Relaying-Domain: iol.unh.edu Date: Wed, 02 Jul 2025 14:11:34 -0700 (PDT) Message-ID: <6865a086.050a0220.315348.ccceSMTPIN_ADDED_MISSING@mx.google.com> Received: from [172.21.0.9] (unknown [172.18.0.240]) by postal.iol.unh.edu (Postfix) with ESMTP id 6A1F16051830; Wed, 2 Jul 2025 17:11:34 -0400 (EDT) Subject: |SUCCESS| pw154952 [PATCH] net/mlx5: fix inline data size adjustment From: dpdklab@iol.unh.edu To: Test Report Cc: dpdk-test-reports@iol.unh.edu In-Reply-To: <20250702093459.102142-1-shperetz@nvidia.com> References: <20250702093459.102142-1-shperetz@nvidia.com> Content-Type: text/plain X-BeenThere: test-report@dpdk.org X-Mailman-Version: 2.1.29 Precedence: list List-Id: automatic DPDK test reports List-Unsubscribe: , List-Archive: List-Post: List-Help: List-Subscribe: , Errors-To: test-report-bounces@dpdk.org Test-Label: iol-unit-amd64-testing Test-Status: SUCCESS http://dpdk.org/patch/154952 _Testing PASS_ Submitter: Shani Peretz Date: Wednesday, July 02 2025 09:34:59 DPDK git baseline: Repo:dpdk Branch: master CommitID:5c0c1a13c34aa57c6e18f9ba852a9b5807c58b72 154952 --> testing pass Upstream job id: Generic-VM-Unit-Test-DPDK#29657 Test environment and result as below: +-------------------------------+----------------+ | Environment | dpdk_unit_test | +===============================+================+ | CentOS Stream 9 | PASS | +-------------------------------+----------------+ | CentOS Stream 10 | PASS | +-------------------------------+----------------+ | Fedora Linux 40 | PASS | +-------------------------------+----------------+ | Debian GNU/Linux 12 | PASS | +-------------------------------+----------------+ | Fedora Linux 41 | PASS | +-------------------------------+----------------+ | Ubuntu 20.04 | PASS | +-------------------------------+----------------+ | Red Hat Enterprise Linux 9.5 | PASS | +-------------------------------+----------------+ | Ubuntu 24.04 | PASS | +-------------------------------+----------------+ | Ubuntu 22.04 | PASS | +-------------------------------+----------------+ | Red Hat Enterprise Linux 8.10 | PASS | +-------------------------------+----------------+ | Windows Server 2022 | PASS | +-------------------------------+----------------+ CentOS Stream 9 Kernel: 5.15 Compiler: gcc gcc (GCC) 11.5.0 20240719 (Red Hat 11.5.0-7) CentOS Stream 10 Kernel: 5.15 Compiler: gcc gcc (GCC) 14.2.1 20250110 (Red Hat 14.2.1-8) Fedora Linux 40 Kernel: 5.15 Compiler: clang gcc (GCC) 14.2.1 20240912 (Red Hat 14.2.1-3) Debian GNU/Linux 12 Kernel: 5.15 Compiler: gcc gcc (Debian 12.2.0-14+deb12u1) 12.2.0 Fedora Linux 41 Kernel: 5.15 Compiler: clang gcc (GCC) 14.3.1 20250523 (Red Hat 14.3.1-1) Ubuntu 20.04 Kernel: 5.15 Compiler: gcc gcc (Ubuntu 9.4.0-1ubuntu1~20.04.2) 9.4.0 Red Hat Enterprise Linux 9.5 Kernel: 5.15 Compiler: gcc gcc (GCC) 11.5.0 20240719 (Red Hat 11.5.0-2) Ubuntu 24.04 Kernel: 5.15 Compiler: gcc gcc (Ubuntu 13.3.0-6ubuntu2~24.04) 13.3.0 Ubuntu 22.04 Kernel: 5.15 Compiler: gcc gcc (Ubuntu 11.4.0-1ubuntu1~22.04) 11.4.0 Red Hat Enterprise Linux 8.10 Kernel: 5.15 Compiler: gcc gcc (GCC) 8.5.0 20210514 (Red Hat 8.5.0-22) Windows Server 2022 Kernel: 10.0.20348.2031 Compiler: clang 15.0.7, gcc 14.1.0 (MinGW), and MSVC VS 19.39.33521 To view detailed results, visit: https://lab.dpdk.org/results/dashboard/patchsets/33564/ UNH-IOL DPDK Community Lab To manage your email subscriptions, visit: https://lab.dpdk.org/results/dashboard/preferences/subscriptions/