From mboxrd@z Thu Jan 1 00:00:00 1970 Return-Path: Received: from mails.dpdk.org (mails.dpdk.org [217.70.189.124]) by inbox.dpdk.org (Postfix) with ESMTP id AD8E946AD5 for ; Wed, 2 Jul 2025 23:11:38 +0200 (CEST) Received: from mails.dpdk.org (localhost [127.0.0.1]) by mails.dpdk.org (Postfix) with ESMTP id A865B4064C; Wed, 2 Jul 2025 23:11:38 +0200 (CEST) Received: from mail-oa1-f98.google.com (mail-oa1-f98.google.com [209.85.160.98]) by mails.dpdk.org (Postfix) with ESMTP id 80E0B4064C for ; Wed, 2 Jul 2025 23:11:37 +0200 (CEST) Received: by mail-oa1-f98.google.com with SMTP id 586e51a60fabf-2eff5d1c7efso3168724fac.2 for ; Wed, 02 Jul 2025 14:11:37 -0700 (PDT) DKIM-Signature: v=1; a=rsa-sha256; c=relaxed/relaxed; d=iol.unh.edu; s=unh-iol; t=1751490696; x=1752095496; darn=dpdk.org; h=references:in-reply-to:cc:to:from:subject:message-id:date:from:to :cc:subject:date:message-id:reply-to; bh=Ga5abeb4FqVpEjUkLvNF0aI5pFh+IO09gLE6x6xrqWo=; b=hhIXyHpY5z6wbS1aUtZ2d5K1A+Hn0QhpRx/Wj/70Cso9wvLBKKcNo5dxMENWyV3bBw Or0jLaKdRCvelOjOVHxmHsSzSsZglgTcso4ZKWI6bLb/wNRB+YBf8ZrozFOvWP3Xji9B Dw9uuDatREY1rBf6oV6d6zSPYL9XEzvS7qovU= X-Google-DKIM-Signature: v=1; a=rsa-sha256; c=relaxed/relaxed; d=1e100.net; s=20230601; t=1751490696; x=1752095496; h=references:in-reply-to:cc:to:from:subject:message-id:date :x-gm-message-state:from:to:cc:subject:date:message-id:reply-to; bh=Ga5abeb4FqVpEjUkLvNF0aI5pFh+IO09gLE6x6xrqWo=; b=tgWfoSag7hQTM5Iij+gOiSquXdtuwViA2zlN7cJEpRH8IWDzTrDdXHWi/r9QCdhfi1 DbxnWfpxf0RvpP4WmYv5lntuDbTXOus9boWWqGzPk97rta8D1bfbUhSgCbzfj+NA3r2h xypePC3+AYVAV9HRBtldBEFaf7Utxcfa7uJ/W+qMSG/s6H28emGfoZZUkIsuHdM0P46H hmxuVNEwr5AEFYro1rBjr7OTmOAcLVh2jVQJjQR/8cCxpEc+2eMXSX9fAXdUKxVAAMrK bqX6iuvP18kA9vr6xVNZgG8uzPwpT9MEIXniUQsWoILyjYrybW2dhzTXHp5ZmGdfDek/ 3JkA== X-Gm-Message-State: AOJu0Ywm+vdcZhaefXpZT8BwfsVfYCy+CKymEbvM07foqKxS166hwGZj qrJbDd/O4ONx3eIkTc+RJ628n6y9Lm7qN/+pS7Zn5g5eSf5oMxJCSI/MEUqvNqececzGk5OERbs lbVjnDVRbPCjoHes4dMWJtqVcMhEKK+6NFl704Hcl11FZYlBne8j7bchg5PAU X-Gm-Gg: ASbGncuidsaQkhvEnRBQuVL1jJqyWft3LUMvSrLLM/EbZ6OSdFF+/B5olhAe3XePrb9 MAPHpPK9UOtCLdecK3cmx/vWB+5P6hXmrQF6Is3JUAHtL7xuLvg2sTPERR7LKlP8LLTGyFkQqDY pCcsI+n/9yS4i+DVkvCCvwBPRo7SAKJCHqTpCYvfulsmX6Gx0KKfqeY5oJZiZw0xU+xYEgn/YbZ 9jPo9NnkATRKfLcu/3q1cg2+Ll7FDTHelnM2ksdKKsAbvT3jen5pgRD3o6+owZZH+SdNb7eKUP3 /8tmWzOlXEIRl9jhMK1i9ScijrnHZ3lh+2ZOyLRpq85+5R0= X-Google-Smtp-Source: AGHT+IHXdshZi+NjTug/BBwCFgrP4tV5CCh+cByubI5rxIjI5DnhH7MRAUOXEdkIVgy3CJI9y0LlViXFN0Hu X-Received: by 2002:a05:6870:d03:b0:2d4:ce45:6988 with SMTP id 586e51a60fabf-2f5a84831dbmr3633882fac.6.1751490696590; Wed, 02 Jul 2025 14:11:36 -0700 (PDT) Received: from postal.iol.unh.edu (postal.iol.unh.edu. [2606:4100:3880:1234::84]) by smtp-relay.gmail.com with ESMTPS id 586e51a60fabf-2efd504111fsm845484fac.35.2025.07.02.14.11.36 (version=TLS1_2 cipher=ECDHE-ECDSA-AES128-GCM-SHA256 bits=128/128); Wed, 02 Jul 2025 14:11:36 -0700 (PDT) X-Relaying-Domain: iol.unh.edu Date: Wed, 02 Jul 2025 14:11:36 -0700 (PDT) Message-ID: <6865a088.050a0220.2bf632.d040SMTPIN_ADDED_MISSING@mx.google.com> Received: from [172.21.0.5] (unknown [172.18.0.240]) by postal.iol.unh.edu (Postfix) with ESMTP id 3CACA6051830; Wed, 2 Jul 2025 17:11:36 -0400 (EDT) Subject: |WARNING| pw154966 [PATCH] net/mlx5: fix crash when using meter in t From: dpdklab@iol.unh.edu To: Test Report Cc: dpdk-test-reports@iol.unh.edu In-Reply-To: <20250702123617.1814996-1-14pwcse1224@uetpeshawar.edu.pk> References: <20250702123617.1814996-1-14pwcse1224@uetpeshawar.edu.pk> Content-Type: text/plain X-BeenThere: test-report@dpdk.org X-Mailman-Version: 2.1.29 Precedence: list List-Id: automatic DPDK test reports List-Unsubscribe: , List-Archive: List-Post: List-Help: List-Subscribe: , Errors-To: test-report-bounces@dpdk.org Test-Label: iol-compile-amd64-testing Test-Status: WARNING http://dpdk.org/patch/154966 _Testing issues_ Submitter: Khadem Ullah <14pwcse1224@uetpeshawar.edu.pk> Date: Wednesday, July 02 2025 12:36:17 DPDK git baseline: Repo:dpdk Branch: master CommitID:5c0c1a13c34aa57c6e18f9ba852a9b5807c58b72 154966 --> testing issues Upstream job id: Generic-DPDK-Compile-Meson#404619 Test environment and result as below: +-------------------------------+--------------------+-------------------+------------------+-------------------------+-------------------+----------------------+ | Environment | dpdk_meson_compile | dpdk_compile_spdk | dpdk_compile_ovs | dpdk_llvm_clang_compile | dpdk_msvc_compile | dpdk_mingw64_compile | +===============================+====================+===================+==================+=========================+===================+======================+ | CentOS Stream 9 | PASS | PASS | SKIPPED | SKIPPED | SKIPPED | SKIPPED | +-------------------------------+--------------------+-------------------+------------------+-------------------------+-------------------+----------------------+ | Fedora Linux 40 | PASS | PASS | SKIPPED | SKIPPED | SKIPPED | SKIPPED | +-------------------------------+--------------------+-------------------+------------------+-------------------------+-------------------+----------------------+ | CentOS Stream 10 | PASS | SKIPPED | SKIPPED | SKIPPED | SKIPPED | SKIPPED | +-------------------------------+--------------------+-------------------+------------------+-------------------------+-------------------+----------------------+ | Debian GNU/Linux 12 | PASS | PASS | SKIPPED | SKIPPED | SKIPPED | SKIPPED | +-------------------------------+--------------------+-------------------+------------------+-------------------------+-------------------+----------------------+ | Fedora Linux 41 | PASS | WARN | PASS | SKIPPED | SKIPPED | SKIPPED | +-------------------------------+--------------------+-------------------+------------------+-------------------------+-------------------+----------------------+ | openSUSE Leap 15.6 | PASS | SKIPPED | SKIPPED | SKIPPED | SKIPPED | SKIPPED | +-------------------------------+--------------------+-------------------+------------------+-------------------------+-------------------+----------------------+ | Red Hat Enterprise Linux 8.10 | PASS | SKIPPED | SKIPPED | SKIPPED | SKIPPED | SKIPPED | +-------------------------------+--------------------+-------------------+------------------+-------------------------+-------------------+----------------------+ | Red Hat Enterprise Linux 9.5 | PASS | SKIPPED | SKIPPED | SKIPPED | SKIPPED | SKIPPED | +-------------------------------+--------------------+-------------------+------------------+-------------------------+-------------------+----------------------+ | Ubuntu 20.04 | PASS | SKIPPED | SKIPPED | SKIPPED | SKIPPED | SKIPPED | +-------------------------------+--------------------+-------------------+------------------+-------------------------+-------------------+----------------------+ | Ubuntu 22.04 | PASS | PASS | SKIPPED | SKIPPED | SKIPPED | SKIPPED | +-------------------------------+--------------------+-------------------+------------------+-------------------------+-------------------+----------------------+ | Ubuntu 24.04 | PASS | PASS | PASS | SKIPPED | SKIPPED | SKIPPED | +-------------------------------+--------------------+-------------------+------------------+-------------------------+-------------------+----------------------+ | FreeBSD 14.2 | PASS | SKIPPED | SKIPPED | SKIPPED | SKIPPED | SKIPPED | +-------------------------------+--------------------+-------------------+------------------+-------------------------+-------------------+----------------------+ | Alpine Linux 3.22.0 | PASS | SKIPPED | SKIPPED | SKIPPED | SKIPPED | SKIPPED | +-------------------------------+--------------------+-------------------+------------------+-------------------------+-------------------+----------------------+ | Windows Server 2022 | SKIPPED | SKIPPED | SKIPPED | PASS | PASS | PASS | +-------------------------------+--------------------+-------------------+------------------+-------------------------+-------------------+----------------------+ ==== 20 line log output for Fedora Linux 41 (dpdk_compile_spdk): ==== --- Failed to get log output --- ==== End log output ==== CentOS Stream 9 Kernel: 5.15 Compiler: gcc gcc (GCC) 11.5.0 20240719 (Red Hat 11.5.0-7) Fedora Linux 40 Kernel: 5.15 Compiler: clang gcc (GCC) 14.2.1 20240912 (Red Hat 14.2.1-3) CentOS Stream 10 Kernel: 5.15 Compiler: gcc gcc (GCC) 14.2.1 20250110 (Red Hat 14.2.1-8) Debian GNU/Linux 12 Kernel: 5.15 Compiler: gcc gcc (Debian 12.2.0-14+deb12u1) 12.2.0 Fedora Linux 41 Kernel: 5.15 Compiler: gcc gcc (GCC) 14.3.1 20250523 (Red Hat 14.3.1-1) openSUSE Leap 15.6 Kernel: 5.15 Compiler: gcc gcc (SUSE Linux) 7.5.0 Red Hat Enterprise Linux 8.10 Kernel: 5.15 Compiler: gcc gcc (GCC) 8.5.0 20210514 (Red Hat 8.5.0-22) Red Hat Enterprise Linux 9.5 Kernel: 5.15 Compiler: gcc gcc (GCC) 11.5.0 20240719 (Red Hat 11.5.0-2) Ubuntu 20.04 Kernel: 5.15 Compiler: gcc gcc (Ubuntu 9.4.0-1ubuntu1~20.04.2) 9.4.0 Ubuntu 22.04 Kernel: 5.15 Compiler: gcc gcc (Ubuntu 11.4.0-1ubuntu1~22.04) 11.4.0 Ubuntu 24.04 Kernel: 5.15 Compiler: gcc gcc (Ubuntu 13.3.0-6ubuntu2~24.04) 13.3.0 FreeBSD 14.2 Kernel: 14.2-RELEASE Compiler: clang 18.1.6 Alpine Linux 3.22.0 Kernel: 5.15 Compiler: gcc gcc (Alpine 14.2.0) 14.2.0 Windows Server 2022 Kernel: 10.0.20348.2031 Compiler: clang 15.0.7, gcc 14.1.0 (MinGW), and MSVC VS 19.39.33521 To view detailed results, visit: https://lab.dpdk.org/results/dashboard/patchsets/33567/ UNH-IOL DPDK Community Lab To manage your email subscriptions, visit: https://lab.dpdk.org/results/dashboard/preferences/subscriptions/