From mboxrd@z Thu Jan 1 00:00:00 1970 Return-Path: Received: from mails.dpdk.org (mails.dpdk.org [217.70.189.124]) by inbox.dpdk.org (Postfix) with ESMTP id B7ED446AD5 for ; Wed, 2 Jul 2025 23:11:40 +0200 (CEST) Received: from mails.dpdk.org (localhost [127.0.0.1]) by mails.dpdk.org (Postfix) with ESMTP id B41954064C; Wed, 2 Jul 2025 23:11:40 +0200 (CEST) Received: from mail-pl1-f226.google.com (mail-pl1-f226.google.com [209.85.214.226]) by mails.dpdk.org (Postfix) with ESMTP id 862EE4064C for ; Wed, 2 Jul 2025 23:11:39 +0200 (CEST) Received: by mail-pl1-f226.google.com with SMTP id d9443c01a7336-236470b2dceso42752995ad.0 for ; Wed, 02 Jul 2025 14:11:39 -0700 (PDT) DKIM-Signature: v=1; a=rsa-sha256; c=relaxed/relaxed; d=iol.unh.edu; s=unh-iol; t=1751490699; x=1752095499; darn=dpdk.org; h=references:in-reply-to:cc:to:from:subject:message-id:date:from:to :cc:subject:date:message-id:reply-to; bh=iW1zUAD8Z4JkRFMpr7NE+xN+nrusktM7bXQEQV6zVV8=; b=MpewHrxW2XxmTqqHXdUJ6XIKmOHbHBWVE98TFzqnu4zXrcBiqWBY/9VPH+tgCnxRsS 2epq7sHo3jUxbGqLJbvUC4GlpbfFRfG1JHOrM7N+5XW4IpIHa2l5LY89ulO43DFdX7KV eZ8n4QRiAKOGqErzSmvaWWtw2ou8PnP9sPDVE= X-Google-DKIM-Signature: v=1; a=rsa-sha256; c=relaxed/relaxed; d=1e100.net; s=20230601; t=1751490699; x=1752095499; h=references:in-reply-to:cc:to:from:subject:message-id:date :x-gm-message-state:from:to:cc:subject:date:message-id:reply-to; bh=iW1zUAD8Z4JkRFMpr7NE+xN+nrusktM7bXQEQV6zVV8=; b=MImweR9H8YIMYIwcfWQQ/5ws1gtayYpjLRGSUd31gEWSTeBt9zr09+/O1AUkcKopRa U0eCVhcUtr+Y/rAgZntjA+mj5xaHNGcWOr1rjkIkY1XklqE9R2lBaauRulVQk9wYENDi mvSA2lLGoAKvikdice3vfkELTn8FfacSbL+R38uGQk+UhIVMomCORMCWyQNzbSWqtL7D ptevvvNZbivVyjuoZgHsCtuybq15qEnCmUdkPVasnpHMxHJkr3gWJH4YT3dg07h1a7bD D/Qsunuv9jQv8uybvrgKFwWtyE5pgHqQtbbLMvpCXZDInDmV6uLYDRAUrOM5Fm+/Zzd+ MQYQ== X-Gm-Message-State: AOJu0YwRee14RvvII+GQSSmmx04jjXVStYQDMh7uNgZtfzJmUgH+vmOC ZGaIB8T+boKvfRWPajTu3GdumkiF4P6RiPIdgXPYYqC1knNJvzeTV/iAGddkFLJuwu4qQSmvFwD TAACr3JIsvGn3r4S+CVeRnd9Qj1XPU+TWsr0J4I63BU2W X-Gm-Gg: ASbGnct7J5INATNs+exO8q6J4NoR45ED9q5RHotX0QEr2LdOEdzbb+t0EBZ1G03+yeK rsXUKrgoIwV1wEYZZJ6mHWtJNBIl+Yb93mI7XQsITlkUajrkB5MK67/zHhwR0/JZSEp0AzRty5p T9aG0sYkZF8EXZBcquUyxB/0FQcr2xfF+XiPsEPbH7v32apdWMhzpa1mtSOOJ/9KyZ9wFfrwwAB /wFBscrMqBBTVGUKLwZiYsjK7KygeecKRWo8DkQj7B5UmG2lbGsWAnBgAjENvHZbXDn5gMfu1e1 dBHwkcrlaQM0hehW0b9CsxDz/4FyMrIRr2EyL2Uhi/SlIa5bVk13K59mQrYAvKiMiZvhIw== X-Google-Smtp-Source: AGHT+IG5y9LoU2EOXc4TuyLHjWokhHioc0lXA2nuU/IEHxodNdaeNXV6148oDsU42VErPyxL++CnP2i0mJFQ X-Received: by 2002:a17:903:2f8b:b0:234:98eb:8eda with SMTP id d9443c01a7336-23c6e58adbamr79338765ad.28.1751490698653; Wed, 02 Jul 2025 14:11:38 -0700 (PDT) Received: from postal.iol.unh.edu (postal.iol.unh.edu. [132.177.123.84]) by smtp-relay.gmail.com with ESMTPS id d9443c01a7336-23acb37677asm7236085ad.100.2025.07.02.14.11.38 (version=TLS1_2 cipher=ECDHE-ECDSA-AES128-GCM-SHA256 bits=128/128); Wed, 02 Jul 2025 14:11:38 -0700 (PDT) X-Relaying-Domain: iol.unh.edu Date: Wed, 02 Jul 2025 14:11:38 -0700 (PDT) Message-ID: <6865a08a.170a0220.20f4cd.781bSMTPIN_ADDED_MISSING@mx.google.com> Received: from [172.21.0.11] (unknown [172.18.0.240]) by postal.iol.unh.edu (Postfix) with ESMTP id 2A2F36051830; Wed, 2 Jul 2025 17:11:38 -0400 (EDT) Subject: |SUCCESS| pw154953-154957 [PATCH] [v8,5/5] net/dpaa2: enable softwar From: dpdklab@iol.unh.edu To: Test Report Cc: dpdk-test-reports@iol.unh.edu In-Reply-To: <20250702095144.3087250-6-g.singh@nxp.com> References: <20250702095144.3087250-6-g.singh@nxp.com> Content-Type: text/plain X-BeenThere: test-report@dpdk.org X-Mailman-Version: 2.1.29 Precedence: list List-Id: automatic DPDK test reports List-Unsubscribe: , List-Archive: List-Post: List-Help: List-Subscribe: , Errors-To: test-report-bounces@dpdk.org Test-Label: iol-abi-testing Test-Status: SUCCESS http://dpdk.org/patch/154957 _Testing PASS_ Submitter: Gagandeep Singh Date: Wednesday, July 02 2025 09:51:44 DPDK git baseline: Repo:dpdk Branch: master CommitID:b18c543ec30729ccc7708a6e064a1f9db5d8c11f 154953-154957 --> testing pass Upstream job id: Generic-DPDK-Compile-ABI#132712 Test environment and result as below: +-------------------------------+----------+ | Environment | abi_test | +===============================+==========+ | CentOS Stream 9 | PASS | +-------------------------------+----------+ | Fedora Linux 40 | PASS | +-------------------------------+----------+ | CentOS Stream 10 | PASS | +-------------------------------+----------+ | Debian GNU/Linux 12 | PASS | +-------------------------------+----------+ | Red Hat Enterprise Linux 9.5 | PASS | +-------------------------------+----------+ | openSUSE Leap 15.6 | PASS | +-------------------------------+----------+ | Fedora Linux 41 | PASS | +-------------------------------+----------+ | Red Hat Enterprise Linux 8.10 | PASS | +-------------------------------+----------+ | Ubuntu 22.04 | PASS | +-------------------------------+----------+ | Ubuntu 24.04 | PASS | +-------------------------------+----------+ CentOS Stream 9 Kernel: 5.15 Compiler: gcc gcc (GCC) 11.5.0 20240719 (Red Hat 11.5.0-7) Fedora Linux 40 Kernel: 5.15 Compiler: clang gcc (GCC) 14.2.1 20240912 (Red Hat 14.2.1-3) CentOS Stream 10 Kernel: 5.15 Compiler: gcc gcc (GCC) 14.2.1 20250110 (Red Hat 14.2.1-8) Debian GNU/Linux 12 Kernel: 5.15 Compiler: gcc gcc (Debian 12.2.0-14+deb12u1) 12.2.0 Red Hat Enterprise Linux 9.5 Kernel: 5.15 Compiler: gcc gcc (GCC) 11.5.0 20240719 (Red Hat 11.5.0-2) openSUSE Leap 15.6 Kernel: 5.15 Compiler: gcc gcc (SUSE Linux) 7.5.0 Fedora Linux 41 Kernel: 5.15 Compiler: clang gcc (GCC) 14.3.1 20250523 (Red Hat 14.3.1-1) Red Hat Enterprise Linux 8.10 Kernel: 5.15 Compiler: gcc gcc (GCC) 8.5.0 20210514 (Red Hat 8.5.0-22) Ubuntu 22.04 Kernel: 5.15 Compiler: gcc gcc (Ubuntu 11.4.0-1ubuntu1~22.04) 11.4.0 Ubuntu 24.04 Kernel: 5.15 Compiler: gcc gcc (Ubuntu 13.3.0-6ubuntu2~24.04) 13.3.0 To view detailed results, visit: https://lab.dpdk.org/results/dashboard/patchsets/33565/ UNH-IOL DPDK Community Lab To manage your email subscriptions, visit: https://lab.dpdk.org/results/dashboard/preferences/subscriptions/