From mboxrd@z Thu Jan 1 00:00:00 1970 Return-Path: Received: from mails.dpdk.org (mails.dpdk.org [217.70.189.124]) by inbox.dpdk.org (Postfix) with ESMTP id CA44846AD5 for ; Wed, 2 Jul 2025 23:12:04 +0200 (CEST) Received: from mails.dpdk.org (localhost [127.0.0.1]) by mails.dpdk.org (Postfix) with ESMTP id C4A244064C; Wed, 2 Jul 2025 23:12:04 +0200 (CEST) Received: from mail-io1-f99.google.com (mail-io1-f99.google.com [209.85.166.99]) by mails.dpdk.org (Postfix) with ESMTP id 67B974064C for ; Wed, 2 Jul 2025 23:12:03 +0200 (CEST) Received: by mail-io1-f99.google.com with SMTP id ca18e2360f4ac-875dd57d63bso16429339f.0 for ; Wed, 02 Jul 2025 14:12:03 -0700 (PDT) DKIM-Signature: v=1; a=rsa-sha256; c=relaxed/relaxed; d=iol.unh.edu; s=unh-iol; t=1751490723; x=1752095523; darn=dpdk.org; h=references:in-reply-to:cc:to:from:subject:message-id:date:from:to :cc:subject:date:message-id:reply-to; bh=1Qua5AwMGKX231/s1M0aiGniWv6gjabG1nvNV8w/hCE=; b=SN8ID0djJ/fOj+XXNjx0CPdtE01Y3GQKhsV3BCWCmBXkJXwJXazODBGLUky5yWrqqy twA1wE5gZN7bO4TbXdLDbjfQYqrtZBC/AiLikou71jujd0Mpv0DqBoigqWgqyNrohjSZ saYdh+WzIN/V8eUA3tHEGvASq1nHPorbI/d8U= X-Google-DKIM-Signature: v=1; a=rsa-sha256; c=relaxed/relaxed; d=1e100.net; s=20230601; t=1751490723; x=1752095523; h=references:in-reply-to:cc:to:from:subject:message-id:date :x-gm-message-state:from:to:cc:subject:date:message-id:reply-to; bh=1Qua5AwMGKX231/s1M0aiGniWv6gjabG1nvNV8w/hCE=; b=Lx6KiErHiwZ4pC+TRgApowpMr0GxbAMDyBkp3/gUPmqTo7Sd3QN16QHswCMop26e8j Ykxa5et4D5Mv5PKa/RbCxPPy2OIbU64BaEQti8XFT6kn7S5Bzn4mCmJ383VPxQKDo0Zk 3BOZgeVQHD4U1bZtebC5qGcG8Kcx6p6ca0tFFhwfhff+Et45PuwbIyxRhlyLxb6DK4qM 1dbT27XQ82hugfD2RDJ+k6P0Qlo0ixXELGdyDmepKf5NSVMxng/w8nYZbEHTjrfZ9Ty0 /dkllUv/A/oL8iQNa3J0CLDDr1KrOiBsUBYiCt5xi65AL15ewhMyqfxwxpbRXVqfuPBY yecg== X-Gm-Message-State: AOJu0YxJWlDU9T2LVb11YC3s66k0crKV/FuxL/7nSo5IRzPLxhZZnGHD /a5e/O/uVXM3o3Wjy6GavavzuLbqt2EgNZJ4cimIbFlN9VxStc5jy1nJcvwxk70gochsjHOeJni pxvWtcwU3NxApmCg5xCCFm8/jpXpEDavDDSho1xZLwMfDmfgC+P00CErShSJa X-Gm-Gg: ASbGncsyF396RPWHn+wCiaLKerqxvQHkKnGEjuJpr4tCPax6uuabKE4NDehmX10Zfxw SwqeHxNYRlLy4EU5vCZdN2pk3SJYDYfM2AzPaQCrignt8zhTVsFG03r384zYlobF6qBx7oEG+Ha dVf+NReUQ29QXUyVBtIzzMOYfxl904G94mjyyL3I0uNr4lPAiLIEmjGixjQfkXXnpRgweSIABF1 yFMjXZNpGVPzDL450dJdu2vl39aYl1SGXG9zp+tbWijFnThOu+OILjVWUkRCHTu+MsR27SDIjYt A3RNu+NbCroIMfwMpTd1AZ9LEa2X6MLVC/b17Zwv5LhrPxU= X-Google-Smtp-Source: AGHT+IGBYLK9pEj/1qaA51qOOIaGiuMBVwKeOtSDr7raN+0/jGzktuWXcNFtvWKXupD0JGYDT6Tf56k5YUCL X-Received: by 2002:a5d:9306:0:b0:85d:ad56:af88 with SMTP id ca18e2360f4ac-876d24a5222mr118312639f.1.1751490722678; Wed, 02 Jul 2025 14:12:02 -0700 (PDT) Received: from postal.iol.unh.edu (postal.iol.unh.edu. [2606:4100:3880:1234::84]) by smtp-relay.gmail.com with ESMTPS id ca18e2360f4ac-876879fef00sm50439039f.1.2025.07.02.14.12.02 (version=TLS1_2 cipher=ECDHE-ECDSA-AES128-GCM-SHA256 bits=128/128); Wed, 02 Jul 2025 14:12:02 -0700 (PDT) X-Relaying-Domain: iol.unh.edu Date: Wed, 02 Jul 2025 14:12:02 -0700 (PDT) Message-ID: <6865a0a2.050a0220.d895e.bcc3SMTPIN_ADDED_MISSING@mx.google.com> Received: from [172.21.0.7] (unknown [172.18.0.240]) by postal.iol.unh.edu (Postfix) with ESMTP id 31D406051830; Wed, 2 Jul 2025 17:12:02 -0400 (EDT) Subject: |SUCCESS| pw154966 [PATCH] net/mlx5: fix crash when using meter in t From: dpdklab@iol.unh.edu To: Test Report Cc: dpdk-test-reports@iol.unh.edu In-Reply-To: <20250702123617.1814996-1-14pwcse1224@uetpeshawar.edu.pk> References: <20250702123617.1814996-1-14pwcse1224@uetpeshawar.edu.pk> Content-Type: text/plain X-BeenThere: test-report@dpdk.org X-Mailman-Version: 2.1.29 Precedence: list List-Id: automatic DPDK test reports List-Unsubscribe: , List-Archive: List-Post: List-Help: List-Subscribe: , Errors-To: test-report-bounces@dpdk.org Test-Label: iol-compile-arm64-testing Test-Status: SUCCESS http://dpdk.org/patch/154966 _Testing PASS_ Submitter: Khadem Ullah <14pwcse1224@uetpeshawar.edu.pk> Date: Wednesday, July 02 2025 12:36:17 DPDK git baseline: Repo:dpdk Branch: master CommitID:5c0c1a13c34aa57c6e18f9ba852a9b5807c58b72 154966 --> testing pass Upstream job id: Generic-DPDK-Compile-Meson#404636 Test environment and result as below: +------------------------------+--------------------+ | Environment | dpdk_meson_compile | +==============================+====================+ | Ubuntu 20.04 | PASS | +------------------------------+--------------------+ | Red Hat Enterprise Linux 9.5 | PASS | +------------------------------+--------------------+ | Fedora Linux 41 | PASS | +------------------------------+--------------------+ | Debian GNU/Linux 12 | PASS | +------------------------------+--------------------+ | Fedora Linux 40 | PASS | +------------------------------+--------------------+ | Ubuntu 24.04 | PASS | +------------------------------+--------------------+ | CentOS Stream 10 | PASS | +------------------------------+--------------------+ | Ubuntu 22.04 | PASS | +------------------------------+--------------------+ | CentOS Stream 9 | PASS | +------------------------------+--------------------+ Ubuntu 20.04 Kernel: 5.15 Compiler: aarch64-linux-gnu-gcc gcc (Ubuntu 9.4.0-1ubuntu1~20.04.2) 9.4.0 Red Hat Enterprise Linux 9.5 Kernel: 5.4 Compiler: gcc gcc (GCC) 11.5.0 20240719 (Red Hat 11.5.0-2) Fedora Linux 41 Kernel: 5.4 Compiler: clang gcc (GCC) 14.3.1 20250523 (Red Hat 14.3.1-1) Debian GNU/Linux 12 Kernel: 5.4 Compiler: gcc gcc (Debian 12.2.0-14+deb12u1) 12.2.0 Fedora Linux 40 Kernel: 5.4 Compiler: clang gcc (GCC) 14.2.1 20240912 (Red Hat 14.2.1-3) Ubuntu 24.04 Kernel: 5.4 Compiler: gcc gcc (Ubuntu 13.3.0-6ubuntu2~24.04) 13.3.0 CentOS Stream 10 Kernel: 5.4 Compiler: gcc gcc (GCC) 14.2.1 20250110 (Red Hat 14.2.1-8) Ubuntu 22.04 Kernel: 5.4 Compiler: gcc gcc (Ubuntu 11.4.0-1ubuntu1~22.04) 11.4.0 CentOS Stream 9 Kernel: 5.4 Compiler: gcc gcc (GCC) 11.5.0 20240719 (Red Hat 11.5.0-7) To view detailed results, visit: https://lab.dpdk.org/results/dashboard/patchsets/33567/ UNH-IOL DPDK Community Lab To manage your email subscriptions, visit: https://lab.dpdk.org/results/dashboard/preferences/subscriptions/