From mboxrd@z Thu Jan 1 00:00:00 1970 Return-Path: Received: from mails.dpdk.org (mails.dpdk.org [217.70.189.124]) by inbox.dpdk.org (Postfix) with ESMTP id EC43646AA1 for ; Wed, 2 Jul 2025 23:13:18 +0200 (CEST) Received: from mails.dpdk.org (localhost [127.0.0.1]) by mails.dpdk.org (Postfix) with ESMTP id E61FC4064C; Wed, 2 Jul 2025 23:13:18 +0200 (CEST) Received: from mail-vk1-f226.google.com (mail-vk1-f226.google.com [209.85.221.226]) by mails.dpdk.org (Postfix) with ESMTP id 3A21A4064C for ; Wed, 2 Jul 2025 23:13:17 +0200 (CEST) Received: by mail-vk1-f226.google.com with SMTP id 71dfb90a1353d-5313eff2649so1670591e0c.0 for ; Wed, 02 Jul 2025 14:13:17 -0700 (PDT) DKIM-Signature: v=1; a=rsa-sha256; c=relaxed/relaxed; d=iol.unh.edu; s=unh-iol; t=1751490796; x=1752095596; darn=dpdk.org; h=references:in-reply-to:cc:to:from:subject:message-id:date:from:to :cc:subject:date:message-id:reply-to; bh=fgD+GON7JpQzQllTkwsIO1V+YIRjclabcmYQPKhbpxc=; b=Dv1K3N6Msvf7NpKW9CGY2hW3opi6eUBKZ9RVRN0MZ4WLq3igpqEUIXnw6YEgu50P6N +7Cv71bHEO/NOYUMqpnld+MQsE7VbXGICBVi8hYaY1mLquhYcPyWXjRVDe/dPahzkuUA zDWwzPxBZbM9JBpx7O1bUe8UmNY8dykcFuzLY= X-Google-DKIM-Signature: v=1; a=rsa-sha256; c=relaxed/relaxed; d=1e100.net; s=20230601; t=1751490796; x=1752095596; h=references:in-reply-to:cc:to:from:subject:message-id:date :x-gm-message-state:from:to:cc:subject:date:message-id:reply-to; bh=fgD+GON7JpQzQllTkwsIO1V+YIRjclabcmYQPKhbpxc=; b=KlyknWsp4PJG7BwnzqOcXkGsHRE9HyVGfi3bcE/9oKaViu4kASbRVneGBlJvfqMN0k hIU4v0mJDl8g6LF3vzyNirP5w78y0Ob5y8kkudOwk9dKoRRSsplOv3OIDz8HtpuqXKek 4aXnS8PWI5KmgehVgXrTFeO6f7S4zGB3b+rrfJbSVIYVMmb9smAj89pCWZdv2A9UF/7V qa3MHQvnH6iTEgDaF0PlVHfiUKEoC7w4qypewJBTGpKQt5NcSxATIFV1RNT2x1cr6zOl JP5xE08QpyrrcgDp7L+ivIOCbNIjvY4ppLjDMpcj6qD2tMYWUkLRjnF+aa6r5EUtGT+0 l11w== X-Gm-Message-State: AOJu0YyxD7PQ/CnxDOgCmvEo1bGf6tzbagZBfpbqZ66XFO2PjmEL7P4v abbbAeonknwCRZi1nq5BHQ5oBD9+Ey38IXCa/ztISv9IJfOzfDDkeEwXC8DGrNDl1YPHI7LZNfQ gfRDE4Atf8iHQFP0I8qqBTqjQ/PFdXbp55+opJuwopXJl X-Gm-Gg: ASbGnctIuS4JxXspb9xITZa8C8L4DeXNcB6oqsVg+H0OAoG0zBmrFycw7z2eabDqlVu 8QO7Ncn8A3FU+3qbZwnWRynJqnUkivAj0zJz/dlNYPY1OBYDNjjvsDDREBM9LKRhlN/g5hFpfkC n71ToXCYWUZakzrus5ya/8PtxnVu9YGanZ1SIAcgCyVI+uNhE0IWF4cbOuoLo4XrPUVEH5ARYy/ +mM6YsQGo2jKWsLq14frFpBg/vLqNqTGPVUmAjvHokAYBxw/rCZnZkPan4LLgP3C0sTBOXTidhq ctLkm1p3Aha/IDLagqJ4gcQ78CQUO7ohw51h5p+9uPoHTMocuxsE2Q4A0USblXRwCRQp9Q== X-Google-Smtp-Source: AGHT+IGMWMqmoen259rIaqicfem2hpdwHGAm7JGhazLuArNvgQ7NM5PhMIkzISOTEMNKEdzdImWc4iERds6e X-Received: by 2002:a05:6102:5114:b0:4e9:8f71:bd6e with SMTP id ada2fe7eead31-4f17453b5d9mr1535334137.0.1751490795907; Wed, 02 Jul 2025 14:13:15 -0700 (PDT) Received: from postal.iol.unh.edu (postal.iol.unh.edu. [132.177.123.84]) by smtp-relay.gmail.com with ESMTPS id a1e0cc1a2514c-884d1c36a40sm353126241.5.2025.07.02.14.13.15 (version=TLS1_2 cipher=ECDHE-ECDSA-AES128-GCM-SHA256 bits=128/128); Wed, 02 Jul 2025 14:13:15 -0700 (PDT) X-Relaying-Domain: iol.unh.edu Date: Wed, 02 Jul 2025 14:13:15 -0700 (PDT) Message-ID: <6865a0eb.b00a0220.24a2e6.4c92SMTPIN_ADDED_MISSING@mx.google.com> Received: from [172.21.0.6] (unknown [172.18.0.240]) by postal.iol.unh.edu (Postfix) with ESMTP id 8E3846051830; Wed, 2 Jul 2025 17:13:15 -0400 (EDT) Subject: |WARNING| pw154969 [PATCH] [v2] build/x86: fix support for older com From: dpdklab@iol.unh.edu To: Test Report Cc: dpdk-test-reports@iol.unh.edu In-Reply-To: <20250702160138.3441279-1-bruce.richardson@intel.com> References: <20250702160138.3441279-1-bruce.richardson@intel.com> Content-Type: text/plain X-BeenThere: test-report@dpdk.org X-Mailman-Version: 2.1.29 Precedence: list List-Id: automatic DPDK test reports List-Unsubscribe: , List-Archive: List-Post: List-Help: List-Subscribe: , Errors-To: test-report-bounces@dpdk.org Test-Label: iol-unit-amd64-testing Test-Status: WARNING http://dpdk.org/patch/154969 _Testing issues_ Submitter: Bruce Richardson Date: Wednesday, July 02 2025 16:00:45 DPDK git baseline: Repo:dpdk Branch: master CommitID:bd546772e1449ccc0789db338cc398815fa2636d 154969 --> testing issues Upstream job id: Generic-Unit-Test-DPDK#351904 Test environment and result as below: +-------------------------------+----------------+ | Environment | dpdk_unit_test | +===============================+================+ | CentOS Stream 10 | WARN | +-------------------------------+----------------+ | CentOS Stream 9 | WARN | +-------------------------------+----------------+ | Fedora Linux 40 | WARN | +-------------------------------+----------------+ | Fedora Linux 41 | WARN | +-------------------------------+----------------+ | Debian GNU/Linux 12 | WARN | +-------------------------------+----------------+ | Red Hat Enterprise Linux 9.5 | WARN | +-------------------------------+----------------+ | Ubuntu 24.04 | WARN | +-------------------------------+----------------+ | Ubuntu 20.04 | WARN | +-------------------------------+----------------+ | Red Hat Enterprise Linux 8.10 | WARN | +-------------------------------+----------------+ | Ubuntu 22.04 | WARN | +-------------------------------+----------------+ ==== 20 line log output for Ubuntu 22.04 (dpdk_unit_test): ==== Compiler for C supports arguments -Wpointer-arith: YES Compiler for C supports arguments -Wsign-compare: YES Compiler for C supports arguments -Wstrict-prototypes: YES Compiler for C supports arguments -Wundef: YES Compiler for C supports arguments -Wwrite-strings: YES Compiler for C supports arguments -Wno-packed-not-aligned: YES Compiler for C supports arguments -Wno-missing-field-initializers: YES Compiler for C supports arguments -fzero-init-padding-bits=all: NO Fetching value of define "__AVX2__" : 1 Fetching value of define "__znver1__" : Fetching value of define "__znver2__" : Fetching value of define "__znver3__" : Fetching value of define "__znver4__" : Fetching value of define "__znver5__" : Program objdump found: YES (/usr/bin/objdump) Compiler for C supports arguments -march=x86-64-v4: YES config/x86/meson.build:76:6: ERROR: List item must be one of , not A full log can be found at /root/workspace/Generic-Unit-Test-DPDK/dpdk/build/meson-logs/meson-log.txt ==== End log output ==== CentOS Stream 10 Kernel: 5.15 Compiler: gcc gcc (GCC) 14.2.1 20250110 (Red Hat 14.2.1-8) CentOS Stream 9 Kernel: 5.15 Compiler: gcc gcc (GCC) 11.5.0 20240719 (Red Hat 11.5.0-7) Fedora Linux 40 Kernel: 5.15 Compiler: clang gcc (GCC) 14.2.1 20240912 (Red Hat 14.2.1-3) Fedora Linux 41 Kernel: 5.15 Compiler: gcc gcc (GCC) 14.3.1 20250523 (Red Hat 14.3.1-1) Debian GNU/Linux 12 Kernel: 5.15 Compiler: gcc gcc (Debian 12.2.0-14+deb12u1) 12.2.0 Red Hat Enterprise Linux 9.5 Kernel: 5.15 Compiler: gcc gcc (GCC) 11.5.0 20240719 (Red Hat 11.5.0-2) Ubuntu 24.04 Kernel: 5.15 Compiler: gcc gcc (Ubuntu 13.3.0-6ubuntu2~24.04) 13.3.0 Ubuntu 20.04 Kernel: 5.15 Compiler: gcc gcc (Ubuntu 9.4.0-1ubuntu1~20.04.2) 9.4.0 Red Hat Enterprise Linux 8.10 Kernel: 5.15 Compiler: gcc gcc (GCC) 8.5.0 20210514 (Red Hat 8.5.0-22) Ubuntu 22.04 Kernel: 5.15 Compiler: gcc gcc (Ubuntu 11.4.0-1ubuntu1~22.04) 11.4.0 To view detailed results, visit: https://lab.dpdk.org/results/dashboard/patchsets/33570/ UNH-IOL DPDK Community Lab To manage your email subscriptions, visit: https://lab.dpdk.org/results/dashboard/preferences/subscriptions/