From mboxrd@z Thu Jan 1 00:00:00 1970 Return-Path: Received: from mails.dpdk.org (mails.dpdk.org [217.70.189.124]) by inbox.dpdk.org (Postfix) with ESMTP id 162D846AA1 for ; Wed, 2 Jul 2025 23:13:36 +0200 (CEST) Received: from mails.dpdk.org (localhost [127.0.0.1]) by mails.dpdk.org (Postfix) with ESMTP id 11CFD4064C; Wed, 2 Jul 2025 23:13:36 +0200 (CEST) Received: from mail-pl1-f227.google.com (mail-pl1-f227.google.com [209.85.214.227]) by mails.dpdk.org (Postfix) with ESMTP id 3B9D54064C for ; Wed, 2 Jul 2025 23:13:35 +0200 (CEST) Received: by mail-pl1-f227.google.com with SMTP id d9443c01a7336-22c33677183so64076405ad.2 for ; Wed, 02 Jul 2025 14:13:35 -0700 (PDT) DKIM-Signature: v=1; a=rsa-sha256; c=relaxed/relaxed; d=iol.unh.edu; s=unh-iol; t=1751490814; x=1752095614; darn=dpdk.org; h=references:in-reply-to:cc:to:from:subject:message-id:date:from:to :cc:subject:date:message-id:reply-to; bh=3YD0RvO9sLwkP1m/FYJLcOmq+rhymJfBRkqTjH76cMs=; b=c3Z/xx2flaBsgz5eKCxRmCqRJHPi+F1PDqii5P4dhpLoEOIpyya5y61fM6ax+6h5oa ETF0GxGb7VXxtvg/7ZeyR5uHohxRHhMaLS+kDlYoaguavnHdBXV7T1M3SWWemy3Li9/u V2kgA5hEzSd1nNmmL9cGa7cpjrUTsfK+ud8as= X-Google-DKIM-Signature: v=1; a=rsa-sha256; c=relaxed/relaxed; d=1e100.net; s=20230601; t=1751490814; x=1752095614; h=references:in-reply-to:cc:to:from:subject:message-id:date :x-gm-message-state:from:to:cc:subject:date:message-id:reply-to; bh=3YD0RvO9sLwkP1m/FYJLcOmq+rhymJfBRkqTjH76cMs=; b=DoMbMn1H3tAmAra4eWllJ/dzq24Gaqc4EntRNOahv+bbdcuOlKz2cLq+BmfyOjW6Wy /VE0pBN7ouqNmW5+Ym49oC8Z0N+Dch1ilzKWbhQMPG3+lCgI0ST1w5VxU9jBqLse4a30 TiVvdRnG/75KwQZ/8zfCkwhx7TWNMAxJbzVFym6+z4WguAkdLKlEwGC31tLZfH74xj4T 0EudVS/XIbpTMfV8cW7v62qe4RH3R6aWAxnGpt54zXjWO/KZtSxiPVtLi12cG1QGGqpu 7NfFkO0pUNehnr38BPFxn5tmfPBm0dg7UO2i/UZtEKK7BSK3U+4NN97/qNGgFugxmG26 8UXw== X-Gm-Message-State: AOJu0YytUqX/TiLVmnsodCR3nFiOs8qOmu0TZUF7+OLc3ULuXWtY2IF/ RBD0JCbcSpx5UvP4rgQNhE2HJhRywpzs0JjrEn4rIB6ZGVwWqztMypeRIBAIvx5vMzsYDwBvzXC P4OGOxLaAr1D1mO+l4gsfjKG5kIFECebT1P8CLJF9C6E9 X-Gm-Gg: ASbGnctqSlyPERS23KPMejTu3mcGaogyYDulbmPs74QAzSMCUdm8UN98Bm2tzBpHbvF QAyw5+nTJZ97C/aaYQ5xVyG3YQJWImnKFq+b0bZG2LCJ/T1zv4CGZEMq6Wlv1T7VlTjKJDdpO/r oWS3g3Jrv4Jqvz/9XRWSc9A0RodIo+MXYpfis4NOisTJYQvkutXhVySokF6z7PxvV6VkpCRtB// L31b1ww5b8wxgCF3Jmf1/i3Hr7ONKx/+GuUxUUdb4jnOUkgK85lcDQmBDDcRkO93t+4CqPjKkev 0num6g25DMXNdPf9htVMK+DPZ6px7jgja3S2XVxBVFWUCyQyiTIyYRfzNjRfOgltwAo/iA== X-Google-Smtp-Source: AGHT+IEPT6+fTeKxqbsJyqHV5qjypYxATevt/DspZpGTHFKJdVo7fCgYGhIAGyFAinFm3vVTmmEaobh5dh0q X-Received: by 2002:a17:90b:38ce:b0:311:c596:5c6f with SMTP id 98e67ed59e1d1-31a9d5e8df9mr1092383a91.17.1751490814360; Wed, 02 Jul 2025 14:13:34 -0700 (PDT) Received: from postal.iol.unh.edu (postal.iol.unh.edu. [132.177.123.84]) by smtp-relay.gmail.com with ESMTPS id 98e67ed59e1d1-31a9cc6a3c2sm32038a91.6.2025.07.02.14.13.34 (version=TLS1_2 cipher=ECDHE-ECDSA-AES128-GCM-SHA256 bits=128/128); Wed, 02 Jul 2025 14:13:34 -0700 (PDT) X-Relaying-Domain: iol.unh.edu Date: Wed, 02 Jul 2025 14:13:34 -0700 (PDT) Message-ID: <6865a0fe.170a0220.1cc4d3.19c1SMTPIN_ADDED_MISSING@mx.google.com> Received: from [172.21.0.6] (unknown [172.18.0.240]) by postal.iol.unh.edu (Postfix) with ESMTP id D29D36051830; Wed, 2 Jul 2025 17:13:33 -0400 (EDT) Subject: |WARNING| pw154969 [PATCH] [v2] build/x86: fix support for older com From: dpdklab@iol.unh.edu To: Test Report Cc: dpdk-test-reports@iol.unh.edu In-Reply-To: <20250702160138.3441279-1-bruce.richardson@intel.com> References: <20250702160138.3441279-1-bruce.richardson@intel.com> Content-Type: text/plain X-BeenThere: test-report@dpdk.org X-Mailman-Version: 2.1.29 Precedence: list List-Id: automatic DPDK test reports List-Unsubscribe: , List-Archive: List-Post: List-Help: List-Subscribe: , Errors-To: test-report-bounces@dpdk.org Test-Label: iol-unit-amd64-testing Test-Status: WARNING http://dpdk.org/patch/154969 _Testing issues_ Submitter: Bruce Richardson Date: Wednesday, July 02 2025 16:00:45 DPDK git baseline: Repo:dpdk Branch: master CommitID:bd546772e1449ccc0789db338cc398815fa2636d 154969 --> testing issues Upstream job id: Generic-Unit-Test-DPDK#351897 Test environment and result as below: +-------------------------------+----------------+ | Environment | dpdk_unit_test | +===============================+================+ | CentOS Stream 10 | WARN | +-------------------------------+----------------+ | CentOS Stream 9 | WARN | +-------------------------------+----------------+ | Fedora Linux 40 | WARN | +-------------------------------+----------------+ | Fedora Linux 41 | WARN | +-------------------------------+----------------+ | Debian GNU/Linux 12 | WARN | +-------------------------------+----------------+ | Red Hat Enterprise Linux 9.5 | WARN | +-------------------------------+----------------+ | Ubuntu 24.04 | WARN | +-------------------------------+----------------+ | Ubuntu 20.04 | WARN | +-------------------------------+----------------+ | Red Hat Enterprise Linux 8.10 | WARN | +-------------------------------+----------------+ | Ubuntu 22.04 | WARN | +-------------------------------+----------------+ ==== 20 line log output for Ubuntu 22.04 (dpdk_unit_test): ==== Compiler for C supports arguments -Wpointer-arith: YES Compiler for C supports arguments -Wsign-compare: YES Compiler for C supports arguments -Wstrict-prototypes: YES Compiler for C supports arguments -Wundef: YES Compiler for C supports arguments -Wwrite-strings: YES Compiler for C supports arguments -Wno-packed-not-aligned: YES Compiler for C supports arguments -Wno-missing-field-initializers: YES Compiler for C supports arguments -fzero-init-padding-bits=all: NO Fetching value of define "__AVX2__" : 1 Fetching value of define "__znver1__" : Fetching value of define "__znver2__" : Fetching value of define "__znver3__" : Fetching value of define "__znver4__" : Fetching value of define "__znver5__" : Program objdump found: YES (/usr/bin/objdump) Compiler for C supports arguments -march=x86-64-v4: YES config/x86/meson.build:76:6: ERROR: List item must be one of , not A full log can be found at /root/workspace/Generic-Unit-Test-DPDK/dpdk/build/meson-logs/meson-log.txt ==== End log output ==== CentOS Stream 10 Kernel: 5.15 Compiler: gcc gcc (GCC) 14.2.1 20250110 (Red Hat 14.2.1-8) CentOS Stream 9 Kernel: 5.15 Compiler: gcc gcc (GCC) 11.5.0 20240719 (Red Hat 11.5.0-7) Fedora Linux 40 Kernel: 5.15 Compiler: clang gcc (GCC) 14.2.1 20240912 (Red Hat 14.2.1-3) Fedora Linux 41 Kernel: 5.15 Compiler: gcc gcc (GCC) 14.3.1 20250523 (Red Hat 14.3.1-1) Debian GNU/Linux 12 Kernel: 5.15 Compiler: gcc gcc (Debian 12.2.0-14+deb12u1) 12.2.0 Red Hat Enterprise Linux 9.5 Kernel: 5.15 Compiler: gcc gcc (GCC) 11.5.0 20240719 (Red Hat 11.5.0-2) Ubuntu 24.04 Kernel: 5.15 Compiler: gcc gcc (Ubuntu 13.3.0-6ubuntu2~24.04) 13.3.0 Ubuntu 20.04 Kernel: 5.15 Compiler: gcc gcc (Ubuntu 9.4.0-1ubuntu1~20.04.2) 9.4.0 Red Hat Enterprise Linux 8.10 Kernel: 5.15 Compiler: gcc gcc (GCC) 8.5.0 20210514 (Red Hat 8.5.0-22) Ubuntu 22.04 Kernel: 5.15 Compiler: gcc gcc (Ubuntu 11.4.0-1ubuntu1~22.04) 11.4.0 To view detailed results, visit: https://lab.dpdk.org/results/dashboard/patchsets/33570/ UNH-IOL DPDK Community Lab To manage your email subscriptions, visit: https://lab.dpdk.org/results/dashboard/preferences/subscriptions/