From mboxrd@z Thu Jan 1 00:00:00 1970 Return-Path: Received: from mails.dpdk.org (mails.dpdk.org [217.70.189.124]) by inbox.dpdk.org (Postfix) with ESMTP id 276E646AA1 for ; Wed, 2 Jul 2025 23:13:48 +0200 (CEST) Received: from mails.dpdk.org (localhost [127.0.0.1]) by mails.dpdk.org (Postfix) with ESMTP id 1FB074064C; Wed, 2 Jul 2025 23:13:48 +0200 (CEST) Received: from mail-pf1-f226.google.com (mail-pf1-f226.google.com [209.85.210.226]) by mails.dpdk.org (Postfix) with ESMTP id C630E4064C for ; Wed, 2 Jul 2025 23:13:47 +0200 (CEST) Received: by mail-pf1-f226.google.com with SMTP id d2e1a72fcca58-74924255af4so4184634b3a.1 for ; Wed, 02 Jul 2025 14:13:47 -0700 (PDT) DKIM-Signature: v=1; a=rsa-sha256; c=relaxed/relaxed; d=iol.unh.edu; s=unh-iol; t=1751490827; x=1752095627; darn=dpdk.org; h=references:in-reply-to:cc:to:from:subject:message-id:date:from:to :cc:subject:date:message-id:reply-to; bh=gf8zB83SiuvcEerdxbidBXwegvxk3MIqgV45K02oI2Y=; b=BliAZLonZolK9GChWv6x/CfkfpqBTWJSee6hzl6psjxi/399CwcecIX7Bo6QUNW0Aq EZW04ZDlEpg2646j3mafgEYjhGiLP3WiuK6mrI8/WRY6t+ecwwqppyo3/o7aY2389n62 nSS+0NekGutDVY5YfUc5hGfQnGUCjJJ1BOtEo= X-Google-DKIM-Signature: v=1; a=rsa-sha256; c=relaxed/relaxed; d=1e100.net; s=20230601; t=1751490827; x=1752095627; h=references:in-reply-to:cc:to:from:subject:message-id:date :x-gm-message-state:from:to:cc:subject:date:message-id:reply-to; bh=gf8zB83SiuvcEerdxbidBXwegvxk3MIqgV45K02oI2Y=; b=v05nXILioZ1Xnd19YaezYSogYsG6fMik8ikbchs0hbOh7MCUJYxhI4uPFH983VoEdf B1Updt6CLWYaStJGvS9C0bYzaQ6S5qb/pHS6s6ET7cAr8zpks+z4qSQ1fUP9wZ2q+yOQ l2b8EEVg2Na3Ov2i3lZFmKvFJV1mybhpNEG24VKF1OXj5V/V2ovQRFlMLY6fZNdeyQAy NJHfC24QxNBb75ssW8iL8abyYndic3LVhppzfvqfpxkELU8c5l3RbJFD/1wGhxfk0fwn 0DxbQcRzCTwO8B1hg/MMZzLRTGNr/FfGuJfe6i/SOCWLFndN80mff75SaKa2AXqz7ANS PvBw== X-Gm-Message-State: AOJu0YymrMrBRoUUogww5Yax/+Vxm7K+mzOlQRPcfAL43b/b04bulZeZ tIMNC/sOAywDQYyYqNijgG/yhiR722YM9Q0+wARNP7lYhaSjaxqzF/r0x7YLloHD8g67XOdHVCK zQCVAuY7zOyvjG6Eq+TNluhSPIFpgAwIgkV/c3zOTtLPoV4p9/n1rtBaTVSNE X-Gm-Gg: ASbGncvldrFjUlH+MwZPou5S3AlpPGZhe4EuRzM4hAisbpMRsj1tM8CzKdeAGNY9asY r/gYqIThGPGRa2OeBebGmP3Vv2g0LsyElj0lMsQGexzp6Kg8ANRWtaQrts6Fgz/1NYXo0bYMJFI YyKqAt6vO1hzSvdI+I4OXpA76q3ueNeeYMQ3vcSDjLt8Heh/0dPO2j7A7meiiLoDNN7K5lC51dc 2w4mLd1wmgXdfJIn+4ytsCVBLZCsl6rIGukRso31Q7c7t3MEC6ZSZyxmWd2vA4G6Mwe4wQmxE3x w63iFlPU5XARVQzofXGrTVx78PZqHUaetPkxjNLHD8tHpLE= X-Google-Smtp-Source: AGHT+IEGfKQdCA9pEJE0SIJG+H4viIZNai372TZV5D54466UIrKrkmGmSDXOctRQnNi6X4I0JFRrfXvaiUlU X-Received: by 2002:a05:6a21:498:b0:1f5:7eee:bb10 with SMTP id adf61e73a8af0-222d7daa43dmr8078976637.8.1751490826922; Wed, 02 Jul 2025 14:13:46 -0700 (PDT) Received: from postal.iol.unh.edu (postal.iol.unh.edu. [2606:4100:3880:1234::84]) by smtp-relay.gmail.com with ESMTPS id 41be03b00d2f7-b34e321d7a8sm648252a12.22.2025.07.02.14.13.46 (version=TLS1_2 cipher=ECDHE-ECDSA-AES128-GCM-SHA256 bits=128/128); Wed, 02 Jul 2025 14:13:46 -0700 (PDT) X-Relaying-Domain: iol.unh.edu Date: Wed, 02 Jul 2025 14:13:46 -0700 (PDT) Message-ID: <6865a10a.630a0220.29e602.3becSMTPIN_ADDED_MISSING@mx.google.com> Received: from [172.21.0.5] (unknown [172.18.0.240]) by postal.iol.unh.edu (Postfix) with ESMTP id CA7C76051830; Wed, 2 Jul 2025 17:13:45 -0400 (EDT) Subject: |WARNING| pw154969 [PATCH] [v2] build/x86: fix support for older com From: dpdklab@iol.unh.edu To: Test Report Cc: dpdk-test-reports@iol.unh.edu In-Reply-To: <20250702160138.3441279-1-bruce.richardson@intel.com> References: <20250702160138.3441279-1-bruce.richardson@intel.com> Content-Type: text/plain X-BeenThere: test-report@dpdk.org X-Mailman-Version: 2.1.29 Precedence: list List-Id: automatic DPDK test reports List-Unsubscribe: , List-Archive: List-Post: List-Help: List-Subscribe: , Errors-To: test-report-bounces@dpdk.org Test-Label: iol-unit-amd64-testing Test-Status: WARNING http://dpdk.org/patch/154969 _Testing issues_ Submitter: Bruce Richardson Date: Wednesday, July 02 2025 16:00:45 DPDK git baseline: Repo:dpdk Branch: master CommitID:bd546772e1449ccc0789db338cc398815fa2636d 154969 --> testing issues Upstream job id: Generic-Unit-Test-DPDK#351902 Test environment and result as below: +-------------------------------+----------------+ | Environment | dpdk_unit_test | +===============================+================+ | CentOS Stream 10 | WARN | +-------------------------------+----------------+ | CentOS Stream 9 | WARN | +-------------------------------+----------------+ | Fedora Linux 40 | WARN | +-------------------------------+----------------+ | Fedora Linux 41 | WARN | +-------------------------------+----------------+ | Debian GNU/Linux 12 | WARN | +-------------------------------+----------------+ | Red Hat Enterprise Linux 9.5 | WARN | +-------------------------------+----------------+ | Ubuntu 24.04 | WARN | +-------------------------------+----------------+ | Ubuntu 20.04 | WARN | +-------------------------------+----------------+ | Red Hat Enterprise Linux 8.10 | WARN | +-------------------------------+----------------+ | Ubuntu 22.04 | WARN | +-------------------------------+----------------+ ==== 20 line log output for Ubuntu 22.04 (dpdk_unit_test): ==== Compiler for C supports arguments -Wpointer-arith: YES Compiler for C supports arguments -Wsign-compare: YES Compiler for C supports arguments -Wstrict-prototypes: YES Compiler for C supports arguments -Wundef: YES Compiler for C supports arguments -Wwrite-strings: YES Compiler for C supports arguments -Wno-packed-not-aligned: YES Compiler for C supports arguments -Wno-missing-field-initializers: YES Compiler for C supports arguments -fzero-init-padding-bits=all: NO Fetching value of define "__AVX2__" : 1 Fetching value of define "__znver1__" : Fetching value of define "__znver2__" : Fetching value of define "__znver3__" : Fetching value of define "__znver4__" : Fetching value of define "__znver5__" : Program objdump found: YES (/usr/bin/objdump) Compiler for C supports arguments -march=x86-64-v4: YES config/x86/meson.build:76:6: ERROR: List item must be one of , not A full log can be found at /root/workspace/Generic-Unit-Test-DPDK/dpdk/build/meson-logs/meson-log.txt ==== End log output ==== CentOS Stream 10 Kernel: 5.15 Compiler: gcc gcc (GCC) 14.2.1 20250110 (Red Hat 14.2.1-8) CentOS Stream 9 Kernel: 5.15 Compiler: gcc gcc (GCC) 11.5.0 20240719 (Red Hat 11.5.0-7) Fedora Linux 40 Kernel: 5.15 Compiler: clang gcc (GCC) 14.2.1 20240912 (Red Hat 14.2.1-3) Fedora Linux 41 Kernel: 5.15 Compiler: gcc gcc (GCC) 14.3.1 20250523 (Red Hat 14.3.1-1) Debian GNU/Linux 12 Kernel: 5.15 Compiler: gcc gcc (Debian 12.2.0-14+deb12u1) 12.2.0 Red Hat Enterprise Linux 9.5 Kernel: 5.15 Compiler: gcc gcc (GCC) 11.5.0 20240719 (Red Hat 11.5.0-2) Ubuntu 24.04 Kernel: 5.15 Compiler: gcc gcc (Ubuntu 13.3.0-6ubuntu2~24.04) 13.3.0 Ubuntu 20.04 Kernel: 5.15 Compiler: gcc gcc (Ubuntu 9.4.0-1ubuntu1~20.04.2) 9.4.0 Red Hat Enterprise Linux 8.10 Kernel: 5.15 Compiler: gcc gcc (GCC) 8.5.0 20210514 (Red Hat 8.5.0-22) Ubuntu 22.04 Kernel: 5.15 Compiler: gcc gcc (Ubuntu 11.4.0-1ubuntu1~22.04) 11.4.0 To view detailed results, visit: https://lab.dpdk.org/results/dashboard/patchsets/33570/ UNH-IOL DPDK Community Lab To manage your email subscriptions, visit: https://lab.dpdk.org/results/dashboard/preferences/subscriptions/