From mboxrd@z Thu Jan 1 00:00:00 1970 Return-Path: Received: from mails.dpdk.org (mails.dpdk.org [217.70.189.124]) by inbox.dpdk.org (Postfix) with ESMTP id C482C46ADF for ; Wed, 2 Jul 2025 23:19:56 +0200 (CEST) Received: from mails.dpdk.org (localhost [127.0.0.1]) by mails.dpdk.org (Postfix) with ESMTP id AEFCA4064C; Wed, 2 Jul 2025 23:19:56 +0200 (CEST) Received: from mail-pf1-f226.google.com (mail-pf1-f226.google.com [209.85.210.226]) by mails.dpdk.org (Postfix) with ESMTP id BF8884064C for ; Wed, 2 Jul 2025 23:19:55 +0200 (CEST) Received: by mail-pf1-f226.google.com with SMTP id d2e1a72fcca58-74b56b1d301so706111b3a.1 for ; Wed, 02 Jul 2025 14:19:55 -0700 (PDT) DKIM-Signature: v=1; a=rsa-sha256; c=relaxed/relaxed; d=iol.unh.edu; s=unh-iol; t=1751491195; x=1752095995; darn=dpdk.org; h=references:in-reply-to:cc:to:from:subject:message-id:date:from:to :cc:subject:date:message-id:reply-to; bh=QMz9ZAT+EK4q+c/kgWz3jTW2xCs97Uno4uEhetknfW0=; b=C+1lxoAeajTIhxEiuQmHOQNFOocOFDhhEiHpnZsUSmGxzmhi4TjZrFrzOTK1evHcm8 duC7I4UCvSmPiRV3GyIzGZHgBSvlZE7pVYs1ie5XjL3vFv6C7kZWFW9xFjuJttikiDgd VXKT1+uMK6VyCWVwo6M/37mDBB5vNCMUotl5k= X-Google-DKIM-Signature: v=1; a=rsa-sha256; c=relaxed/relaxed; d=1e100.net; s=20230601; t=1751491195; x=1752095995; h=references:in-reply-to:cc:to:from:subject:message-id:date :x-gm-message-state:from:to:cc:subject:date:message-id:reply-to; bh=QMz9ZAT+EK4q+c/kgWz3jTW2xCs97Uno4uEhetknfW0=; b=C3ua605Fvh9nJTQXWuBT1XzBUTHot7QTBe7nWfBuK6cnuNyb+uJPmX7JEmsHodQULx f2Tb4t/Y/QjMilef1d9B/dSaIcLbcwSSo+Mt1jmRCi/oGbDzYmBCj7cZXBEAT++6qkim EHMHS5GHiWxtVO+sKYGxo1Mv9cTQZU+dn/xSS3Zfa1+2Iat81iZSHI+9dgZ31jWXXUNQ OrtBOV2hUQYXb+RlJvFzBDl14SRMYbT/Rui5DN3S9aLynX1DAzttInQqLV4ciNHxsue0 pml7fk4AVWb2MijvC5DEM9ZTZIYMdyKsdyTBvvAc3NZ0VhUEZW3t2A0dUa97Ad7+hvKq 2yJw== X-Gm-Message-State: AOJu0Yz4FFHNvEhU1wshhbK/5BuinyfHbVc5MagH9mfgSwcwrMcrZooP hlIxDmZTwxpsJZnCPRfduCAZRxUUJOaoWBXCVn8XpRHaZ908fZq+hVmPusk7SSHNQyH/x+0gN4R lj5E7wvLNf2E18+ZF/ghrfJcwjF7TTcqzYNrmqQZj4mTshWnucyxfBgv4dWPj X-Gm-Gg: ASbGnctF0bwNlvz56YNlo/8go5C9daftpSXKz0njrWAJLdSu/vVmgA39WCIn+qswqvQ E/6+YSn6sYnM8PmS/gMkP7z6sGVyFtIB2b1WOcyCkXVFf5+wpFNzc3RgM+5xhm2uVDDKSO85hAK 1MJE+2ZRFgkBfR7CEGO3wv8BbiTTJokpfGhQW+aPQHs5JiMkiLAy2DYiW+0s/0sWaLDb8tKXPbw bfKnZQRoU+FCuLUqpkhqAghZtRNNGu6Ovw6OKnt8Mq3tW14kot1r+owKqGlIkLx9GOM1isUnoU+ WRxddKnLcdpzZAwojxadDvHXAk74akeWUdHJaJ/1BnOM6e8= X-Google-Smtp-Source: AGHT+IH3VKcCsPg69nWfmtAyJ5xUmoBZAynJmBfTL5PlM1N+sxhKvd7WDuDmJ9Zu0E1GO4ZGIJZAjLQtKdV8 X-Received: by 2002:a05:6a00:4b4e:b0:73d:fa54:afb9 with SMTP id d2e1a72fcca58-74b50df5d89mr6191234b3a.7.1751491194814; Wed, 02 Jul 2025 14:19:54 -0700 (PDT) Received: from postal.iol.unh.edu (postal.iol.unh.edu. [2606:4100:3880:1234::84]) by smtp-relay.gmail.com with ESMTPS id d2e1a72fcca58-74b3d8940bbsm256331b3a.18.2025.07.02.14.19.54 (version=TLS1_2 cipher=ECDHE-ECDSA-AES128-GCM-SHA256 bits=128/128); Wed, 02 Jul 2025 14:19:54 -0700 (PDT) X-Relaying-Domain: iol.unh.edu Date: Wed, 02 Jul 2025 14:19:54 -0700 (PDT) Message-ID: <6865a27a.050a0220.36b61b.d6b8SMTPIN_ADDED_MISSING@mx.google.com> Received: from [172.21.0.5] (unknown [172.18.0.240]) by postal.iol.unh.edu (Postfix) with ESMTP id 09A646051835; Wed, 2 Jul 2025 17:19:54 -0400 (EDT) Subject: |WARNING| pw154953-154957 [PATCH] [v8,5/5] net/dpaa2: enable softwar From: dpdklab@iol.unh.edu To: Test Report Cc: dpdk-test-reports@iol.unh.edu In-Reply-To: <20250702095144.3087250-6-g.singh@nxp.com> References: <20250702095144.3087250-6-g.singh@nxp.com> Content-Type: text/plain X-BeenThere: test-report@dpdk.org X-Mailman-Version: 2.1.29 Precedence: list List-Id: automatic DPDK test reports List-Unsubscribe: , List-Archive: List-Post: List-Help: List-Subscribe: , Errors-To: test-report-bounces@dpdk.org Test-Label: iol-compile-amd64-testing Test-Status: WARNING http://dpdk.org/patch/154957 _Testing issues_ Submitter: Gagandeep Singh Date: Wednesday, July 02 2025 09:51:44 DPDK git baseline: Repo:dpdk Branch: master CommitID:b18c543ec30729ccc7708a6e064a1f9db5d8c11f 154953-154957 --> testing issues Upstream job id: Generic-DPDK-Compile-Meson#404641 Test environment and result as below: +-------------------------------+--------------------+-------------------+------------------+-------------------+-------------------------+----------------------+ | Environment | dpdk_meson_compile | dpdk_compile_spdk | dpdk_compile_ovs | dpdk_msvc_compile | dpdk_llvm_clang_compile | dpdk_mingw64_compile | +===============================+====================+===================+==================+===================+=========================+======================+ | CentOS Stream 9 | PASS | PASS | SKIPPED | SKIPPED | SKIPPED | SKIPPED | +-------------------------------+--------------------+-------------------+------------------+-------------------+-------------------------+----------------------+ | Debian GNU/Linux 12 | PASS | PASS | SKIPPED | SKIPPED | SKIPPED | SKIPPED | +-------------------------------+--------------------+-------------------+------------------+-------------------+-------------------------+----------------------+ | Fedora Linux 41 | PASS | PASS | PASS | SKIPPED | SKIPPED | SKIPPED | +-------------------------------+--------------------+-------------------+------------------+-------------------+-------------------------+----------------------+ | Fedora Linux 40 | PASS | PASS | SKIPPED | SKIPPED | SKIPPED | SKIPPED | +-------------------------------+--------------------+-------------------+------------------+-------------------+-------------------------+----------------------+ | openSUSE Leap 15.6 | PASS | SKIPPED | SKIPPED | SKIPPED | SKIPPED | SKIPPED | +-------------------------------+--------------------+-------------------+------------------+-------------------+-------------------------+----------------------+ | Red Hat Enterprise Linux 8.10 | PASS | SKIPPED | SKIPPED | SKIPPED | SKIPPED | SKIPPED | +-------------------------------+--------------------+-------------------+------------------+-------------------+-------------------------+----------------------+ | FreeBSD 14.2 | PASS | SKIPPED | SKIPPED | SKIPPED | SKIPPED | SKIPPED | +-------------------------------+--------------------+-------------------+------------------+-------------------+-------------------------+----------------------+ | Red Hat Enterprise Linux 9.5 | PASS | SKIPPED | SKIPPED | SKIPPED | SKIPPED | SKIPPED | +-------------------------------+--------------------+-------------------+------------------+-------------------+-------------------------+----------------------+ | Ubuntu 20.04 | PASS | SKIPPED | SKIPPED | SKIPPED | SKIPPED | SKIPPED | +-------------------------------+--------------------+-------------------+------------------+-------------------+-------------------------+----------------------+ | Ubuntu 24.04 | PEND | PEND | PEND | SKIPPED | SKIPPED | SKIPPED | +-------------------------------+--------------------+-------------------+------------------+-------------------+-------------------------+----------------------+ | Ubuntu 22.04 | PASS | PASS | SKIPPED | SKIPPED | SKIPPED | SKIPPED | +-------------------------------+--------------------+-------------------+------------------+-------------------+-------------------------+----------------------+ | Alpine Linux 3.22.0 | PASS | SKIPPED | SKIPPED | SKIPPED | SKIPPED | SKIPPED | +-------------------------------+--------------------+-------------------+------------------+-------------------+-------------------------+----------------------+ | CentOS Stream 10 | PASS | SKIPPED | SKIPPED | SKIPPED | SKIPPED | SKIPPED | +-------------------------------+--------------------+-------------------+------------------+-------------------+-------------------------+----------------------+ | Windows Server 2022 | SKIPPED | SKIPPED | SKIPPED | PASS | PASS | PASS | +-------------------------------+--------------------+-------------------+------------------+-------------------+-------------------------+----------------------+ CentOS Stream 9 Kernel: 5.15 Compiler: gcc gcc (GCC) 11.5.0 20240719 (Red Hat 11.5.0-7) Debian GNU/Linux 12 Kernel: 5.15 Compiler: gcc gcc (Debian 12.2.0-14+deb12u1) 12.2.0 Fedora Linux 41 Kernel: 5.15 Compiler: clang gcc (GCC) 14.3.1 20250523 (Red Hat 14.3.1-1) Fedora Linux 40 Kernel: 5.15 Compiler: gcc gcc (GCC) 14.2.1 20240912 (Red Hat 14.2.1-3) openSUSE Leap 15.6 Kernel: 5.15 Compiler: gcc gcc (SUSE Linux) 7.5.0 Red Hat Enterprise Linux 8.10 Kernel: 5.15 Compiler: gcc gcc (GCC) 8.5.0 20210514 (Red Hat 8.5.0-22) FreeBSD 14.2 Kernel: 14.2-RELEASE Compiler: clang 18.1.6 Red Hat Enterprise Linux 9.5 Kernel: 5.15 Compiler: gcc gcc (GCC) 11.5.0 20240719 (Red Hat 11.5.0-2) Ubuntu 20.04 Kernel: 4.19 Compiler: gcc gcc (Ubuntu 9.4.0-1ubuntu1~20.04.2) 9.4.0 Ubuntu 24.04 Kernel: 5.15 Compiler: gcc gcc (Ubuntu 13.3.0-6ubuntu2~24.04) 13.3.0 Ubuntu 22.04 Kernel: 5.15 Compiler: gcc gcc (Ubuntu 11.4.0-1ubuntu1~22.04) 11.4.0 Alpine Linux 3.22.0 Kernel: 5.15 Compiler: gcc gcc (Alpine 14.2.0) 14.2.0 CentOS Stream 10 Kernel: 5.15 Compiler: gcc gcc (GCC) 14.2.1 20250110 (Red Hat 14.2.1-8) Windows Server 2022 Kernel: 10.0.20348.2031 Compiler: clang 15.0.7, gcc 14.1.0 (MinGW), and MSVC VS 19.39.33521 To view detailed results, visit: https://lab.dpdk.org/results/dashboard/patchsets/33565/ UNH-IOL DPDK Community Lab To manage your email subscriptions, visit: https://lab.dpdk.org/results/dashboard/preferences/subscriptions/