From mboxrd@z Thu Jan 1 00:00:00 1970 Return-Path: Received: from mails.dpdk.org (mails.dpdk.org [217.70.189.124]) by inbox.dpdk.org (Postfix) with ESMTP id 8B43346ADF for ; Wed, 2 Jul 2025 23:27:34 +0200 (CEST) Received: from mails.dpdk.org (localhost [127.0.0.1]) by mails.dpdk.org (Postfix) with ESMTP id 86B904064C; Wed, 2 Jul 2025 23:27:34 +0200 (CEST) Received: from mail-pl1-f228.google.com (mail-pl1-f228.google.com [209.85.214.228]) by mails.dpdk.org (Postfix) with ESMTP id 2646B4064C for ; Wed, 2 Jul 2025 23:27:33 +0200 (CEST) Received: by mail-pl1-f228.google.com with SMTP id d9443c01a7336-2350fc2591dso2988625ad.1 for ; Wed, 02 Jul 2025 14:27:33 -0700 (PDT) DKIM-Signature: v=1; a=rsa-sha256; c=relaxed/relaxed; d=iol.unh.edu; s=unh-iol; t=1751491652; x=1752096452; darn=dpdk.org; h=references:in-reply-to:cc:to:from:subject:message-id:date:from:to :cc:subject:date:message-id:reply-to; bh=HbLBvjwC2KvnM+YwPfInClf/JcuW+H/oGm1TjfVe3PQ=; b=HsaXlfmxzbkMFkuy80YzpaC+9kbb2ZL3awWh4zx9p17nqnI/vcniVaKvk0rK2sFR5R uFetBpp/C9mEicGqKYNCnCrQNmNpBVyp0bHhLeGyG/wJhJuovZIK3uZ0AHr5A1F3Re7q 1Y3wH3XDDG2uxXxTR08Bw+RQQn7YVcAwDO2Ro= X-Google-DKIM-Signature: v=1; a=rsa-sha256; c=relaxed/relaxed; d=1e100.net; s=20230601; t=1751491652; x=1752096452; h=references:in-reply-to:cc:to:from:subject:message-id:date :x-gm-message-state:from:to:cc:subject:date:message-id:reply-to; bh=HbLBvjwC2KvnM+YwPfInClf/JcuW+H/oGm1TjfVe3PQ=; b=XdN0rD44tUfo5an3GpYV2onqmSQnzniz/LU2U/EOb7OaIXA+QNHtCYxgMjEvWdMObs FTIHtgoLJGPu0SR1FeWOLFf/7wsz5+tyzYRtxOWlN2dwV9G15h4SIedu1IVgvJJYmBVz gdRR/xf1oyGDLy7w05r6tsVj5hqK30SrKwGQFPtkVXylUlErycAe5WmqQPAPEzYv/jzJ RahgYF07kllp5iwW9KAI7D/9zW2Pv+qUDkslE2TtWxv2+dOe90zMO8jA9ySGL3C40qmW SG5RjXf3xRn0tNFsxETyORx634pdbQdc7AMZMdAUzKbyj9oSlgjfl0OfkZb/e+qWyP5O /hKg== X-Gm-Message-State: AOJu0YxeP1+TW5Hu3zwTIUUM9g5s1we8QdHX03FB09aRRWv6JjVXjiux 8Bij+bGXRw2BJ4kp13JY0N0VNi37RFKWhqRZi8xHv0jcA3WzZttxpTG1HypvliNpSSweKz+7hZQ JMbi4C0ophGrT0xd8KkrckamrykmPUS5o9JgpSpG5tghdfUTbCmQtgwAZSH81 X-Gm-Gg: ASbGncv7CRAzS/CWVuf7KiuBmW6840yVbUYk4bzDmiAty1G8AfE1Pc27PaOE9EAUR0P 6igwXJfOfBMFHGwQsLjf+4hVj50ZX9406oV5vy7pCi3FqxGQvzMxCAFqy7rt34Gdg/gVCZzW3eQ gLafgHr2/9UFCDzbygUzCQopZO7LGaXjCXpLt47rz2i1dK3819O81wA+iL2nY2SVrJmj2dsJEr3 qnu+DEok/np3w1ZBItdz/H/dvtAcSAYvfC2mGi7IR/17dkRRrAl/wfT7JflGFjUFpZHx3Cs669z b44vq0GRHcmLZZBEzLAlR+u+82tAyxsfGmz9ufM1pZ/LgZo= X-Google-Smtp-Source: AGHT+IFXFL4hSyiOU0K2u4n89s/kDP7SJiNPVwo7Z7kRaebeTXUwyTHnXR6+h5mIEv0imkihw/j06XK1oM8r X-Received: by 2002:a17:903:1acd:b0:236:15b7:62e3 with SMTP id d9443c01a7336-23c79383016mr16882925ad.9.1751491650378; Wed, 02 Jul 2025 14:27:30 -0700 (PDT) Received: from postal.iol.unh.edu (postal.iol.unh.edu. [2606:4100:3880:1234::84]) by smtp-relay.gmail.com with ESMTPS id d9443c01a7336-23acb34f021sm7478455ad.77.2025.07.02.14.27.30 (version=TLS1_2 cipher=ECDHE-ECDSA-AES128-GCM-SHA256 bits=128/128); Wed, 02 Jul 2025 14:27:30 -0700 (PDT) X-Relaying-Domain: iol.unh.edu Date: Wed, 02 Jul 2025 14:27:30 -0700 (PDT) Message-ID: <6865a442.170a0220.a9961.a017SMTPIN_ADDED_MISSING@mx.google.com> Received: from [172.21.0.6] (unknown [172.18.0.240]) by postal.iol.unh.edu (Postfix) with ESMTP id 90D406050A62; Wed, 2 Jul 2025 17:27:29 -0400 (EDT) Subject: |SUCCESS| pw154970-154973 [PATCH] [v3,4/4] dts: add sr-iov section t From: dpdklab@iol.unh.edu To: Test Report Cc: dpdk-test-reports@iol.unh.edu In-Reply-To: <20250702162331.352313-4-dmarx@iol.unh.edu> References: <20250702162331.352313-4-dmarx@iol.unh.edu> Content-Type: text/plain X-BeenThere: test-report@dpdk.org X-Mailman-Version: 2.1.29 Precedence: list List-Id: automatic DPDK test reports List-Unsubscribe: , List-Archive: List-Post: List-Help: List-Subscribe: , Errors-To: test-report-bounces@dpdk.org Test-Label: iol-compile-amd64-testing Test-Status: SUCCESS http://dpdk.org/patch/154973 _Testing PASS_ Submitter: Dean Marx Date: Wednesday, July 02 2025 16:23:31 DPDK git baseline: Repo:dpdk Branch: master CommitID:47b315bcb2778bcbd76c5764a5ed891b93b05814 154970-154973 --> testing pass Upstream job id: Windows-Compile-DPDK-VS#6238 Test environment and result as below: +---------------------+--------------------+-------------------+ | Environment | dpdk_meson_compile | dpdk_msvc_compile | +=====================+====================+===================+ | Ubuntu 20.04 | PASS | SKIPPED | +---------------------+--------------------+-------------------+ | FreeBSD 14.2 | PASS | SKIPPED | +---------------------+--------------------+-------------------+ | Windows Server 2022 | SKIPPED | PASS | +---------------------+--------------------+-------------------+ Ubuntu 20.04 Kernel: 4.19 Compiler: gcc gcc (Ubuntu 9.4.0-1ubuntu1~20.04.2) 9.4.0 FreeBSD 14.2 Kernel: 14.2-RELEASE Compiler: clang 18.1.6 Windows Server 2022 Kernel: 10.0.20348.2031 Compiler: clang 15.0.7, gcc 14.1.0 (MinGW), and MSVC VS 19.39.33521 To view detailed results, visit: https://lab.dpdk.org/results/dashboard/patchsets/33571/ UNH-IOL DPDK Community Lab To manage your email subscriptions, visit: https://lab.dpdk.org/results/dashboard/preferences/subscriptions/