From mboxrd@z Thu Jan 1 00:00:00 1970 Return-Path: Received: from mails.dpdk.org (mails.dpdk.org [217.70.189.124]) by inbox.dpdk.org (Postfix) with ESMTP id A6F3546AD8 for ; Wed, 2 Jul 2025 23:40:07 +0200 (CEST) Received: from mails.dpdk.org (localhost [127.0.0.1]) by mails.dpdk.org (Postfix) with ESMTP id A0B444064C; Wed, 2 Jul 2025 23:40:07 +0200 (CEST) Received: from mail-vs1-f99.google.com (mail-vs1-f99.google.com [209.85.217.99]) by mails.dpdk.org (Postfix) with ESMTP id F13A940EE6 for ; Wed, 2 Jul 2025 23:40:06 +0200 (CEST) Received: by mail-vs1-f99.google.com with SMTP id ada2fe7eead31-4e7fac85892so2004243137.3 for ; Wed, 02 Jul 2025 14:40:06 -0700 (PDT) DKIM-Signature: v=1; a=rsa-sha256; c=relaxed/relaxed; d=iol.unh.edu; s=unh-iol; t=1751492406; x=1752097206; darn=dpdk.org; h=references:in-reply-to:cc:to:from:subject:message-id:date:from:to :cc:subject:date:message-id:reply-to; bh=B8c11a3FM1SIP9viLE1yVaPFORtKr19Lx5ZsPkWavXs=; b=QzQVYUkUWwlaGwWS5tfqKEO9g2Ldn9Z95f12XYmigcT3X7+AFS4891vJ2Czl29+pX6 3GESrQigrnyPWLpdRyH8EpaagrQdXBL/Bvy1bTDoJbTKhf4rNABk42In0V1/cxBPjbQx CwCuw6xWUP8+3V7SHL/UJdkE58C3fE6GOApBA= X-Google-DKIM-Signature: v=1; a=rsa-sha256; c=relaxed/relaxed; d=1e100.net; s=20230601; t=1751492406; x=1752097206; h=references:in-reply-to:cc:to:from:subject:message-id:date :x-gm-message-state:from:to:cc:subject:date:message-id:reply-to; bh=B8c11a3FM1SIP9viLE1yVaPFORtKr19Lx5ZsPkWavXs=; b=E6KRIAERFuio+xlSoso5jY+FQwYecGh8CG+iX63BsWpj3T+okY1aCLkYx3RTAFLZoQ o91xeQya7qUV1LLtjTWgnzkM2JGBi6udMOMMh95MIsycVMN98RUeibqATvBA+r0vSJUR xRXThvqRxKwUrAklUdFy6hTB/GkM38+BtsKlSdNkY+cH0l6triz+e5iDpscoQFPG73zU wqkMu+CHw/jQTOKlC+WLlSPUVKsjpaAIf2fKqDl+z/tedYnTfraY7hyG+qIQBzr9s7KG adMt7duKgqDqsjNiqxOVj+CyMAJ0XCtaNxOvAkZXA8mvfxr0MI+zcrq5MIR3oDF451VJ l0Pg== X-Gm-Message-State: AOJu0Yz/+GAAKSlaanKX1ofsJLYjoaXiP+KtuVuYnigPZtCljn6U60Ej a7J3WZSnuTJP6034z5UpT1l5Izf9Qhr06NbkUz51ZMoIE+QdVc2+otj36c6IYaiy0EhNEzfhImr rBRdVZOdzSK19+1eIZIRYzTrvC6SQSbt2PDU8WVE0oM0S X-Gm-Gg: ASbGncuQe9vQr/Fn/2WkpXpfv/S14yod4D8fIBa3duK2Y8VSiK4GdvsvlyAmM7efxPd ey1ljBmLD5V9DWYY9N8b4230Lfkc7Ycqd/BMw1XxMnC1wavSYQzXVkGBWJEKqQOa17YXE/k1E9s e2plyQHMZZ393dNvt/McaWRLW5YRD8Yk7XVrxEfYdCJGGrO+UOdUwmlCvicBnJGSvzAyD5CVfHl NzkT2godE8CX37Jd4pu5gO6jJABpZNCPBDeJWBT6achj60iddWWJSlLTc31LhZZIeO6KiTf7gFJ 0Dsv6J+QfmR2gv5na++9GEoAC/MggiQ64VSSGTb3VAP2ORnqsynwBsjWtwHRYqpR8tILbA== X-Google-Smtp-Source: AGHT+IEBbBaycqjkWVbKhev0KWNeV65K4OvWF4mmeZAHBdrZJMs+twpOMvgV3nbVSCnbuZW5rq7Z0Xl88Hc1 X-Received: by 2002:a05:6102:2ac5:b0:4e9:8f71:bd53 with SMTP id ada2fe7eead31-4f1761d8c1amr754551137.2.1751492406251; Wed, 02 Jul 2025 14:40:06 -0700 (PDT) Received: from postal.iol.unh.edu (postal.iol.unh.edu. [132.177.123.84]) by smtp-relay.gmail.com with ESMTPS id a1e0cc1a2514c-884ece3e7f8sm195484241.14.2025.07.02.14.40.06 (version=TLS1_2 cipher=ECDHE-ECDSA-AES128-GCM-SHA256 bits=128/128); Wed, 02 Jul 2025 14:40:06 -0700 (PDT) X-Relaying-Domain: iol.unh.edu Date: Wed, 02 Jul 2025 14:40:06 -0700 (PDT) Message-ID: <6865a736.b00a0220.2fdad7.b044SMTPIN_ADDED_MISSING@mx.google.com> Received: from [172.21.0.5] (unknown [172.18.0.240]) by postal.iol.unh.edu (Postfix) with ESMTP id E846B6051830; Wed, 2 Jul 2025 17:40:05 -0400 (EDT) Subject: |SUCCESS| pw154952 [PATCH] net/mlx5: fix inline data size adjustment From: dpdklab@iol.unh.edu To: Test Report Cc: dpdk-test-reports@iol.unh.edu In-Reply-To: <20250702093459.102142-1-shperetz@nvidia.com> References: <20250702093459.102142-1-shperetz@nvidia.com> Content-Type: text/plain X-BeenThere: test-report@dpdk.org X-Mailman-Version: 2.1.29 Precedence: list List-Id: automatic DPDK test reports List-Unsubscribe: , List-Archive: List-Post: List-Help: List-Subscribe: , Errors-To: test-report-bounces@dpdk.org Test-Label: iol-unit-amd64-testing Test-Status: SUCCESS http://dpdk.org/patch/154952 _Testing PASS_ Submitter: Shani Peretz Date: Wednesday, July 02 2025 09:34:59 DPDK git baseline: Repo:dpdk Branch: master CommitID:5c0c1a13c34aa57c6e18f9ba852a9b5807c58b72 154952 --> testing pass Upstream job id: Generic-VM-Unit-Test-DPDK#29658 Test environment and result as below: +-------------------------------+----------------+ | Environment | dpdk_unit_test | +===============================+================+ | CentOS Stream 9 | PASS | +-------------------------------+----------------+ | CentOS Stream 10 | PASS | +-------------------------------+----------------+ | Fedora Linux 40 | PASS | +-------------------------------+----------------+ | Debian GNU/Linux 12 | PASS | +-------------------------------+----------------+ | Fedora Linux 41 | PASS | +-------------------------------+----------------+ | Ubuntu 20.04 | PASS | +-------------------------------+----------------+ | Red Hat Enterprise Linux 9.5 | PASS | +-------------------------------+----------------+ | Ubuntu 24.04 | PASS | +-------------------------------+----------------+ | Ubuntu 22.04 | PASS | +-------------------------------+----------------+ | Red Hat Enterprise Linux 8.10 | PASS | +-------------------------------+----------------+ | Windows Server 2022 | PASS | +-------------------------------+----------------+ CentOS Stream 9 Kernel: 5.15 Compiler: gcc gcc (GCC) 11.5.0 20240719 (Red Hat 11.5.0-7) CentOS Stream 10 Kernel: 5.15 Compiler: gcc gcc (GCC) 14.2.1 20250110 (Red Hat 14.2.1-8) Fedora Linux 40 Kernel: 5.15 Compiler: clang gcc (GCC) 14.2.1 20240912 (Red Hat 14.2.1-3) Debian GNU/Linux 12 Kernel: 5.15 Compiler: gcc gcc (Debian 12.2.0-14+deb12u1) 12.2.0 Fedora Linux 41 Kernel: 5.15 Compiler: clang gcc (GCC) 14.3.1 20250523 (Red Hat 14.3.1-1) Ubuntu 20.04 Kernel: 5.15 Compiler: gcc gcc (Ubuntu 9.4.0-1ubuntu1~20.04.2) 9.4.0 Red Hat Enterprise Linux 9.5 Kernel: 5.15 Compiler: gcc gcc (GCC) 11.5.0 20240719 (Red Hat 11.5.0-2) Ubuntu 24.04 Kernel: 5.15 Compiler: gcc gcc (Ubuntu 13.3.0-6ubuntu2~24.04) 13.3.0 Ubuntu 22.04 Kernel: 5.15 Compiler: gcc gcc (Ubuntu 11.4.0-1ubuntu1~22.04) 11.4.0 Red Hat Enterprise Linux 8.10 Kernel: 5.15 Compiler: gcc gcc (GCC) 8.5.0 20210514 (Red Hat 8.5.0-22) Windows Server 2022 Kernel: 10.0.20348.2031 Compiler: clang 15.0.7, gcc 14.1.0 (MinGW), and MSVC VS 19.39.33521 To view detailed results, visit: https://lab.dpdk.org/results/dashboard/patchsets/33564/ UNH-IOL DPDK Community Lab To manage your email subscriptions, visit: https://lab.dpdk.org/results/dashboard/preferences/subscriptions/