From mboxrd@z Thu Jan 1 00:00:00 1970 Return-Path: Received: from mails.dpdk.org (mails.dpdk.org [217.70.189.124]) by inbox.dpdk.org (Postfix) with ESMTP id DB8A346ADF for ; Wed, 2 Jul 2025 23:41:45 +0200 (CEST) Received: from mails.dpdk.org (localhost [127.0.0.1]) by mails.dpdk.org (Postfix) with ESMTP id D57D54064C; Wed, 2 Jul 2025 23:41:45 +0200 (CEST) Received: from mail-yw1-f226.google.com (mail-yw1-f226.google.com [209.85.128.226]) by mails.dpdk.org (Postfix) with ESMTP id D9FE04064C for ; Wed, 2 Jul 2025 23:41:44 +0200 (CEST) Received: by mail-yw1-f226.google.com with SMTP id 00721157ae682-710f39f5cb9so72102837b3.3 for ; Wed, 02 Jul 2025 14:41:44 -0700 (PDT) DKIM-Signature: v=1; a=rsa-sha256; c=relaxed/relaxed; d=iol.unh.edu; s=unh-iol; t=1751492504; x=1752097304; darn=dpdk.org; h=references:in-reply-to:cc:to:from:subject:message-id:date:from:to :cc:subject:date:message-id:reply-to; bh=XsQd8r2MVaIHxjUqqup/qq/a6nP4NJuSp0tQHV6ViTY=; b=RnQX+5ek5l/t1RVzJrbySsc5KgUFne2A8b7yGxsdfZOhBAXdlO0eBJZvLz1x6gzhFA 8kartuUFnjw3VKLN+8+i9UociS0diRQncZf6QtPtS9GoT0mKjzUNIehOsrobq/DTXMxp mZmrTa6CXzp2By0d7YQhNoxfEz+C+pQn/lIGI= X-Google-DKIM-Signature: v=1; a=rsa-sha256; c=relaxed/relaxed; d=1e100.net; s=20230601; t=1751492504; x=1752097304; h=references:in-reply-to:cc:to:from:subject:message-id:date :x-gm-message-state:from:to:cc:subject:date:message-id:reply-to; bh=XsQd8r2MVaIHxjUqqup/qq/a6nP4NJuSp0tQHV6ViTY=; b=LKvNUWWuI+jdsl3PFiOc8mqH67bWpJ17sI4KhS7pLvNxGJL9l054vZBdaclM/s/Lxv Ww2l68LX4l0ALZ+1qfllgycyTh7Er/KKcIuPu7oGSeDrh8lcf6BKZ3w8e4Wqd01e0+cF dDwwyM/ZQC+4J92qeLfP9DjHfJY9+aRzjrJJdqOZPHtaynFUrt+yJwF9P6jZyXY3CwtN fLldwsBEO6AIE6rGO2jYijAj01vfDXrc/yxMkD1gfdeO4tazC3vrXjeytv/i1UPxXWQm sBx/5JqWM3plesxObbNGLgHyLgWhULOIjLbDx3yJxcCbPXECer9UqIlcejUhEC8YOzk3 m0uQ== X-Gm-Message-State: AOJu0YyOmR8TdlQYcqUCHQIrokSC/0MSI+jrvOwnmw7bjuEg37Vx56aK YKKGFqv3CMdAXGinmKIlLBnCaBTcm540kupL9YcffMqZ5/jbcwMJ6/aAW1PSWJkWgui4bIzd5Y3 rvqKF7GjWuHoHO9MMQOHCylvJcvyH9vwnQ1kDP9cBmFvk X-Gm-Gg: ASbGnct3RdaM4RsfEvbX1TW5wK4BvZJPr53LxFeMWa9UvoHDEbaAy1ffSkqa21ui9N/ 6CMoR0pLkQqBZ9rmjx6XMP9Qov4pvW/RXBBz3lDBRAgQQ05JzqhxAVjkxw2tT0hZnytGreWPD3g 5OYRIQZr1ITx7U/PNnEys/mLqHiN+Q0w7Kh9yeKlgD43eE+ib+vLMNSqlt33sYWT2qUOzYFoKSL Wx1fdel+yMpDbmpRPmRZ/Cy5RATw9FHHxsf8rTVcxXnkrUkRWY1q6OYweeKGQsVV6a1ZE5QY0YQ rK+QSAVvDi5tqw7zEvyvKEEc1MTcdO1LpEZyRog8r+OnJWrieIXDP+kf8BVC/EUr+2kKpA== X-Google-Smtp-Source: AGHT+IFLu3Ve6x/NkpItxl5ONlkmOBHIKPIFUjzIQfbtc9OZtfyQWqq0a+5X+I1p0H0YxwHq0Kfbj07sfVw1 X-Received: by 2002:a05:690c:b99:b0:710:f025:4077 with SMTP id 00721157ae682-7165a32011dmr11122997b3.2.1751492504234; Wed, 02 Jul 2025 14:41:44 -0700 (PDT) Received: from postal.iol.unh.edu (postal.iol.unh.edu. [132.177.123.84]) by smtp-relay.gmail.com with ESMTPS id 00721157ae682-71515be1571sm4919287b3.2.2025.07.02.14.41.44 (version=TLS1_2 cipher=ECDHE-ECDSA-AES128-GCM-SHA256 bits=128/128); Wed, 02 Jul 2025 14:41:44 -0700 (PDT) X-Relaying-Domain: iol.unh.edu Date: Wed, 02 Jul 2025 14:41:44 -0700 (PDT) Message-ID: <6865a798.050a0220.13af7c.a943SMTPIN_ADDED_MISSING@mx.google.com> Received: from [172.21.0.5] (unknown [172.18.0.240]) by postal.iol.unh.edu (Postfix) with ESMTP id D84DD604D420; Wed, 2 Jul 2025 17:41:43 -0400 (EDT) Subject: |WARNING| pw154953-154957 [PATCH] [v8,5/5] net/dpaa2: enable softwar From: dpdklab@iol.unh.edu To: Test Report Cc: dpdk-test-reports@iol.unh.edu In-Reply-To: <20250702095144.3087250-6-g.singh@nxp.com> References: <20250702095144.3087250-6-g.singh@nxp.com> Content-Type: text/plain X-BeenThere: test-report@dpdk.org X-Mailman-Version: 2.1.29 Precedence: list List-Id: automatic DPDK test reports List-Unsubscribe: , List-Archive: List-Post: List-Help: List-Subscribe: , Errors-To: test-report-bounces@dpdk.org Test-Label: iol-compile-amd64-testing Test-Status: WARNING http://dpdk.org/patch/154957 _Testing issues_ Submitter: Gagandeep Singh Date: Wednesday, July 02 2025 09:51:44 DPDK git baseline: Repo:dpdk Branch: master CommitID:b18c543ec30729ccc7708a6e064a1f9db5d8c11f 154953-154957 --> testing issues Upstream job id: Generic-DPDK-Compile-Meson#404643 Test environment and result as below: +-------------------------------+--------------------+-------------------+------------------+-------------------+-------------------------+----------------------+ | Environment | dpdk_meson_compile | dpdk_compile_spdk | dpdk_compile_ovs | dpdk_msvc_compile | dpdk_llvm_clang_compile | dpdk_mingw64_compile | +===============================+====================+===================+==================+===================+=========================+======================+ | CentOS Stream 9 | PASS | PASS | SKIPPED | SKIPPED | SKIPPED | SKIPPED | +-------------------------------+--------------------+-------------------+------------------+-------------------+-------------------------+----------------------+ | Debian GNU/Linux 12 | PASS | PASS | SKIPPED | SKIPPED | SKIPPED | SKIPPED | +-------------------------------+--------------------+-------------------+------------------+-------------------+-------------------------+----------------------+ | Fedora Linux 41 | PASS | PASS | PASS | SKIPPED | SKIPPED | SKIPPED | +-------------------------------+--------------------+-------------------+------------------+-------------------+-------------------------+----------------------+ | Fedora Linux 40 | PASS | PASS | SKIPPED | SKIPPED | SKIPPED | SKIPPED | +-------------------------------+--------------------+-------------------+------------------+-------------------+-------------------------+----------------------+ | openSUSE Leap 15.6 | PASS | SKIPPED | SKIPPED | SKIPPED | SKIPPED | SKIPPED | +-------------------------------+--------------------+-------------------+------------------+-------------------+-------------------------+----------------------+ | Red Hat Enterprise Linux 8.10 | PASS | SKIPPED | SKIPPED | SKIPPED | SKIPPED | SKIPPED | +-------------------------------+--------------------+-------------------+------------------+-------------------+-------------------------+----------------------+ | FreeBSD 14.2 | PASS | SKIPPED | SKIPPED | SKIPPED | SKIPPED | SKIPPED | +-------------------------------+--------------------+-------------------+------------------+-------------------+-------------------------+----------------------+ | Red Hat Enterprise Linux 9.5 | PASS | SKIPPED | SKIPPED | SKIPPED | SKIPPED | SKIPPED | +-------------------------------+--------------------+-------------------+------------------+-------------------+-------------------------+----------------------+ | Ubuntu 20.04 | PASS | SKIPPED | SKIPPED | SKIPPED | SKIPPED | SKIPPED | +-------------------------------+--------------------+-------------------+------------------+-------------------+-------------------------+----------------------+ | Ubuntu 24.04 | PASS | PASS | PASS | SKIPPED | SKIPPED | SKIPPED | +-------------------------------+--------------------+-------------------+------------------+-------------------+-------------------------+----------------------+ | Ubuntu 22.04 | PASS | PASS | SKIPPED | SKIPPED | SKIPPED | SKIPPED | +-------------------------------+--------------------+-------------------+------------------+-------------------+-------------------------+----------------------+ | Alpine Linux 3.22.0 | PASS | SKIPPED | SKIPPED | SKIPPED | SKIPPED | SKIPPED | +-------------------------------+--------------------+-------------------+------------------+-------------------+-------------------------+----------------------+ | CentOS Stream 10 | PASS | SKIPPED | SKIPPED | SKIPPED | SKIPPED | SKIPPED | +-------------------------------+--------------------+-------------------+------------------+-------------------+-------------------------+----------------------+ | Windows Server 2022 | SKIPPED | SKIPPED | SKIPPED | PASS | PASS | PASS | +-------------------------------+--------------------+-------------------+------------------+-------------------+-------------------------+----------------------+ CentOS Stream 9 Kernel: 5.15 Compiler: gcc gcc (GCC) 11.5.0 20240719 (Red Hat 11.5.0-7) Debian GNU/Linux 12 Kernel: 5.15 Compiler: gcc gcc (Debian 12.2.0-14+deb12u1) 12.2.0 Fedora Linux 41 Kernel: 5.15 Compiler: clang gcc (GCC) 14.3.1 20250523 (Red Hat 14.3.1-1) Fedora Linux 40 Kernel: 5.15 Compiler: gcc gcc (GCC) 14.2.1 20240912 (Red Hat 14.2.1-3) openSUSE Leap 15.6 Kernel: 5.15 Compiler: gcc gcc (SUSE Linux) 7.5.0 Red Hat Enterprise Linux 8.10 Kernel: 5.15 Compiler: gcc gcc (GCC) 8.5.0 20210514 (Red Hat 8.5.0-22) FreeBSD 14.2 Kernel: 14.2-RELEASE Compiler: clang 18.1.6 Red Hat Enterprise Linux 9.5 Kernel: 5.15 Compiler: gcc gcc (GCC) 11.5.0 20240719 (Red Hat 11.5.0-2) Ubuntu 20.04 Kernel: 4.19 Compiler: gcc gcc (Ubuntu 9.4.0-1ubuntu1~20.04.2) 9.4.0 Ubuntu 24.04 Kernel: 5.15 Compiler: gcc gcc (Ubuntu 13.3.0-6ubuntu2~24.04) 13.3.0 Ubuntu 22.04 Kernel: 5.15 Compiler: gcc gcc (Ubuntu 11.4.0-1ubuntu1~22.04) 11.4.0 Alpine Linux 3.22.0 Kernel: 5.15 Compiler: gcc gcc (Alpine 14.2.0) 14.2.0 CentOS Stream 10 Kernel: 5.15 Compiler: gcc gcc (GCC) 14.2.1 20250110 (Red Hat 14.2.1-8) Windows Server 2022 Kernel: 10.0.20348.2031 Compiler: clang 15.0.7, gcc 14.1.0 (MinGW), and MSVC VS 19.39.33521 To view detailed results, visit: https://lab.dpdk.org/results/dashboard/patchsets/33565/ UNH-IOL DPDK Community Lab To manage your email subscriptions, visit: https://lab.dpdk.org/results/dashboard/preferences/subscriptions/