From mboxrd@z Thu Jan 1 00:00:00 1970 Return-Path: Received: from mails.dpdk.org (mails.dpdk.org [217.70.189.124]) by inbox.dpdk.org (Postfix) with ESMTP id A112146ADF for ; Thu, 3 Jul 2025 04:03:54 +0200 (CEST) Received: from mails.dpdk.org (localhost [127.0.0.1]) by mails.dpdk.org (Postfix) with ESMTP id 81D0C4003C; Thu, 3 Jul 2025 04:03:54 +0200 (CEST) Received: from mail-pf1-f225.google.com (mail-pf1-f225.google.com [209.85.210.225]) by mails.dpdk.org (Postfix) with ESMTP id D241B4003C for ; Thu, 3 Jul 2025 04:03:53 +0200 (CEST) Received: by mail-pf1-f225.google.com with SMTP id d2e1a72fcca58-7425bd5a83aso4710980b3a.0 for ; Wed, 02 Jul 2025 19:03:53 -0700 (PDT) DKIM-Signature: v=1; a=rsa-sha256; c=relaxed/relaxed; d=iol.unh.edu; s=unh-iol; t=1751508233; x=1752113033; darn=dpdk.org; h=references:in-reply-to:cc:to:from:subject:message-id:date:from:to :cc:subject:date:message-id:reply-to; bh=vcYy3vS9D2Xt2E4/+JFQG/St5OELfJOA65DtWZmFhFE=; b=CWsw7DblCq8U52sAvqJcrXl5DiOmddOe4IKhr/BBm32SuuXDGF8qnX3JkBHgn0FQ9m 1ijnkr0nv84uLNgdm9M3c4wJWDsc0g+00dkz6MS+F05mgQlewX8hwrasojHdsM+Iv1q8 FvYTwEAUEEaOt+40/aGKcE3iai55dclQNfYR0= X-Google-DKIM-Signature: v=1; a=rsa-sha256; c=relaxed/relaxed; d=1e100.net; s=20230601; t=1751508233; x=1752113033; h=references:in-reply-to:cc:to:from:subject:message-id:date :x-gm-message-state:from:to:cc:subject:date:message-id:reply-to; bh=vcYy3vS9D2Xt2E4/+JFQG/St5OELfJOA65DtWZmFhFE=; b=GCta4lcIZwJyNA3+z74v4eTKhoMcFYswP3MxRLbFl6csLhHQjheP/qWZKz26S+r0Kc GoNwnTfsg87A873eZ6JuBDZy963nLzANZqfoImHeNaCkyULyHITzw+QAbryZxc7oFdCP P0gMH9lfbQ0PbCwJcPgikvwekXmuW3xTHrvkbNocqvrHOG++xVeB2rlttmIA+/ER34+7 yBsPua2Z4iTRRY3AApWmPkiPg89nwab5uFVlfJy3EgvBqAn5ysco9ap/vTjsWOYVIx8y lyzczUglm3khQiF8ywwrJcdTxKITj/mdatqiAHrJRULMr+LeTxT+e/ISLIoRCKPFrJv+ dLLg== X-Gm-Message-State: AOJu0YzIhQDKl8uK+Ov4ZA2yLP+QtlRr798wub75v2C1pAWNvhBx4giC GGfOTum9RaER91op4r3e4F43JU4lS3odNvhnQIVrHm+t3cOeIPyZlWrRy1XCod9IASVmjdip9ml JLsCk/JVDuuy3ujJ0xHyAE4g084rNVXFNJ74gjZ2Uh/y1 X-Gm-Gg: ASbGncvY3EBuAJHypyJMG4nc+KEfDIpR2oUlo/7VP2GbpESlqpu+9MV32E0p+skP9rd vaJK3HKYk0icUtD62P0FRCp9D2PxEzGot0GV+S66aErYP0e3A1F9Kw/dONFqO3Y6ipnZfuDY65f dMy/CfjquJ9IJCXqjpjutjpjt9oBc18iysNdXux5PxqYtqxdMZJG3TY3+Kvr8q2vj79LFpBitcq hDznWwKDOOkxNRg9/FJgyu5NCvzLCdASdhy/Ew5Ztg78QPKGV/TA10jysOl18lIjwpdSe+AcLi2 03ZQcO5jW8JCtjsYy/Bgdwm2oVvHf45FayhCtP8YVAW4vYuCiJEBgmYQlqR/xfJKHuNOCg== X-Google-Smtp-Source: AGHT+IFUdY1QnQnhWmj7YAx1BboCXOFDr6Apa4acUd/83yYjfo2BQ1m9Ta2/FTw0Z80zhwCAVV9fOoDxvAqb X-Received: by 2002:a05:6300:6702:b0:220:b161:431 with SMTP id adf61e73a8af0-222d7dc5028mr8248897637.7.1751508232859; Wed, 02 Jul 2025 19:03:52 -0700 (PDT) Received: from postal.iol.unh.edu (postal.iol.unh.edu. [132.177.123.84]) by smtp-relay.gmail.com with ESMTPS id d2e1a72fcca58-74af551a5e1sm746329b3a.22.2025.07.02.19.03.52 (version=TLS1_2 cipher=ECDHE-ECDSA-AES128-GCM-SHA256 bits=128/128); Wed, 02 Jul 2025 19:03:52 -0700 (PDT) X-Relaying-Domain: iol.unh.edu Date: Wed, 02 Jul 2025 19:03:52 -0700 (PDT) Message-ID: <6865e508.050a0220.374219.84d0SMTPIN_ADDED_MISSING@mx.google.com> Received: from [172.21.0.5] (unknown [172.18.0.240]) by postal.iol.unh.edu (Postfix) with ESMTP id 9CC926051830; Wed, 2 Jul 2025 22:03:51 -0400 (EDT) Subject: |SUCCESS| pw154914 [PATCH] [v3] test/argparse: change initialization From: dpdklab@iol.unh.edu To: Test Report Cc: dpdk-test-reports@iol.unh.edu In-Reply-To: <20250701154202.237442-1-stephen@networkplumber.org> References: <20250701154202.237442-1-stephen@networkplumber.org> Content-Type: text/plain X-BeenThere: test-report@dpdk.org X-Mailman-Version: 2.1.29 Precedence: list List-Id: automatic DPDK test reports List-Unsubscribe: , List-Archive: List-Post: List-Help: List-Subscribe: , Errors-To: test-report-bounces@dpdk.org Test-Label: iol-compile-amd64-testing Test-Status: SUCCESS http://dpdk.org/patch/154914 _Testing PASS_ Submitter: Stephen Hemminger Date: Tuesday, July 01 2025 15:41:46 DPDK git baseline: Repo:dpdk Branch: master CommitID:bd546772e1449ccc0789db338cc398815fa2636d 154914 --> testing pass Upstream job id: Windows-Compile-DPDK-Native#29530 Test environment and result as below: +---------------------+-------------------------+-------------------+----------------------+ | Environment | dpdk_llvm_clang_compile | dpdk_msvc_compile | dpdk_mingw64_compile | +=====================+=========================+===================+======================+ | Windows Server 2022 | PASS | PASS | PASS | +---------------------+-------------------------+-------------------+----------------------+ Windows Server 2022 Kernel: 10.0.20348.2031 Compiler: clang 15.0.7, gcc 14.1.0 (MinGW), and MSVC VS 19.39.33521 To view detailed results, visit: https://lab.dpdk.org/results/dashboard/patchsets/33557/ UNH-IOL DPDK Community Lab To manage your email subscriptions, visit: https://lab.dpdk.org/results/dashboard/preferences/subscriptions/