From mboxrd@z Thu Jan 1 00:00:00 1970 Return-Path: Received: from mails.dpdk.org (mails.dpdk.org [217.70.189.124]) by inbox.dpdk.org (Postfix) with ESMTP id B1A7946AD8 for ; Thu, 3 Jul 2025 17:50:45 +0200 (CEST) Received: from mails.dpdk.org (localhost [127.0.0.1]) by mails.dpdk.org (Postfix) with ESMTP id 904B040264; Thu, 3 Jul 2025 17:50:45 +0200 (CEST) Received: from mail-qv1-f98.google.com (mail-qv1-f98.google.com [209.85.219.98]) by mails.dpdk.org (Postfix) with ESMTP id 0027140264 for ; Thu, 3 Jul 2025 17:50:43 +0200 (CEST) Received: by mail-qv1-f98.google.com with SMTP id 6a1803df08f44-6fad4a1dc33so375146d6.1 for ; Thu, 03 Jul 2025 08:50:43 -0700 (PDT) DKIM-Signature: v=1; a=rsa-sha256; c=relaxed/relaxed; d=iol.unh.edu; s=unh-iol; t=1751557843; x=1752162643; darn=dpdk.org; h=references:in-reply-to:cc:to:from:subject:message-id:date:from:to :cc:subject:date:message-id:reply-to; bh=VXxuWzAg8j8UZG7iRTMq6uSOt3jfesiBHsz0LOYxEO4=; b=e1t5VqasVs5CfZhEtECb4SIwkupYbc0BiuiTMO4+DtFS+7pyJr3nR9IlnTukaTltTF +a6wYumLQu0/L+LesHVo1v6qRayHS9oXqPMYB8pINuHrzDY8YjY6qqYEQxc4+JlcQr+n UvOv6timCxZd7X5QoAHfREEorqfoQohHBH8kU= X-Google-DKIM-Signature: v=1; a=rsa-sha256; c=relaxed/relaxed; d=1e100.net; s=20230601; t=1751557843; x=1752162643; h=references:in-reply-to:cc:to:from:subject:message-id:date :x-gm-message-state:from:to:cc:subject:date:message-id:reply-to; bh=VXxuWzAg8j8UZG7iRTMq6uSOt3jfesiBHsz0LOYxEO4=; b=LzrbAZnzXzCJ35o9wMgB3bJMgkpjeN2/ba+dg2naSwvmO6YICCvhODlS5dMj+K5sLP hWARdjY22d32sl87NaNv63bfoAeIxIbuEJ8LKXxwFukqS2IALPvWjG5GvqVRrcPS3Kbs cBZ7H0uB364QAneHODrqXcRZrZInTTTGZC4P11DEHy5KrzIa/Bckucj9Agq11o7lwoYa OklWJSe1w1z1uaSFXwlKUPNIB6VD6nbD/5TBLPef7c0Vfci2AOVXlZ7prEJwBOv3nM4Z DXCQ/p7FwyUPek8gYC1y8u61eHP2jBflA3hwE/sjqFaI5LQME7aT8UwtvCowKse+EqM0 r3GA== X-Gm-Message-State: AOJu0Yz7Ev33IhhwArkB1Zef9p3o5gJj2drUuQwJ9YRmtyfncZZtGloF GUMnwbQaoKEVRKBFL6DdGIWmQaDRd0+JjUNIAH8tz0+5IHGJRF8Hju9eZJz9DJxtwygY/78cjCq VFPfOx/jnnzwRhPf/qGcaiXNRYXV+E0RwOqoYGFl+md33AtLsvXiQMH5M0KcQ X-Gm-Gg: ASbGnctR32wz3xdnDcOd+PPBrCcc7pSpnaEx+UOtsOGCf99N9hZtf55KoVGoFJ4ucbC HRJJh6TlufXKjWxA2aKWAirEDtGuP5OGSG8Bsw2juPGr7LGpq6p2TKhbwdAaI6ApFjIjZz2Ky42 M+odb5JvjzmcDQ3Cb6STiupJf/HylCii8AnkBFUJ3zbSAkrxYN4DPAzWmnYTQ2Iho0wSkDPvlSJ 0mFUyEEhq0Nr3qyO3BpsNiH8+NE4tKKp2Ds2tRQ5amY/dsjYi+2FESkOffurXFohWD5gaPsMudb 0dAmpKrAwVCjRdsdEWc8PnovAtRAv8RzQc6Kg8jYEGHV5kI= X-Google-Smtp-Source: AGHT+IEEL8op8sZSvn9hVxpI1QlTxn0uNvTN9ArXCRxVJT3svqKsnO5HSPtj2adyksmUGoGvOP0nsrBLeheJ X-Received: by 2002:a05:6214:2526:b0:702:b1a5:dbba with SMTP id 6a1803df08f44-702bc89db00mr62210416d6.14.1751557843307; Thu, 03 Jul 2025 08:50:43 -0700 (PDT) Received: from postal.iol.unh.edu (postal.iol.unh.edu. [2606:4100:3880:1234::84]) by smtp-relay.gmail.com with ESMTPS id 6a1803df08f44-6fd771b8826sm8907936d6.31.2025.07.03.08.50.43 (version=TLS1_2 cipher=ECDHE-ECDSA-AES128-GCM-SHA256 bits=128/128); Thu, 03 Jul 2025 08:50:43 -0700 (PDT) X-Relaying-Domain: iol.unh.edu Date: Thu, 03 Jul 2025 08:50:43 -0700 (PDT) Message-ID: <6866a6d3.050a0220.3b1d2a.0923SMTPIN_ADDED_MISSING@mx.google.com> Received: from [172.21.0.5] (unknown [172.18.0.240]) by postal.iol.unh.edu (Postfix) with ESMTP id 0CD29604D420; Thu, 3 Jul 2025 11:50:43 -0400 (EDT) Subject: |SUCCESS| pw155002 [PATCH] net/bonding: avoid RSS reta update in flo From: dpdklab@iol.unh.edu To: Test Report Cc: dpdk-test-reports@iol.unh.edu In-Reply-To: <20250703115903.7157-1-madhuker.mythri@oracle.com> References: <20250703115903.7157-1-madhuker.mythri@oracle.com> Content-Type: text/plain X-BeenThere: test-report@dpdk.org X-Mailman-Version: 2.1.29 Precedence: list List-Id: automatic DPDK test reports List-Unsubscribe: , List-Archive: List-Post: List-Help: List-Subscribe: , Errors-To: test-report-bounces@dpdk.org Test-Label: iol-compile-amd64-testing Test-Status: SUCCESS http://dpdk.org/patch/155002 _Testing PASS_ Submitter: Madhuker Mythri Date: Thursday, July 03 2025 11:59:03 DPDK git baseline: Repo:dpdk Branch: master CommitID:b18c543ec30729ccc7708a6e064a1f9db5d8c11f 155002 --> testing pass Upstream job id: Windows-Compile-DPDK-Native#29540 Test environment and result as below: +---------------------+-------------------+--------------------+-------------------------+ | Environment | dpdk_msvc_compile | dpdk_meson_compile | dpdk_llvm_clang_compile | +=====================+===================+====================+=========================+ | Windows Server 2022 | PASS | SKIPPED | PASS | +---------------------+-------------------+--------------------+-------------------------+ | Ubuntu 20.04 | SKIPPED | PASS | SKIPPED | +---------------------+-------------------+--------------------+-------------------------+ Windows Server 2022 Kernel: 10.0.20348.2031 Compiler: clang 15.0.7, gcc 14.1.0 (MinGW), and MSVC VS 19.39.33521 Ubuntu 20.04 Kernel: 4.19 Compiler: gcc gcc (Ubuntu 9.4.0-1ubuntu1~20.04.2) 9.4.0 To view detailed results, visit: https://lab.dpdk.org/results/dashboard/patchsets/33585/ UNH-IOL DPDK Community Lab To manage your email subscriptions, visit: https://lab.dpdk.org/results/dashboard/preferences/subscriptions/