From mboxrd@z Thu Jan 1 00:00:00 1970 Return-Path: Received: from mails.dpdk.org (mails.dpdk.org [217.70.189.124]) by inbox.dpdk.org (Postfix) with ESMTP id F373246AE7 for ; Thu, 3 Jul 2025 18:06:01 +0200 (CEST) Received: from mails.dpdk.org (localhost [127.0.0.1]) by mails.dpdk.org (Postfix) with ESMTP id DFA7940264; Thu, 3 Jul 2025 18:06:01 +0200 (CEST) Received: from mail-pf1-f225.google.com (mail-pf1-f225.google.com [209.85.210.225]) by mails.dpdk.org (Postfix) with ESMTP id 973F140264 for ; Thu, 3 Jul 2025 18:06:00 +0200 (CEST) Received: by mail-pf1-f225.google.com with SMTP id d2e1a72fcca58-747fc77bb2aso157987b3a.3 for ; Thu, 03 Jul 2025 09:06:00 -0700 (PDT) DKIM-Signature: v=1; a=rsa-sha256; c=relaxed/relaxed; d=iol.unh.edu; s=unh-iol; t=1751558760; x=1752163560; darn=dpdk.org; h=references:in-reply-to:cc:to:from:subject:message-id:date:from:to :cc:subject:date:message-id:reply-to; bh=t8LAvyPVPcXYh+MtAnSWQ7hUH6WTDzs+pUwMbVuZQIA=; b=TOIn+iudTx92cXWz0pXOrwQ7SPMYEbgf43Dx/RWztg+rD676e/uvLcNevZ+WEwunnT rd0WGHlseF/iQVvi0WARDwnecq9Q/Avpu8ZjbgAjwTMf2rwQFOKyDWJv5xcQ/baYFRe4 Svp5UX+0FuiITVdaSkg3PHujqlkRdQONonDTg= X-Google-DKIM-Signature: v=1; a=rsa-sha256; c=relaxed/relaxed; d=1e100.net; s=20230601; t=1751558760; x=1752163560; h=references:in-reply-to:cc:to:from:subject:message-id:date :x-gm-message-state:from:to:cc:subject:date:message-id:reply-to; bh=t8LAvyPVPcXYh+MtAnSWQ7hUH6WTDzs+pUwMbVuZQIA=; b=oERChiLIC9t7+YkPfVoWQ+CeHbmNK6aqp9tOvUD0npv7/f6EmRNCqp63aMQHmZFfKA dk/gYB+t1Vn0I9kP1hmVxgOMd86n93gsZ9P720m4i+XWeMV2cCFCBpZwJQUAagUWwR75 twAPIMHlf0YHjn48ItBx97OeCzMrPaEqjQenyid/y1KYUygO90iFORzCko8qlE2n5ESN rE8fv9v1zTXBEJGd1H0LlCDcnLydksdazpYzAwDA+SYTnNPy4H0X1HYnBHXKkl+ZXn6U iCvRTJkSajGsB9wmKXyyiRXFRl1pgTb/4p5zPgbs6crV8yg7mzGIJX63mrEcsc1wvYvP FAsg== X-Gm-Message-State: AOJu0YwIb4TotofxR5fDvOARvIadtec3uIYWtfkfijzcVjtt+jFhurwy fbsKgdhbBdNSijwhbmFT4VIE/+9bkRfUMYhbsjIPsnnYwhwWs3ppRh5z6cWcvhEi0r1MzwoeHfO i4XKzMDjbNrX9B1p1XH9YRk+4y2l+Zvm2rMCQOALzN/kf X-Gm-Gg: ASbGncv9bxmSvSuIvnZbKRySjSr8CT8uZ0QbQ+ZE7HjBXgCh/KZ6Wq3lRzV34QrkbFo JtjjaWydmyU2AfSt79Z6uZRNBegLKx7uwglgNiBo/fqvGXJdbeZRZEhpdmg7rnM6z9akGFdpo7H DADCz0cwp8LxCmvk7ugCwK+Pcf9wzkSZn+EvRyp1JqGtzInKTMlgjFaQO8RvbOmTTOehw8XjJO/ 0tEPtyg8n2CzsZbPp1AIavyBiantO5/uVd9wR6Fk+igv8o2WDpX6NKi8oMlLT8mxZw4Pu72ej2F DXbT1JB7+oIHxIvzFXgj2/3CMVr3G7x28vFJJiA4rsUCV6vx+2n1Ayy0+9bchqnrGC/fvA== X-Google-Smtp-Source: AGHT+IGDNafz0aaL8YG2zWAlEyV2bB5OaL+saJSvqP9hoYchvPTXiXsDAKcXoizEnzdcsH9WKV6RYXklLqPf X-Received: by 2002:a05:6a00:1704:b0:748:2eb7:8cc7 with SMTP id d2e1a72fcca58-74cb6a057famr4410939b3a.21.1751558759501; Thu, 03 Jul 2025 09:05:59 -0700 (PDT) Received: from postal.iol.unh.edu (postal.iol.unh.edu. [132.177.123.84]) by smtp-relay.gmail.com with ESMTPS id d2e1a72fcca58-74ce3510792sm353b3a.10.2025.07.03.09.05.59 (version=TLS1_2 cipher=ECDHE-ECDSA-AES128-GCM-SHA256 bits=128/128); Thu, 03 Jul 2025 09:05:59 -0700 (PDT) X-Relaying-Domain: iol.unh.edu Date: Thu, 03 Jul 2025 09:05:59 -0700 (PDT) Message-ID: <6866aa67.050a0220.2b36e0.0057SMTPIN_ADDED_MISSING@mx.google.com> Received: from [172.21.0.6] (unknown [172.18.0.240]) by postal.iol.unh.edu (Postfix) with ESMTP id 9711F6051830; Thu, 3 Jul 2025 12:05:58 -0400 (EDT) Subject: |SUCCESS| pw155002 [PATCH] net/bonding: avoid RSS reta update in flo From: dpdklab@iol.unh.edu To: Test Report Cc: dpdk-test-reports@iol.unh.edu In-Reply-To: <20250703115903.7157-1-madhuker.mythri@oracle.com> References: <20250703115903.7157-1-madhuker.mythri@oracle.com> Content-Type: text/plain X-BeenThere: test-report@dpdk.org X-Mailman-Version: 2.1.29 Precedence: list List-Id: automatic DPDK test reports List-Unsubscribe: , List-Archive: List-Post: List-Help: List-Subscribe: , Errors-To: test-report-bounces@dpdk.org Test-Label: iol-compile-amd64-testing Test-Status: SUCCESS http://dpdk.org/patch/155002 _Testing PASS_ Submitter: Madhuker Mythri Date: Thursday, July 03 2025 11:59:03 DPDK git baseline: Repo:dpdk Branch: master CommitID:b18c543ec30729ccc7708a6e064a1f9db5d8c11f 155002 --> testing pass Upstream job id: Windows-Compile-DPDK-Native#29541 Test environment and result as below: +---------------------+-------------------+--------------------+-------------------------+----------------------+ | Environment | dpdk_msvc_compile | dpdk_meson_compile | dpdk_llvm_clang_compile | dpdk_mingw64_compile | +=====================+===================+====================+=========================+======================+ | Windows Server 2022 | PASS | SKIPPED | PASS | PASS | +---------------------+-------------------+--------------------+-------------------------+----------------------+ | Ubuntu 20.04 | SKIPPED | PASS | SKIPPED | SKIPPED | +---------------------+-------------------+--------------------+-------------------------+----------------------+ Windows Server 2022 Kernel: 10.0.20348.2031 Compiler: clang 15.0.7, gcc 14.1.0 (MinGW), and MSVC VS 19.39.33521 Ubuntu 20.04 Kernel: 4.19 Compiler: gcc gcc (Ubuntu 9.4.0-1ubuntu1~20.04.2) 9.4.0 To view detailed results, visit: https://lab.dpdk.org/results/dashboard/patchsets/33585/ UNH-IOL DPDK Community Lab To manage your email subscriptions, visit: https://lab.dpdk.org/results/dashboard/preferences/subscriptions/