From mboxrd@z Thu Jan 1 00:00:00 1970 Return-Path: Received: from mails.dpdk.org (mails.dpdk.org [217.70.189.124]) by inbox.dpdk.org (Postfix) with ESMTP id C870146AE7 for ; Thu, 3 Jul 2025 18:27:30 +0200 (CEST) Received: from mails.dpdk.org (localhost [127.0.0.1]) by mails.dpdk.org (Postfix) with ESMTP id C11E940264; Thu, 3 Jul 2025 18:27:30 +0200 (CEST) Received: from mail-ot1-f99.google.com (mail-ot1-f99.google.com [209.85.210.99]) by mails.dpdk.org (Postfix) with ESMTP id 6B33240264 for ; Thu, 3 Jul 2025 18:27:29 +0200 (CEST) Received: by mail-ot1-f99.google.com with SMTP id 46e09a7af769-73a5c3e1b7aso62821a34.3 for ; Thu, 03 Jul 2025 09:27:29 -0700 (PDT) DKIM-Signature: v=1; a=rsa-sha256; c=relaxed/relaxed; d=iol.unh.edu; s=unh-iol; t=1751560048; x=1752164848; darn=dpdk.org; h=references:in-reply-to:cc:to:from:subject:message-id:date:from:to :cc:subject:date:message-id:reply-to; bh=Uh70I8u1bIf3e0082ZFTXhefFb9CZKRQuMgKhiaGcEs=; b=Q6lL3xyuihJQaazLxU6kL8zabaUdhrvLhkkQ9aWzUIGldunYckUCWADM2TnQS4m7tA IsniPLacnTykG4pHrDC2+TofMf91XiIcJ6IvrPgkLCaKuQdq+12oC+zU71dYWWKfWkMR udQZabgL3TGuX9nKhmQEHlhOO49gWtmmfa1T4= X-Google-DKIM-Signature: v=1; a=rsa-sha256; c=relaxed/relaxed; d=1e100.net; s=20230601; t=1751560048; x=1752164848; h=references:in-reply-to:cc:to:from:subject:message-id:date :x-gm-message-state:from:to:cc:subject:date:message-id:reply-to; bh=Uh70I8u1bIf3e0082ZFTXhefFb9CZKRQuMgKhiaGcEs=; b=VtjG+HDFaNAZMHl7S5TFroYPOuj5y3x4VXx0oQyxNe0ssvK+3r+k0EtEWWQWAR+j50 bYoDEjbMVkhJjyu7ju6sxUpjtPHP6dW0GA9oX7EOiN0c1o+OaiHv6wMkaoU/6+SSorvR Xvtd+S7XiJVCXHvs5eWiosRbzHmmDWYo7/XRgGzNb3zwntGk7uDCHxIxpKya+JIxkWpb ASDOY++pIwOr4zwyHq0OkHWugk9VLbQdWx0vpX1CEr3hKn1Wiw/I82OPlMDvmii4ZbWw fSF14t5gZLDXYfIWQi5Ca+7gbwN2FvUYOeJrCXA8NpxY49nlbuytOFVrjAdBoZ1iPrzP z57A== X-Gm-Message-State: AOJu0YxdF8aFm3ESl0Xf3cDJ8Fw3w1KHPCPCvONUgSI5ik2NlCTO9kp/ 4YNrz484hrTXqCaKELHARiQYrm7wR1S70wR7wHSrIH42VIUpmuFDzGpFQ4r/vGJumPsEQycDZg2 pZD1NKBg6UCU6wXALAbAxurR7iCdbIYzgX2ZPP96gAb6WCkC1aYzEGEtxI4w9 X-Gm-Gg: ASbGnctUIm23pvDg6jiQu3KMeq8ZWaXRxazVkntZe/0lGwRl6NgMOmI9Ej5uQup2xMB zERBkoCM/HvsBlexmjYuAiPvTugITQAlOutVHz9VnUiihomvAI4mCVgZ7G039cyHRGycygiHHyc iwsz87lHOF47cNQye6blvKWGxh0U5QuCSfEYrv+uCA1nZwnpVVk2J3vTCEmVKe4YotYMGR+5cBK VFIXg3P9t5538J6/meRKCYU4Kwez03w4ixUTbuyzo5PAY1HsmjCUdIO4MBllW0eBQ9mDtqSdz7+ qbhFGCjx9nrtcI5Zj/siqyGK0rMO9Zw5O9nGUQDNx7uUrL4= X-Google-Smtp-Source: AGHT+IGCMMwa5R4v5LiyPbBv9dm/SBGMouLBnuBteJGgS29lpZsLnBwmMPUNYAmb7fqcjhiScaYo0dAf8OXo X-Received: by 2002:a05:6830:6b0e:b0:72b:955a:852c with SMTP id 46e09a7af769-73b4cee75demr5914241a34.11.1751560048649; Thu, 03 Jul 2025 09:27:28 -0700 (PDT) Received: from postal.iol.unh.edu (postal.iol.unh.edu. [2606:4100:3880:1234::84]) by smtp-relay.gmail.com with ESMTPS id 586e51a60fabf-2efd4e0c57asm953606fac.18.2025.07.03.09.27.28 (version=TLS1_2 cipher=ECDHE-ECDSA-AES128-GCM-SHA256 bits=128/128); Thu, 03 Jul 2025 09:27:28 -0700 (PDT) X-Relaying-Domain: iol.unh.edu Date: Thu, 03 Jul 2025 09:27:28 -0700 (PDT) Message-ID: <6866af70.050a0220.19970d.85e2SMTPIN_ADDED_MISSING@mx.google.com> Received: from [172.21.0.5] (unknown [172.18.0.240]) by postal.iol.unh.edu (Postfix) with ESMTP id 1D6A660003F7; Thu, 3 Jul 2025 12:27:28 -0400 (EDT) Subject: |SUCCESS| pw155005 [PATCH] net/mlx5: fix decreasing the reference co From: dpdklab@iol.unh.edu To: Test Report Cc: dpdk-test-reports@iol.unh.edu In-Reply-To: <20250703150252.145065-1-bingz@nvidia.com> References: <20250703150252.145065-1-bingz@nvidia.com> Content-Type: text/plain X-BeenThere: test-report@dpdk.org X-Mailman-Version: 2.1.29 Precedence: list List-Id: automatic DPDK test reports List-Unsubscribe: , List-Archive: List-Post: List-Help: List-Subscribe: , Errors-To: test-report-bounces@dpdk.org Test-Label: iol-compile-amd64-testing Test-Status: SUCCESS http://dpdk.org/patch/155005 _Testing PASS_ Submitter: Bing Zhao Date: Thursday, July 03 2025 15:02:52 DPDK git baseline: Repo:dpdk Branch: master CommitID:8a59ec1fe088cc2998b4376808dc7728d4e31946 155005 --> testing pass Upstream job id: Windows-Compile-DPDK-Native#29542 Test environment and result as below: +---------------------+--------------------+-------------------+-------------------------+ | Environment | dpdk_meson_compile | dpdk_msvc_compile | dpdk_llvm_clang_compile | +=====================+====================+===================+=========================+ | Ubuntu 20.04 | PASS | SKIPPED | SKIPPED | +---------------------+--------------------+-------------------+-------------------------+ | Windows Server 2022 | SKIPPED | PASS | PASS | +---------------------+--------------------+-------------------+-------------------------+ Ubuntu 20.04 Kernel: 4.19 Compiler: gcc gcc (Ubuntu 9.4.0-1ubuntu1~20.04.2) 9.4.0 Windows Server 2022 Kernel: 10.0.20348.2031 Compiler: clang 15.0.7, gcc 14.1.0 (MinGW), and MSVC VS 19.39.33521 To view detailed results, visit: https://lab.dpdk.org/results/dashboard/patchsets/33588/ UNH-IOL DPDK Community Lab To manage your email subscriptions, visit: https://lab.dpdk.org/results/dashboard/preferences/subscriptions/