From mboxrd@z Thu Jan 1 00:00:00 1970 Return-Path: Received: from mails.dpdk.org (mails.dpdk.org [217.70.189.124]) by inbox.dpdk.org (Postfix) with ESMTP id 3353646AE7 for ; Thu, 3 Jul 2025 18:45:31 +0200 (CEST) Received: from mails.dpdk.org (localhost [127.0.0.1]) by mails.dpdk.org (Postfix) with ESMTP id 0D4CA40264; Thu, 3 Jul 2025 18:45:31 +0200 (CEST) Received: from mail-pg1-f225.google.com (mail-pg1-f225.google.com [209.85.215.225]) by mails.dpdk.org (Postfix) with ESMTP id 4216140264 for ; Thu, 3 Jul 2025 18:45:29 +0200 (CEST) Received: by mail-pg1-f225.google.com with SMTP id 41be03b00d2f7-b2c2c762a89so105043a12.0 for ; Thu, 03 Jul 2025 09:45:29 -0700 (PDT) DKIM-Signature: v=1; a=rsa-sha256; c=relaxed/relaxed; d=iol.unh.edu; s=unh-iol; t=1751561128; x=1752165928; darn=dpdk.org; h=references:in-reply-to:cc:to:from:subject:message-id:date:from:to :cc:subject:date:message-id:reply-to; bh=Zfm/8Xpd+iU+iF6mgAF7qy1xSWCQbI5KnCco7xeXuq4=; b=gZ4MRnVpHz8jr5BQCereKmtloM+pTucNz37ZlUtVOmSEia+b6RkOsd7y6qmBymCWBv T4bX/a7qu6aFb95cWPE1IZmUqp4E/vjnglKlGXos+2s+jKbZmo7ZNZljSkP2VnRQBNil MMFmzNhYaunPREA1PFMxciRRa5JhednUs4cu0= X-Google-DKIM-Signature: v=1; a=rsa-sha256; c=relaxed/relaxed; d=1e100.net; s=20230601; t=1751561128; x=1752165928; h=references:in-reply-to:cc:to:from:subject:message-id:date :x-gm-message-state:from:to:cc:subject:date:message-id:reply-to; bh=Zfm/8Xpd+iU+iF6mgAF7qy1xSWCQbI5KnCco7xeXuq4=; b=tbqLTUo9VNekD1IcpWOOrg4yb+DEDvqAZW9afJLrIknp4RrHmqXiQz8waLFhMsGEsX zPb0gQq13STBAFYBtJcHF36YBJrfLle5Eu+IO117O1j9gPajsH2M+2lh9ZCp0PYwRhBD iVuJEFC6d7TaCMPaY/Auf8NW140l1xNNTQQ53QhQmUpffEbZ1GuKBaqFF8TBwYuiqdBf XrZYIGM+PRCTY+yrj0f1ECQKNx88rpR2xFjbz8qJi220y5bzLATX9UFBz6ERN9cN6qjq J5wwfk2A+oQVOEOYLfSj5OHtfVhYeSrwYwW9TJBDg2EUOEzBZq4fa4w2vBmFycOTuLwJ ZE2w== X-Gm-Message-State: AOJu0YzTfuoD+VJIoMXoLR0QAfGyQ91F4oUNg0MN84Ccu6F6YzwEj3S0 /ZdE4Tx7GdUf3bwzb6Gc9r1QtOd91irRRXLZryw0cS4aFIkdnyd/9zLM/Oe/RZqVYK+xF0Gr+yl bMQoeIScnutefrMAD7ga6ml28FRt5Xk0PgYNU5UOE1JUI X-Gm-Gg: ASbGncu/Wofq11Y0i8a/Fa3xtJvDjKua4+urRE4Vm8O8Ez3taynaLxoSYoG3Bg39eMM XWc+TkiaaukbvC9GhcmlGA4uxlo9ptDdkFOYYU4ZWQgrteTs0CSH+5voYAyW/5HVVuFB7kLrpA/ 1r92FeaTeQfP5bpVXzcsOKEoj17H//OzrypVVLGw0poniqNl/h/orpJFoI/pAKCLPP3aMytNC+7 vEd9VDy5xUSQMHFHXSkecpMLYtu/Kpczjy1s71FwYoxU0YVIWurF9g7ZaEhsO8Fb2fAV/znHuqJ Qfa5jJbQJr8trbv0kZcgrRbfwVTUvC+ye4bfoXiYzJ4oFF1tvd2Ih3Lgna2UQ0ZS9vIPXQ== X-Google-Smtp-Source: AGHT+IHHneu/M1kilY3h0tjcXBXr1WpMNeBeFyl4KSEZQxUHTVs5ahIsaY/M557tGrDnI6WjuxmFyx/dEeMh X-Received: by 2002:a05:6a20:9f95:b0:1f5:64fd:68eb with SMTP id adf61e73a8af0-2243c9eff94mr6071602637.7.1751561128391; Thu, 03 Jul 2025 09:45:28 -0700 (PDT) Received: from postal.iol.unh.edu (postal.iol.unh.edu. [132.177.123.84]) by smtp-relay.gmail.com with ESMTPS id d2e1a72fcca58-74ce3cfa60bsm3565b3a.16.2025.07.03.09.45.28 (version=TLS1_2 cipher=ECDHE-ECDSA-AES128-GCM-SHA256 bits=128/128); Thu, 03 Jul 2025 09:45:28 -0700 (PDT) X-Relaying-Domain: iol.unh.edu Date: Thu, 03 Jul 2025 09:45:28 -0700 (PDT) Message-ID: <6866b3a8.050a0220.2b829f.02efSMTPIN_ADDED_MISSING@mx.google.com> Received: from [172.21.0.6] (unknown [172.18.0.240]) by postal.iol.unh.edu (Postfix) with ESMTP id 9997E604D420; Thu, 3 Jul 2025 12:45:27 -0400 (EDT) Subject: |SUCCESS| pw155005 [PATCH] net/mlx5: fix decreasing the reference co From: dpdklab@iol.unh.edu To: Test Report Cc: dpdk-test-reports@iol.unh.edu In-Reply-To: <20250703150252.145065-1-bingz@nvidia.com> References: <20250703150252.145065-1-bingz@nvidia.com> Content-Type: text/plain X-BeenThere: test-report@dpdk.org X-Mailman-Version: 2.1.29 Precedence: list List-Id: automatic DPDK test reports List-Unsubscribe: , List-Archive: List-Post: List-Help: List-Subscribe: , Errors-To: test-report-bounces@dpdk.org Test-Label: iol-compile-amd64-testing Test-Status: SUCCESS http://dpdk.org/patch/155005 _Testing PASS_ Submitter: Bing Zhao Date: Thursday, July 03 2025 15:02:52 DPDK git baseline: Repo:dpdk Branch: master CommitID:8a59ec1fe088cc2998b4376808dc7728d4e31946 155005 --> testing pass Upstream job id: Windows-Compile-DPDK-Native#29543 Test environment and result as below: +---------------------+--------------------+-------------------+-------------------------+----------------------+ | Environment | dpdk_meson_compile | dpdk_msvc_compile | dpdk_llvm_clang_compile | dpdk_mingw64_compile | +=====================+====================+===================+=========================+======================+ | Ubuntu 20.04 | PASS | SKIPPED | SKIPPED | SKIPPED | +---------------------+--------------------+-------------------+-------------------------+----------------------+ | Windows Server 2022 | SKIPPED | PASS | PASS | PASS | +---------------------+--------------------+-------------------+-------------------------+----------------------+ Ubuntu 20.04 Kernel: 4.19 Compiler: gcc gcc (Ubuntu 9.4.0-1ubuntu1~20.04.2) 9.4.0 Windows Server 2022 Kernel: 10.0.20348.2031 Compiler: clang 15.0.7, gcc 14.1.0 (MinGW), and MSVC VS 19.39.33521 To view detailed results, visit: https://lab.dpdk.org/results/dashboard/patchsets/33588/ UNH-IOL DPDK Community Lab To manage your email subscriptions, visit: https://lab.dpdk.org/results/dashboard/preferences/subscriptions/