From mboxrd@z Thu Jan 1 00:00:00 1970 Return-Path: Received: from mails.dpdk.org (mails.dpdk.org [217.70.189.124]) by inbox.dpdk.org (Postfix) with ESMTP id EC35C46AE9 for ; Thu, 3 Jul 2025 19:51:12 +0200 (CEST) Received: from mails.dpdk.org (localhost [127.0.0.1]) by mails.dpdk.org (Postfix) with ESMTP id C552440264; Thu, 3 Jul 2025 19:51:12 +0200 (CEST) Received: from mail-qv1-f97.google.com (mail-qv1-f97.google.com [209.85.219.97]) by mails.dpdk.org (Postfix) with ESMTP id 4AD1240264 for ; Thu, 3 Jul 2025 19:51:11 +0200 (CEST) Received: by mail-qv1-f97.google.com with SMTP id 6a1803df08f44-6fabe9446a0so1501276d6.2 for ; Thu, 03 Jul 2025 10:51:11 -0700 (PDT) DKIM-Signature: v=1; a=rsa-sha256; c=relaxed/relaxed; d=iol.unh.edu; s=unh-iol; t=1751565070; x=1752169870; darn=dpdk.org; h=references:in-reply-to:cc:to:from:subject:message-id:date:from:to :cc:subject:date:message-id:reply-to; bh=tRCZqAYHRa54LO/LesEBpkPfpmhu9hjEVt9nd0eOZ1o=; b=U6TAeZTFzqgJOIr/ueDedUN50go0xGH5BmjZCblnuVTtjRohywuyFt8MgCmHZbF4xA iu2DBFfT9D9vf03v7QpyRhjVLVX1hXQmjnJqziZRi1N0DOp+bm2jMlo76NKTFIMGqUC9 R6TLyvVw4SkXg4vwnRkHx/Xozi/gOOQoif1J0= X-Google-DKIM-Signature: v=1; a=rsa-sha256; c=relaxed/relaxed; d=1e100.net; s=20230601; t=1751565070; x=1752169870; h=references:in-reply-to:cc:to:from:subject:message-id:date :x-gm-message-state:from:to:cc:subject:date:message-id:reply-to; bh=tRCZqAYHRa54LO/LesEBpkPfpmhu9hjEVt9nd0eOZ1o=; b=SL8k/kUpiwOVE8jDkvB+8ev7wqHYg7AVybOqeVCw6+MkVglWFF+GGZFkvm1afCQwYH OYxjYioZ2LB43Vznw/GQM8Q3oaEoy/aw480I242MkjdGWe03IEeXtXb1mL0V732qSxUq 0B6ucio8E8bhVuCLa0sLgTLHS3RINs8x0lrYQFHJPUsnMkVkSV1VvDDST8dzCOhUSyKd 2F3rivuf6/CX2rRBO1I3ST+RoAB1vxfjOu9KKI1/82+YXVbY7KYaeIJz0tcQGxXoKq7p G1+Ki6mP6EY3X6WRn5KoZuE99PfHtyiTfbu7aJpWoi5Q5aB7S77w8ZfizpCeloBIhDxz fCxQ== X-Gm-Message-State: AOJu0YxE3kMbPjN3krj2qFwFsy8m7bXyrZvswoAbzzYNql7C7BlptJ2i WNRNG2m8A5QrloWdZlj/MMa6NtiVJHJuXlFqNIjR+4UEUuUK7BXFiPx72IW3RborDJU+A/fRYE4 21033JDV/OogJ8UxxrT+WdbBYyikPC1M9jWR6dXOxwtKZGGkaIjqVnUy19sLu X-Gm-Gg: ASbGncu5TQBkLplynU5D8kU7YPRebUo77DakEdkHgKxKBVZP+BCf0eESgOIJJTt6zbu ti9M/uqwq6zSnONdfkNGS4Vm30+YurYigqm2r1TFyl6K0ejpvDk39YBJAaCbLRtLcMXfo25TWnf DTWfRAETBaNv8o6cx5I6wF4WGsBoNBuThHn9M4LhjMJ5WLtw3w/FSVlXUDxM97LxHprLFHplZfH 3L1S/yuMMsX76h+wiFgw0/vxpYEuPWfCFbB/Hh9JQCJWfbgoMG5movpLycMnjLH9dyH1euJK5tp mnD2MSQy/G6qUKZwpYsAGiO41+RBX63RacshImfwDJuVNQc= X-Google-Smtp-Source: AGHT+IEqoDiWOhz1PeuGmaNuMjuv8LpWDJ1nqFfssd20uiEfG9fJ3KSVTZx+UeUm4EsXQ9wwTYEti4SE7Rfc X-Received: by 2002:a05:6214:d6f:b0:6fa:bf2f:41ad with SMTP id 6a1803df08f44-702b1a44364mr112274276d6.19.1751565070443; Thu, 03 Jul 2025 10:51:10 -0700 (PDT) Received: from postal.iol.unh.edu (postal.iol.unh.edu. [2606:4100:3880:1234::84]) by smtp-relay.gmail.com with ESMTPS id 6a1803df08f44-702c4cca3b4sm53326d6.18.2025.07.03.10.51.10 (version=TLS1_2 cipher=ECDHE-ECDSA-AES128-GCM-SHA256 bits=128/128); Thu, 03 Jul 2025 10:51:10 -0700 (PDT) X-Relaying-Domain: iol.unh.edu Date: Thu, 03 Jul 2025 10:51:10 -0700 (PDT) Message-ID: <6866c30e.050a0220.2669c9.056aSMTPIN_ADDED_MISSING@mx.google.com> Received: from [172.21.0.6] (unknown [172.18.0.240]) by postal.iol.unh.edu (Postfix) with ESMTP id 287646050A62; Thu, 3 Jul 2025 13:51:10 -0400 (EDT) Subject: |SUCCESS| pw155000 [PATCH] [v3] build/x86: fix support for older com From: dpdklab@iol.unh.edu To: Test Report Cc: dpdk-test-reports@iol.unh.edu In-Reply-To: <20250703102123.3708401-2-bruce.richardson@intel.com> References: <20250703102123.3708401-2-bruce.richardson@intel.com> Content-Type: text/plain X-BeenThere: test-report@dpdk.org X-Mailman-Version: 2.1.29 Precedence: list List-Id: automatic DPDK test reports List-Unsubscribe: , List-Archive: List-Post: List-Help: List-Subscribe: , Errors-To: test-report-bounces@dpdk.org Test-Label: iol-compile-amd64-testing Test-Status: SUCCESS http://dpdk.org/patch/155000 _Testing PASS_ Submitter: Bruce Richardson Date: Thursday, July 03 2025 10:21:24 DPDK git baseline: Repo:dpdk Branch: master CommitID:8a59ec1fe088cc2998b4376808dc7728d4e31946 155000 --> testing pass Upstream job id: Windows-Compile-DPDK-Native#29546 Test environment and result as below: +---------------------+--------------------+-------------------+-------------------------+ | Environment | dpdk_meson_compile | dpdk_msvc_compile | dpdk_llvm_clang_compile | +=====================+====================+===================+=========================+ | Ubuntu 20.04 | PASS | SKIPPED | SKIPPED | +---------------------+--------------------+-------------------+-------------------------+ | Windows Server 2022 | SKIPPED | PASS | PASS | +---------------------+--------------------+-------------------+-------------------------+ Ubuntu 20.04 Kernel: 4.19 Compiler: gcc gcc (Ubuntu 9.4.0-1ubuntu1~20.04.2) 9.4.0 Windows Server 2022 Kernel: 10.0.20348.2031 Compiler: clang 15.0.7, gcc 14.1.0 (MinGW), and MSVC VS 19.39.33521 To view detailed results, visit: https://lab.dpdk.org/results/dashboard/patchsets/33583/ UNH-IOL DPDK Community Lab To manage your email subscriptions, visit: https://lab.dpdk.org/results/dashboard/preferences/subscriptions/