From mboxrd@z Thu Jan 1 00:00:00 1970 Return-Path: Received: from mails.dpdk.org (mails.dpdk.org [217.70.189.124]) by inbox.dpdk.org (Postfix) with ESMTP id 30A9846AFC for ; Fri, 4 Jul 2025 01:40:58 +0200 (CEST) Received: from mails.dpdk.org (localhost [127.0.0.1]) by mails.dpdk.org (Postfix) with ESMTP id 2740F4027D; Fri, 4 Jul 2025 01:40:58 +0200 (CEST) Received: from mail-vk1-f228.google.com (mail-vk1-f228.google.com [209.85.221.228]) by mails.dpdk.org (Postfix) with ESMTP id 9ADA24027D for ; Fri, 4 Jul 2025 01:40:56 +0200 (CEST) Received: by mail-vk1-f228.google.com with SMTP id 71dfb90a1353d-53185535ed9so913632e0c.0 for ; Thu, 03 Jul 2025 16:40:56 -0700 (PDT) DKIM-Signature: v=1; a=rsa-sha256; c=relaxed/relaxed; d=iol.unh.edu; s=unh-iol; t=1751586056; x=1752190856; darn=dpdk.org; h=references:in-reply-to:cc:to:from:subject:message-id:date:from:to :cc:subject:date:message-id:reply-to; bh=60kIpi3udIv2nGmU4bvTQYIb/czIj4cY8L1tnYzl1h8=; b=fdzCimOViTkx+wnN4idIh2WOEXvMoR73BLmVnT0SX3jf0kTPFKRNH0qKXCcOpqYeSX RkjS8eQr8G90gHd48u7ga3xK9H5wrtGXU0bR1O31gRqtNLgpBBomRMez+A5K3ABnBBSC d3/InAMiCLg5EX2NwZk7fCosL/SIqdwi2zB78= X-Google-DKIM-Signature: v=1; a=rsa-sha256; c=relaxed/relaxed; d=1e100.net; s=20230601; t=1751586056; x=1752190856; h=references:in-reply-to:cc:to:from:subject:message-id:date :x-gm-message-state:from:to:cc:subject:date:message-id:reply-to; bh=60kIpi3udIv2nGmU4bvTQYIb/czIj4cY8L1tnYzl1h8=; b=QiRZo7i+/ErDUfhymjCnRcLcHe4YEoZRbGb8QoiqnZWJbiStzmbZg7w4ntaeh13LrA i3WKevxZfAxYlVYukLV8/uUlTk+pMwOS+3FvIjqSGNHAEvhtmqrgVUolTmpyT8rgWuZl +CgKAZ2XDlRWNEcjh+Bz7BnH+u533getHQzrRkQOQkhi6BO9V9j9ACtG0dJBHaqaNwMN heSLpykXZqmOm97DhH992TnOs8JSBnL2LHzTfWIs8cOVwKXQAVPIrbxRToFGnIH9jS7+ j2r301+xnAS/cudwJ25eJb2MFWvs4EvGFQJ7lZYoNP97Pox5ijWEeTQWTjIEzSsjaj9X JZPA== X-Gm-Message-State: AOJu0YydY7nWfkUCALGjR0GlBnR7sGsrVCPz746utxpymgWhHZ9D0kot HrY/U7x/yOWJdiEC/1/+3l6+MSv0UXIwBEj9Vmlyz5GR10scEngG/x7vDwczm54vKYdXyfIrPwt kI/4X2iSv179tDn3gRwCo2ZQhNQo2Ax0Gf02B4MT0MPELUxVF16QH2YFUgBii X-Gm-Gg: ASbGncuQeQVANS/u3AIiuQ5UQPpYfTK3P3sC49j/CzihM28rbzehso0iSgikoSeRSS7 T3+gSFdwoeNSxm7EfJ/cyRo8UXjZTQ9IzGxBsG7/CNv3JdY1MrPkY7wOpb1qnn63KBsmmKWXcfQ iTKQ3cHRSXNAut+s9sjIKixNKpX3WJC5kweO9YxwS7V5EXmo1jOl0XfzmUShArmk1SQlQMeAPNs aV54yhevUn1eKR4oIcrcB2hWnFhrNnMaADlY0adQhFRtcm9MynFKimvKHRVi1G2JbdfEQwUWn7u J5CPZSxIHnsLO66aXUrv1t5q+lSEXDIWar9yn2PcAL8RdN0= X-Google-Smtp-Source: AGHT+IE6bCwr+g8aQ8QJ/nS+ZqCeWh4PIckMyoI8ULloyNPyS/Ig7HtzW7rlcciYuPCgpDlmny+d/0b08S5d X-Received: by 2002:a05:6122:1c0d:b0:534:76d4:64ab with SMTP id 71dfb90a1353d-534793b4f44mr1150489e0c.5.1751586055891; Thu, 03 Jul 2025 16:40:55 -0700 (PDT) Received: from postal.iol.unh.edu (postal.iol.unh.edu. [2606:4100:3880:1234::84]) by smtp-relay.gmail.com with ESMTPS id 71dfb90a1353d-534790a99ecsm37374e0c.12.2025.07.03.16.40.55 (version=TLS1_2 cipher=ECDHE-ECDSA-AES128-GCM-SHA256 bits=128/128); Thu, 03 Jul 2025 16:40:55 -0700 (PDT) X-Relaying-Domain: iol.unh.edu Date: Thu, 03 Jul 2025 16:40:55 -0700 (PDT) Message-ID: <68671507.050a0220.3b020c.1ea1SMTPIN_ADDED_MISSING@mx.google.com> Received: from [172.21.0.5] (unknown [172.18.0.240]) by postal.iol.unh.edu (Postfix) with ESMTP id 8C6C16051830; Thu, 3 Jul 2025 19:40:55 -0400 (EDT) Subject: |SUCCESS| pw154914 [PATCH] [v3] test/argparse: change initialization From: dpdklab@iol.unh.edu To: Test Report Cc: dpdk-test-reports@iol.unh.edu In-Reply-To: <20250701154202.237442-1-stephen@networkplumber.org> References: <20250701154202.237442-1-stephen@networkplumber.org> Content-Type: text/plain X-BeenThere: test-report@dpdk.org X-Mailman-Version: 2.1.29 Precedence: list List-Id: automatic DPDK test reports List-Unsubscribe: , List-Archive: List-Post: List-Help: List-Subscribe: , Errors-To: test-report-bounces@dpdk.org Test-Label: iol-compile-amd64-testing Test-Status: SUCCESS http://dpdk.org/patch/154914 _Testing PASS_ Submitter: Stephen Hemminger Date: Tuesday, July 01 2025 15:41:46 DPDK git baseline: Repo:dpdk Branch: master CommitID:70c2297528e7c7789af452f78de1932e9a20c8a2 154914 --> testing pass Upstream job id: Windows-Compile-DPDK-Native#29553 Test environment and result as below: +---------------------+--------------------+-------------------------+-------------------+----------------------+ | Environment | dpdk_meson_compile | dpdk_llvm_clang_compile | dpdk_msvc_compile | dpdk_mingw64_compile | +=====================+====================+=========================+===================+======================+ | Ubuntu 20.04 | PASS | SKIPPED | SKIPPED | SKIPPED | +---------------------+--------------------+-------------------------+-------------------+----------------------+ | Windows Server 2022 | SKIPPED | PASS | PASS | PASS | +---------------------+--------------------+-------------------------+-------------------+----------------------+ Ubuntu 20.04 Kernel: 4.19 Compiler: gcc gcc (Ubuntu 9.4.0-1ubuntu1~20.04.2) 9.4.0 Windows Server 2022 Kernel: 10.0.20348.2031 Compiler: clang 15.0.7, gcc 14.1.0 (MinGW), and MSVC VS 19.39.33521 To view detailed results, visit: https://lab.dpdk.org/results/dashboard/patchsets/33557/ UNH-IOL DPDK Community Lab To manage your email subscriptions, visit: https://lab.dpdk.org/results/dashboard/preferences/subscriptions/