From mboxrd@z Thu Jan 1 00:00:00 1970 Return-Path: Received: from mails.dpdk.org (mails.dpdk.org [217.70.189.124]) by inbox.dpdk.org (Postfix) with ESMTP id C933046AFD for ; Fri, 4 Jul 2025 02:40:08 +0200 (CEST) Received: from mails.dpdk.org (localhost [127.0.0.1]) by mails.dpdk.org (Postfix) with ESMTP id A7E174027D; Fri, 4 Jul 2025 02:40:08 +0200 (CEST) Received: from mail-il1-f228.google.com (mail-il1-f228.google.com [209.85.166.228]) by mails.dpdk.org (Postfix) with ESMTP id 2DAB44027D for ; Fri, 4 Jul 2025 02:40:07 +0200 (CEST) Received: by mail-il1-f228.google.com with SMTP id e9e14a558f8ab-3df2e7cdc64so4633235ab.1 for ; Thu, 03 Jul 2025 17:40:07 -0700 (PDT) DKIM-Signature: v=1; a=rsa-sha256; c=relaxed/relaxed; d=iol.unh.edu; s=unh-iol; t=1751589606; x=1752194406; darn=dpdk.org; h=cc:to:from:subject:message-id:date:from:to:cc:subject:date :message-id:reply-to; bh=DdCbA1y8zhqWrTkrGkYkTjTUKDl4vhaNGOpPhRWem+8=; b=aqFyffLP/FAFgllq0pFM7+ipcgKxbnPezYzmsZZhLrwP3obZzr+E8yrkvAyXZcmDz+ EF3gQXu3RvhhKyv89cr6vo7iSL00hPjg6ZXC1krhf3nDWPbHhVYjFMp2BgFjXyKGP+AH 3T/N6sErR4rK+dbIvnBeNSdydjrYOXdJiILC8= X-Google-DKIM-Signature: v=1; a=rsa-sha256; c=relaxed/relaxed; d=1e100.net; s=20230601; t=1751589606; x=1752194406; h=cc:to:from:subject:message-id:date:x-gm-message-state:from:to:cc :subject:date:message-id:reply-to; bh=DdCbA1y8zhqWrTkrGkYkTjTUKDl4vhaNGOpPhRWem+8=; b=sjD8+z5AAOEiZhvB14uQhyLYDOdfv6BhU2fO3+4n33cF9v7iVvNJNURsBMm/9/BxZ3 6WbU4EJQ3wOzbwgmSL3+ziF43ZQvisx14Mmyfr/wO0Fhrt6hT9dLBBwJ7Eu2lZNFevLJ aQ7Y2msclfEWlpYDkmviKMG19uDPmNqZv8j/6en3JL3LE5m3JvalzeMi9smpHdEtztBe GpRbOTF8wBxQc2a6BllUdNZwI2fG9oYSBQ8oeTKmxmtAsrUD+Ws9XrUsXNLVqtyhZeDU DCqWaOdjJ6fFlZGrjqPV5U9HGiIWgKeGbLt20TYuQaKd7hRHrXimhR9Z9mTmCBYRlvxS FZEA== X-Gm-Message-State: AOJu0YwRzBg29hJN6zbz4/FCAkHZIgp/6gAlb/JuLSgZex6WNdoP7Doz a7fd4b8wF6de/cv0FQzh4+gZEfK7dVDHne9qMz7gnnyPRBWpFYovHJEDldqwUS81kLDO5uvmprh 8ft60s+lzpsDTTplCi2csKj3RA3cRM7z5LE2SYy+qix7K X-Gm-Gg: ASbGnctPIKZh2UtjrpsLjfES6eww7lv79jqqHwj7zvAHaQx5MZzWDfqy2zCGeCkiC6y e60MVLJh29fh+snUYY+xzTSYJYmjbNsupWJOJUdVS5KSbQ/J8iKq2bMK3Gnh5LanxAAz+eGtFgC LAP6L+Oh5WqUwF1xT32X+wd3NeaYHfZSMPmJyARxBy7rWthcqXb1++FpnM8HQ2RM9fSVsg1R21O j0vrgA5nLNWAD8tw0SOqM3b6NOj99DcpBxFLSS2354fTap/cY47BqoF5TJWI2pv++wDk5/smgoq a+NfThdUR6tYodsApDC7T/RM/+0SLLu+czpgddzu6Pl9WjknEWsPEipJBf1G7x9i7DGwnQ== X-Google-Smtp-Source: AGHT+IED1xCBsAWjv20+DdlExvgNCcMEoayG4txqJ6g3ALWnFrzHxHuhxWi/sGWUAHCJtrgkxE836pcG6/wD X-Received: by 2002:a05:6e02:1449:b0:3df:3eeb:9dd7 with SMTP id e9e14a558f8ab-3e1355ec4b4mr5505635ab.19.1751589606459; Thu, 03 Jul 2025 17:40:06 -0700 (PDT) Received: from postal.iol.unh.edu (postal.iol.unh.edu. [132.177.123.84]) by smtp-relay.gmail.com with ESMTPS id e9e14a558f8ab-3e1004b6bc6sm634095ab.66.2025.07.03.17.40.06 (version=TLS1_2 cipher=ECDHE-ECDSA-AES128-GCM-SHA256 bits=128/128); Thu, 03 Jul 2025 17:40:06 -0700 (PDT) X-Relaying-Domain: iol.unh.edu Date: Thu, 03 Jul 2025 17:40:06 -0700 (PDT) Message-ID: <686722e6.050a0220.1b9e8f.3a7dSMTPIN_ADDED_MISSING@mx.google.com> Received: from [172.21.0.5] (unknown [172.18.0.240]) by postal.iol.unh.edu (Postfix) with ESMTP id E59646051830; Thu, 3 Jul 2025 20:40:05 -0400 (EDT) Subject: |SUCCESS| [GIT MASTER] 70c2297528e7c7789af452f78de1932e9a20c8a2 From: dpdklab@iol.unh.edu To: Test Report Cc: dpdk-test-reports@iol.unh.edu Content-Type: text/plain X-BeenThere: test-report@dpdk.org X-Mailman-Version: 2.1.29 Precedence: list List-Id: automatic DPDK test reports List-Unsubscribe: , List-Archive: List-Post: List-Help: List-Subscribe: , Errors-To: test-report-bounces@dpdk.org _Testing PASS_ Branch: dpdk 70c2297528e7c7789af452f78de1932e9a20c8a2 --> testing pass Upstream job id: Windows-Compile-DPDK-Native#29555 Test environment and result as below: +---------------------+--------------------+-------------------------+-------------------+----------------------+ | Environment | dpdk_meson_compile | dpdk_llvm_clang_compile | dpdk_msvc_compile | dpdk_mingw64_compile | +=====================+====================+=========================+===================+======================+ | Ubuntu 20.04 | PASS | SKIPPED | SKIPPED | SKIPPED | +---------------------+--------------------+-------------------------+-------------------+----------------------+ | Windows Server 2022 | SKIPPED | PASS | PASS | PASS | +---------------------+--------------------+-------------------------+-------------------+----------------------+ Ubuntu 20.04 Kernel: 4.19 Compiler: gcc gcc (Ubuntu 9.4.0-1ubuntu1~20.04.2) 9.4.0 Windows Server 2022 Kernel: 10.0.20348.2031 Compiler: clang 15.0.7, gcc 14.1.0 (MinGW), and MSVC VS 19.39.33521 To view detailed results, visit: https://lab.dpdk.org/results/dashboard/tarballs/34136/ UNH-IOL DPDK Community Lab To manage your email subscriptions, visit: https://lab.dpdk.org/results/dashboard/preferences/subscriptions/