From mboxrd@z Thu Jan 1 00:00:00 1970 Return-Path: Received: from mails.dpdk.org (mails.dpdk.org [217.70.189.124]) by inbox.dpdk.org (Postfix) with ESMTP id 0AC3346AFF for ; Fri, 4 Jul 2025 03:48:45 +0200 (CEST) Received: from mails.dpdk.org (localhost [127.0.0.1]) by mails.dpdk.org (Postfix) with ESMTP id E4F904027D; Fri, 4 Jul 2025 03:48:44 +0200 (CEST) Received: from mail-oa1-f97.google.com (mail-oa1-f97.google.com [209.85.160.97]) by mails.dpdk.org (Postfix) with ESMTP id A7D054027D for ; Fri, 4 Jul 2025 03:48:43 +0200 (CEST) Received: by mail-oa1-f97.google.com with SMTP id 586e51a60fabf-2ef891cd058so455733fac.1 for ; Thu, 03 Jul 2025 18:48:43 -0700 (PDT) DKIM-Signature: v=1; a=rsa-sha256; c=relaxed/relaxed; d=iol.unh.edu; s=unh-iol; t=1751593723; x=1752198523; darn=dpdk.org; h=references:in-reply-to:cc:to:from:subject:message-id:date:from:to :cc:subject:date:message-id:reply-to; bh=aeNU6yb1UwVYd/AxVkLDUqQ2JzuvS6VQRjvEcTw+ASQ=; b=J4SKN12xaUJssWyRQpwkSBJ6+WHggbiBrR7+FJgZSVpM/97bqUgD5BCe9kAYbFzq/Z RuH6tBu8kIg5ZrBbI0Jb4tOqfg/Fzen9EYYTmDR/85xM7WRJhZ1FxvMamhepCjer+RaR XksNeTV17AjsOe0cW2lqD85+F5fpF0GmiWSAc= X-Google-DKIM-Signature: v=1; a=rsa-sha256; c=relaxed/relaxed; d=1e100.net; s=20230601; t=1751593723; x=1752198523; h=references:in-reply-to:cc:to:from:subject:message-id:date :x-gm-message-state:from:to:cc:subject:date:message-id:reply-to; bh=aeNU6yb1UwVYd/AxVkLDUqQ2JzuvS6VQRjvEcTw+ASQ=; b=Gl/rqN7ApZfinRvVVssA2R+DBZl1tazwHAHwMhYfCNCqCt42k9Mlc4DWeZorCxjdaL ChQ+df2c3nckMkmrQSq/fO5Y/KGC2ZPsF3ALHbXIc7B7+qJoRKdc0DDFyMdqlv+apZA+ ja/ktP/32WgrJUaVUikNCzhCOTUaJUUgQSyX71UYCUeFgWIiSctuO10VApRbvzJS+Pkj xYuxtmgNFe8sYrOcdF9dfT2HFz5TKbiIZPlF7XB/LlF40/2P83SAqxh2WpWtoQ8tSZ6R d6owRgZ+Urc0UrwrEk29UCT1NUJAairrJz2Ooe70B1FFN3k9w95LuSYeGmJu8TWXC+ij rexg== X-Gm-Message-State: AOJu0YxQco+nHHAWel1P4i5d5eegwsaNNI+OHZeXza1lj+FucSQ52xtT JVi/WXhFhErSL5tHjqiaIJwtGdx3LpN/nO6JF1er9/Ji0E+pEhh8xkojp45pg4GfrnWnZYTzeU3 eMj4Y4d36O8nruL/w6j82PyQHJXMH+XelU1N6aG2WH/c3 X-Gm-Gg: ASbGncvqNxOeN8IffpEaS20uv8jam04nsvEllJRrj8B3c3vbFNboqA3YtVWBeHc/Hbf ZRVOFTXnKJON1WtEJ6ODQkjebeqEvuBd9UkL0SbD+9PHfqbLadE8QvAYFO6n+U5XEyp3DigGjVe hXLc0jxwo986IteVps7v4jkJfxGgQBjNMTuUxuxEdVgq8UheKd/3HY4dcTWJ5dIzTCnHGRgca6k jWH9zgSlEhyjz7B0hK9yyA/kzbcHoSCnk1HQfNB8rtJkjiyelIZ/cVaxKWax7IYZO0ke4NjNShm MqntlC3nSp9p0qEQlB8m1ZCDNbyjGrD9RITPwAf6c11ZfNgknappmFbLJUS9rhGkY2GfJg== X-Google-Smtp-Source: AGHT+IE7Ts1QbUGdy/5FFIRUmrYLi+CxQvgVahEu42uTwH8K+gju5UcQSMmrHJ+0AmTktXUdB/T/HTxMIQmi X-Received: by 2002:a05:6870:249c:b0:2c2:561c:47e3 with SMTP id 586e51a60fabf-2f796cae266mr235989fac.21.1751593722811; Thu, 03 Jul 2025 18:48:42 -0700 (PDT) Received: from postal.iol.unh.edu (postal.iol.unh.edu. [132.177.123.84]) by smtp-relay.gmail.com with ESMTPS id 586e51a60fabf-2f7900b8062sm50174fac.28.2025.07.03.18.48.42 (version=TLS1_2 cipher=ECDHE-ECDSA-AES128-GCM-SHA256 bits=128/128); Thu, 03 Jul 2025 18:48:42 -0700 (PDT) X-Relaying-Domain: iol.unh.edu Date: Thu, 03 Jul 2025 18:48:42 -0700 (PDT) Message-ID: <686732fa.050a0220.140d94.2b49SMTPIN_ADDED_MISSING@mx.google.com> Received: from [172.21.0.6] (unknown [172.18.0.240]) by postal.iol.unh.edu (Postfix) with ESMTP id 4DE5F6051830; Thu, 3 Jul 2025 21:48:42 -0400 (EDT) Subject: |SUCCESS| pw154914 [PATCH] [v3] test/argparse: change initialization From: dpdklab@iol.unh.edu To: Test Report Cc: dpdk-test-reports@iol.unh.edu In-Reply-To: <20250701154202.237442-1-stephen@networkplumber.org> References: <20250701154202.237442-1-stephen@networkplumber.org> Content-Type: text/plain X-BeenThere: test-report@dpdk.org X-Mailman-Version: 2.1.29 Precedence: list List-Id: automatic DPDK test reports List-Unsubscribe: , List-Archive: List-Post: List-Help: List-Subscribe: , Errors-To: test-report-bounces@dpdk.org Test-Label: iol-compile-amd64-testing Test-Status: SUCCESS http://dpdk.org/patch/154914 _Testing PASS_ Submitter: Stephen Hemminger Date: Tuesday, July 01 2025 15:41:46 DPDK git baseline: Repo:dpdk Branch: master CommitID:70c2297528e7c7789af452f78de1932e9a20c8a2 154914 --> testing pass Upstream job id: Windows-Compile-DPDK-VS#6255 Test environment and result as below: +---------------------+-------------------------+--------------------+-------------------+ | Environment | dpdk_llvm_clang_compile | dpdk_meson_compile | dpdk_msvc_compile | +=====================+=========================+====================+===================+ | Windows Server 2022 | PASS | SKIPPED | PASS | +---------------------+-------------------------+--------------------+-------------------+ | Ubuntu 20.04 | SKIPPED | PASS | SKIPPED | +---------------------+-------------------------+--------------------+-------------------+ Windows Server 2022 Kernel: 10.0.20348.2031 Compiler: clang 15.0.7, gcc 14.1.0 (MinGW), and MSVC VS 19.39.33521 Ubuntu 20.04 Kernel: 4.19 Compiler: gcc gcc (Ubuntu 9.4.0-1ubuntu1~20.04.2) 9.4.0 To view detailed results, visit: https://lab.dpdk.org/results/dashboard/patchsets/33557/ UNH-IOL DPDK Community Lab To manage your email subscriptions, visit: https://lab.dpdk.org/results/dashboard/preferences/subscriptions/