From mboxrd@z Thu Jan 1 00:00:00 1970 Return-Path: Received: from mails.dpdk.org (mails.dpdk.org [217.70.189.124]) by inbox.dpdk.org (Postfix) with ESMTP id 9733046AFA for ; Fri, 4 Jul 2025 04:24:45 +0200 (CEST) Received: from mails.dpdk.org (localhost [127.0.0.1]) by mails.dpdk.org (Postfix) with ESMTP id 75B204027D; Fri, 4 Jul 2025 04:24:45 +0200 (CEST) Received: from mail-il1-f225.google.com (mail-il1-f225.google.com [209.85.166.225]) by mails.dpdk.org (Postfix) with ESMTP id E27D74027D for ; Fri, 4 Jul 2025 04:24:44 +0200 (CEST) Received: by mail-il1-f225.google.com with SMTP id e9e14a558f8ab-3ddd2710d14so5437255ab.2 for ; Thu, 03 Jul 2025 19:24:44 -0700 (PDT) DKIM-Signature: v=1; a=rsa-sha256; c=relaxed/relaxed; d=iol.unh.edu; s=unh-iol; t=1751595884; x=1752200684; darn=dpdk.org; h=references:in-reply-to:cc:to:from:subject:message-id:date:from:to :cc:subject:date:message-id:reply-to; bh=tl6j0AtkYu+hpDC//s77TSOe8YNNFU0v2am3PrqzoFw=; b=SxkzPDJ6nriFdPHS9ao4VOBwHe7P7X5i9WZizhuupyUFegLe/aqhVS6YlC6wOQiA5G v/KKi5Q9D+B2BlPuj1lEC+Tmdi+V+iyZfcLQC/iNPP7rLsGVHf9zdEtb8YYmhQPJrofV nClIoSn5ws5g6T4S3YT1Q6LYrWHCnrtZ1azz0= X-Google-DKIM-Signature: v=1; a=rsa-sha256; c=relaxed/relaxed; d=1e100.net; s=20230601; t=1751595884; x=1752200684; h=references:in-reply-to:cc:to:from:subject:message-id:date :x-gm-message-state:from:to:cc:subject:date:message-id:reply-to; bh=tl6j0AtkYu+hpDC//s77TSOe8YNNFU0v2am3PrqzoFw=; b=HA6zFY+PbSqwy23Dr3V0YfN1FdIuee1aKwM20sp6iw/HWol4U3nIZ+BapRkr8B1V+w q8sNsyr+8SfmmSz/4syAZrJRKeVsO9F28pFEkWZqt6BozDxTzBEzSozUqN8HsSOfFTuc b/s2rVI5LHc0Xf8ByEI/QZpQr8skZu2MJExu25V7duH6PjKF28IqGb+v7avOVq2ndHJh PBu1JXBsaXRdYUm0SN+6nvkTPXc+OhfOaGuGPGa+ZySGW2jq6JqLhRuHsCkut/Sip0lt efdFO7e4x8eom4wHqWE0CmHKWAw0IaLShuDEc5NOKE09cyfpLaESpp/8Yy7/Ueo3F4L2 WvEQ== X-Gm-Message-State: AOJu0YzRjbiBTXoFrPovSvKCK6OIoQxpX0wW5akUpuJa//04s/vZOGpp Yl0D8jOMbNu1/dctjEaGWBxXD36zuLL9lvg3HnjzIRkTQuMh7O1zKcF2svGFA0rhgUJwbdShHgu vIr2bDphm5sqbOiABYQEk/+MS/c6nhVhVvbJLPecLARpa X-Gm-Gg: ASbGnctr0AgXTYZ3CJzNiV2q+ukNSEqvalxLDZTmZwpMV5ZqXTWfof/32s6EN6OlQk0 l9bKqinaUF71lfBKVJQ72bA7eqgCKjDmpkubpwYzYCuxjGELbctcJ+kf6krGzQIQydQzjkhpnDo 0PApnJq5lqIYstTQzN1cCtHrKLa3OqnUKWKYAuZA6+9oBxg2064usb8PDhanjAqYEybFyHanj70 b44qXkkP3fKMNUnPNtQPa6LoAmauGUJQ0BAh4qBjUQFZjhJrU3reJnnnRejixJnjzj6zjikUNLX j5UNrrowMHntpZTh6gPsvEe0WpZkFbXinXTa8+es6jyHz5Ruq2uz55c38baAF5xq/3jZ2g== X-Google-Smtp-Source: AGHT+IE1OfASWGRRDs6mmtxswvmSTGjOPNhwJPOhNQPNTCvaP0TlWXBTW/DqMxZ86TJMMCn+scoujxgZWg3T X-Received: by 2002:a05:6e02:1566:b0:3df:4234:df7b with SMTP id e9e14a558f8ab-3e136ee489bmr4042195ab.3.1751595884158; Thu, 03 Jul 2025 19:24:44 -0700 (PDT) Received: from postal.iol.unh.edu (postal.iol.unh.edu. [132.177.123.84]) by smtp-relay.gmail.com with ESMTPS id 8926c6da1cb9f-503b5bdfa7bsm42724173.65.2025.07.03.19.24.44 (version=TLS1_2 cipher=ECDHE-ECDSA-AES128-GCM-SHA256 bits=128/128); Thu, 03 Jul 2025 19:24:44 -0700 (PDT) X-Relaying-Domain: iol.unh.edu Date: Thu, 03 Jul 2025 19:24:44 -0700 (PDT) Message-ID: <68673b6c.050a0220.10fe11.2bd0SMTPIN_ADDED_MISSING@mx.google.com> Received: from [172.21.0.5] (unknown [172.18.0.240]) by postal.iol.unh.edu (Postfix) with ESMTP id 9693960003F7; Thu, 3 Jul 2025 22:24:43 -0400 (EDT) Subject: |SUCCESS| pw154914 [PATCH] [v3] test/argparse: change initialization From: dpdklab@iol.unh.edu To: Test Report Cc: dpdk-test-reports@iol.unh.edu In-Reply-To: <20250701154202.237442-1-stephen@networkplumber.org> References: <20250701154202.237442-1-stephen@networkplumber.org> Content-Type: text/plain X-BeenThere: test-report@dpdk.org X-Mailman-Version: 2.1.29 Precedence: list List-Id: automatic DPDK test reports List-Unsubscribe: , List-Archive: List-Post: List-Help: List-Subscribe: , Errors-To: test-report-bounces@dpdk.org Test-Label: iol-unit-amd64-testing Test-Status: SUCCESS http://dpdk.org/patch/154914 _Testing PASS_ Submitter: Stephen Hemminger Date: Tuesday, July 01 2025 15:41:46 DPDK git baseline: Repo:dpdk Branch: master CommitID:70c2297528e7c7789af452f78de1932e9a20c8a2 154914 --> testing pass Upstream job id: Generic-Unit-Test-DPDK#352429 Test environment and result as below: +-------------------------------+----------------+ | Environment | dpdk_unit_test | +===============================+================+ | Ubuntu 24.04 | PASS | +-------------------------------+----------------+ | Red Hat Enterprise Linux 9.5 | PASS | +-------------------------------+----------------+ | Debian GNU/Linux 12 | PASS | +-------------------------------+----------------+ | Ubuntu 20.04 | PASS | +-------------------------------+----------------+ | CentOS Stream 9 | PASS | +-------------------------------+----------------+ | Ubuntu 22.04 | PASS | +-------------------------------+----------------+ | Fedora Linux 40 | PASS | +-------------------------------+----------------+ | CentOS Stream 10 | PASS | +-------------------------------+----------------+ | Fedora Linux 41 | PASS | +-------------------------------+----------------+ | Red Hat Enterprise Linux 8.10 | PASS | +-------------------------------+----------------+ | Windows Server 2022 | PASS | +-------------------------------+----------------+ Ubuntu 24.04 Kernel: 5.15 Compiler: gcc gcc (Ubuntu 13.3.0-6ubuntu2~24.04) 13.3.0 Red Hat Enterprise Linux 9.5 Kernel: 5.15 Compiler: gcc gcc (GCC) 11.5.0 20240719 (Red Hat 11.5.0-2) Debian GNU/Linux 12 Kernel: 5.15 Compiler: gcc gcc (Debian 12.2.0-14+deb12u1) 12.2.0 Ubuntu 20.04 Kernel: 5.15 Compiler: gcc gcc (Ubuntu 9.4.0-1ubuntu1~20.04.2) 9.4.0 CentOS Stream 9 Kernel: 5.15 Compiler: gcc gcc (GCC) 11.5.0 20240719 (Red Hat 11.5.0-7) Ubuntu 22.04 Kernel: 5.15 Compiler: gcc gcc (Ubuntu 11.4.0-1ubuntu1~22.04) 11.4.0 Fedora Linux 40 Kernel: 5.15 Compiler: gcc gcc (GCC) 14.2.1 20240912 (Red Hat 14.2.1-3) CentOS Stream 10 Kernel: 5.15 Compiler: gcc gcc (GCC) 14.2.1 20250110 (Red Hat 14.2.1-8) Fedora Linux 41 Kernel: 5.15 Compiler: gcc gcc (GCC) 14.3.1 20250523 (Red Hat 14.3.1-1) Red Hat Enterprise Linux 8.10 Kernel: 5.15 Compiler: gcc gcc (GCC) 8.5.0 20210514 (Red Hat 8.5.0-22) Windows Server 2022 Kernel: 10.0.20348.2031 Compiler: clang 15.0.7, gcc 14.1.0 (MinGW), and MSVC VS 19.39.33521 To view detailed results, visit: https://lab.dpdk.org/results/dashboard/patchsets/33557/ UNH-IOL DPDK Community Lab To manage your email subscriptions, visit: https://lab.dpdk.org/results/dashboard/preferences/subscriptions/