From mboxrd@z Thu Jan 1 00:00:00 1970 Return-Path: Received: from mails.dpdk.org (mails.dpdk.org [217.70.189.124]) by inbox.dpdk.org (Postfix) with ESMTP id C7AF346B00 for ; Fri, 4 Jul 2025 05:07:24 +0200 (CEST) Received: from mails.dpdk.org (localhost [127.0.0.1]) by mails.dpdk.org (Postfix) with ESMTP id A61434027D; Fri, 4 Jul 2025 05:07:24 +0200 (CEST) Received: from mail-pl1-f228.google.com (mail-pl1-f228.google.com [209.85.214.228]) by mails.dpdk.org (Postfix) with ESMTP id A6B7A4027D for ; Fri, 4 Jul 2025 05:07:22 +0200 (CEST) Received: by mail-pl1-f228.google.com with SMTP id d9443c01a7336-234fcadde3eso8709045ad.0 for ; Thu, 03 Jul 2025 20:07:22 -0700 (PDT) DKIM-Signature: v=1; a=rsa-sha256; c=relaxed/relaxed; d=iol.unh.edu; s=unh-iol; t=1751598442; x=1752203242; darn=dpdk.org; h=references:in-reply-to:cc:to:from:subject:message-id:date:from:to :cc:subject:date:message-id:reply-to; bh=DzMbk2gGNSOS1ekHz0J6rc/1eMQCHwueoxA03XBoya8=; b=M5LoslnmffrI44kMPDbg1vXcxdKgfGMYXWMaYsHBXe7NGQbU99qJLTkfuMdnDNwlcN tyWN7q1zyzjndByP2exX9BXGMghsQ57McDzZLdqOiHZG/XUz7K/OMlvlgcng5NGoWU1g GyfaLUgDT5/s6rsjYn9ZdsDyAVw4PPdVfK9hM= X-Google-DKIM-Signature: v=1; a=rsa-sha256; c=relaxed/relaxed; d=1e100.net; s=20230601; t=1751598442; x=1752203242; h=references:in-reply-to:cc:to:from:subject:message-id:date :x-gm-message-state:from:to:cc:subject:date:message-id:reply-to; bh=DzMbk2gGNSOS1ekHz0J6rc/1eMQCHwueoxA03XBoya8=; b=vj2sK+Ew5+dVYV9Kxn1lQR/drn44Pb6XdOMUztHEUh/naZPTk9iNFS4SOszIcJLjRK 8PFolS6NefKx4GYOYpWFw225sB69hii5zMUyEuK3wMcFzVh9WmVFAcGELR9kYoMAZHFf 05GeXEBUCt0ahEg9B/SD0MarzpO0udhgQBfvbooi+0Y97OVFNDzuIw2Z7662Rr24tawp gRQJgKr5AmNAn+ryVDT62NkHphI7Ie55qjlzy6NTawzaeVJfY3RGPk1/uUI4lBbyjn3X +fOFz4YvTv60VJ3vozs5lOqMfIxslaMivqOdCVsAKycbZFlkjwIGUfptu6gTcb7ioEbg 5W1A== X-Gm-Message-State: AOJu0YwVWhyb21bHaGZDmMohgANXBdMueZNV6SWXZgCBfNjuac0Qs4Z6 b22JQIuXxqNQEAHXecrzpypHc245/Cx8D/ECYo1suYKdGO48wIrwb3mIUl+MPJVAuylBcZ+J0sz GaKNgZBhSyoGL1Vin6fQVIptgPzJ6WJuECywCKazmobUNUbvWiItgx/inTybD X-Gm-Gg: ASbGncus1dpGbbkSbzbqhT8ll2t1gI72IiuGYtKqCxBVDIj4Oce+Rg7xMGB50zNt6ZZ oWMJNtg5zjKhVccT7xtjsxY1JfXKIg7zLUB4C87St4Qs37XDI8P9N7ReGkUw6vcKpKy9RKfrFCU t6tx96FuMf16l+Z+srXf2ROq8gb4kgVUH1OZi0/4Os+KnVrTPPVHihRHNZ/Ek8W70Nq4sG2rwEY Fb5Cj9ZzriXkCtnUhOZTuN6PzH7OrV2Wkv44BkjsTlKiIMh3Z/7vPC5d1wMCVFFdYzt66K8Wo6l 8FiYx4jP+9sVD8fZVL6KVq1XROInWvhHFxI0+IyMDHfvPI8= X-Google-Smtp-Source: AGHT+IH1ZKUFKnByLufqMu6r5nF0D4NkD3aFrqaErNANHHhpvNkxTDkBmI9tybrJC4eC3WcHK5Wop9wywj7E X-Received: by 2002:a17:903:2d2:b0:235:f078:4746 with SMTP id d9443c01a7336-23c875ac041mr8957905ad.42.1751598441697; Thu, 03 Jul 2025 20:07:21 -0700 (PDT) Received: from postal.iol.unh.edu (postal.iol.unh.edu. [2606:4100:3880:1234::84]) by smtp-relay.gmail.com with ESMTPS id d9443c01a7336-23c844e0b0dsm504715ad.79.2025.07.03.20.07.21 (version=TLS1_2 cipher=ECDHE-ECDSA-AES128-GCM-SHA256 bits=128/128); Thu, 03 Jul 2025 20:07:21 -0700 (PDT) X-Relaying-Domain: iol.unh.edu Date: Thu, 03 Jul 2025 20:07:21 -0700 (PDT) Message-ID: <68674569.170a0220.732e4.2cd0SMTPIN_ADDED_MISSING@mx.google.com> Received: from [172.21.0.5] (unknown [172.18.0.240]) by postal.iol.unh.edu (Postfix) with ESMTP id 2F1EB6051830; Thu, 3 Jul 2025 23:07:21 -0400 (EDT) Subject: |SUCCESS| pw154914 [PATCH] [v3] test/argparse: change initialization From: dpdklab@iol.unh.edu To: Test Report Cc: dpdk-test-reports@iol.unh.edu In-Reply-To: <20250701154202.237442-1-stephen@networkplumber.org> References: <20250701154202.237442-1-stephen@networkplumber.org> Content-Type: text/plain X-BeenThere: test-report@dpdk.org X-Mailman-Version: 2.1.29 Precedence: list List-Id: automatic DPDK test reports List-Unsubscribe: , List-Archive: List-Post: List-Help: List-Subscribe: , Errors-To: test-report-bounces@dpdk.org Test-Label: iol-abi-testing Test-Status: SUCCESS http://dpdk.org/patch/154914 _Testing PASS_ Submitter: Stephen Hemminger Date: Tuesday, July 01 2025 15:41:46 DPDK git baseline: Repo:dpdk Branch: master CommitID:70c2297528e7c7789af452f78de1932e9a20c8a2 154914 --> testing pass Upstream job id: Generic-DPDK-Compile-ABI#132990 Test environment and result as below: +-------------------------------+----------+ | Environment | abi_test | +===============================+==========+ | CentOS Stream 10 | PASS | +-------------------------------+----------+ | Debian GNU/Linux 12 | PASS | +-------------------------------+----------+ | Fedora Linux 40 | PASS | +-------------------------------+----------+ | Fedora Linux 41 | PASS | +-------------------------------+----------+ | Ubuntu 24.04 | PASS | +-------------------------------+----------+ | Ubuntu 22.04 | PASS | +-------------------------------+----------+ | Red Hat Enterprise Linux 9.5 | PASS | +-------------------------------+----------+ | openSUSE Leap 15.6 | PASS | +-------------------------------+----------+ | CentOS Stream 9 | PASS | +-------------------------------+----------+ | Red Hat Enterprise Linux 8.10 | PASS | +-------------------------------+----------+ CentOS Stream 10 Kernel: 5.15 Compiler: gcc gcc (GCC) 14.2.1 20250110 (Red Hat 14.2.1-8) Debian GNU/Linux 12 Kernel: 5.15 Compiler: gcc gcc (Debian 12.2.0-14+deb12u1) 12.2.0 Fedora Linux 40 Kernel: 5.15 Compiler: gcc gcc (GCC) 14.2.1 20240912 (Red Hat 14.2.1-3) Fedora Linux 41 Kernel: 5.15 Compiler: gcc gcc (GCC) 14.3.1 20250523 (Red Hat 14.3.1-1) Ubuntu 24.04 Kernel: 5.15 Compiler: gcc gcc (Ubuntu 13.3.0-6ubuntu2~24.04) 13.3.0 Ubuntu 22.04 Kernel: 5.15 Compiler: gcc gcc (Ubuntu 11.4.0-1ubuntu1~22.04) 11.4.0 Red Hat Enterprise Linux 9.5 Kernel: 5.15 Compiler: gcc gcc (GCC) 11.5.0 20240719 (Red Hat 11.5.0-2) openSUSE Leap 15.6 Kernel: 5.15 Compiler: gcc gcc (SUSE Linux) 7.5.0 CentOS Stream 9 Kernel: 5.15 Compiler: gcc gcc (GCC) 11.5.0 20240719 (Red Hat 11.5.0-7) Red Hat Enterprise Linux 8.10 Kernel: 5.15 Compiler: gcc gcc (GCC) 8.5.0 20210514 (Red Hat 8.5.0-22) To view detailed results, visit: https://lab.dpdk.org/results/dashboard/patchsets/33557/ UNH-IOL DPDK Community Lab To manage your email subscriptions, visit: https://lab.dpdk.org/results/dashboard/preferences/subscriptions/