From mboxrd@z Thu Jan 1 00:00:00 1970 Return-Path: Received: from mails.dpdk.org (mails.dpdk.org [217.70.189.124]) by inbox.dpdk.org (Postfix) with ESMTP id 72FD246B00 for ; Fri, 4 Jul 2025 05:22:51 +0200 (CEST) Received: from mails.dpdk.org (localhost [127.0.0.1]) by mails.dpdk.org (Postfix) with ESMTP id 6B5B04027D; Fri, 4 Jul 2025 05:22:51 +0200 (CEST) Received: from mail-pf1-f226.google.com (mail-pf1-f226.google.com [209.85.210.226]) by mails.dpdk.org (Postfix) with ESMTP id AE3C34027D for ; Fri, 4 Jul 2025 05:22:50 +0200 (CEST) Received: by mail-pf1-f226.google.com with SMTP id d2e1a72fcca58-74ad4533ac5so1370515b3a.0 for ; Thu, 03 Jul 2025 20:22:50 -0700 (PDT) DKIM-Signature: v=1; a=rsa-sha256; c=relaxed/relaxed; d=iol.unh.edu; s=unh-iol; t=1751599370; x=1752204170; darn=dpdk.org; h=cc:to:from:subject:message-id:date:from:to:cc:subject:date :message-id:reply-to; bh=z+GJt750EqjmqretMxCj8GA0Iuy2R4xRxcG9kItoClo=; b=aRK2n08eOS0OCkhvK5nRiiMTZbryuxlqFHQpcUEqE11qwlPjSxQesl2h9zJo4FS4xL cdeuk4LcN5T/Mv9Hl1/q54c22WfW4If7Qt7HczjYDP48dxpv/+VFVPqIbSnOAOaDkoZg JXpzD3a4Ar6CLdaNQlorU7euwPeEWHRe2Nl0g= X-Google-DKIM-Signature: v=1; a=rsa-sha256; c=relaxed/relaxed; d=1e100.net; s=20230601; t=1751599370; x=1752204170; h=cc:to:from:subject:message-id:date:x-gm-message-state:from:to:cc :subject:date:message-id:reply-to; bh=z+GJt750EqjmqretMxCj8GA0Iuy2R4xRxcG9kItoClo=; b=q2aw+Co4AmD3qg0az2DBWZBqoymzPrxQdscgVOjdiBQ1VLH+Ff7gnwoqm6Kp+O3BKe nxZW9S1UOjHoxzQyX+l1UORxe+s5dKsHyd4jCcO7XCio6YUjezZjoXeJvSHkpllcqHIM jkOEaEmxVZfUhQrvyjc5sy7vFStSCVZRQJv5vIRN0OUXzuU2plj4IOb1atN0+lVIb47Z SPQ9PB5g5Zxtiad/jkaLQ1uF4DE8pZ3hoxAN0ldRIs4ODVh++IgvOqjxTYfr6uAlGx2s oolPvUMQGZcJByJl3nm9pwh38pamLIptORm7/ChjaaUFDVAqAtTRf+51xw+B+eW7TlZr IIqg== X-Gm-Message-State: AOJu0YxrRzQd0ATGqglUfTu3f7yJOUKbGnt7jyd/5Uv5QtKXiVjmVPHk UIfGYEgu9mNiA9bcujHv/KIGLsiaoB0Ofe+H8aQHtOCs/LfPvKWUhoN+mi5fbJFQAZ05v9/F4dW fPadbJH4XVxrrWvyg32IB/satZGH4HhG3GELYHGxSth49 X-Gm-Gg: ASbGncvyRf/SFZCSSUa8fT4sbreHbQGIXZfhLJaIeGpD7p7d7NdlwbHL0hLZvxXziCS jVuN8FPhH+TeHveHMXTh3XBzCXGLS1gH8wCYzkqAEmkt8fv67kOysNw016XEiCrpaIjyEg/KXK2 4N4HWPQrBoRTUvKD08qpHxKSvaSCNSdOFD18Tjbj6Mgxo88xFl3vC5rt+Uu9Ao3th9eWTkZKXpo bVhJMuwUx1WpABL4427P7fQFJ3S0gwt2i3iZJnB5eT58+R+tzqO3+nYbuBxPZl7SWyL/TCnT8Ps OVF6piaiEdhoz15EZs0a2BiEfw8z3+rESfotX+zO3FAvObpODMmumtTzCS8z6qnIpmLrgw== X-Google-Smtp-Source: AGHT+IFPth85oybLgJp84WWF591X7cWBCDSrAMhdVdeFOwZ2d7aBnlu2G2BzkCqE56sVHlyS914AAomtC++J X-Received: by 2002:a05:6a20:160c:b0:220:98bc:e0ce with SMTP id adf61e73a8af0-225ad0dc0b2mr2421027637.1.1751599369752; Thu, 03 Jul 2025 20:22:49 -0700 (PDT) Received: from postal.iol.unh.edu (postal.iol.unh.edu. [132.177.123.84]) by smtp-relay.gmail.com with ESMTPS id 41be03b00d2f7-b38ee4ec884sm53400a12.25.2025.07.03.20.22.49 (version=TLS1_2 cipher=ECDHE-ECDSA-AES128-GCM-SHA256 bits=128/128); Thu, 03 Jul 2025 20:22:49 -0700 (PDT) X-Relaying-Domain: iol.unh.edu Date: Thu, 03 Jul 2025 20:22:49 -0700 (PDT) Message-ID: <68674909.630a0220.15e1c0.2e6fSMTPIN_ADDED_MISSING@mx.google.com> Received: from [172.21.0.10] (unknown [172.18.0.240]) by postal.iol.unh.edu (Postfix) with ESMTP id 063896051830; Thu, 3 Jul 2025 23:22:49 -0400 (EDT) Subject: |WARNING| [GIT MASTER] 70c2297528e7c7789af452f78de1932e9a20c8a2 From: dpdklab@iol.unh.edu To: Test Report Cc: dpdk-test-reports@iol.unh.edu Content-Type: text/plain X-BeenThere: test-report@dpdk.org X-Mailman-Version: 2.1.29 Precedence: list List-Id: automatic DPDK test reports List-Unsubscribe: , List-Archive: List-Post: List-Help: List-Subscribe: , Errors-To: test-report-bounces@dpdk.org _Testing issues_ Branch: dpdk 70c2297528e7c7789af452f78de1932e9a20c8a2 --> testing issues Upstream job id: Generic-DPDK-Compile-Meson#405188 Test environment and result as below: +-------------------------------+--------------------+-------------------------+-------------------+----------------------+-------------------+------------------+ | Environment | dpdk_meson_compile | dpdk_llvm_clang_compile | dpdk_msvc_compile | dpdk_mingw64_compile | dpdk_compile_spdk | dpdk_compile_ovs | +===============================+====================+=========================+===================+======================+===================+==================+ | Ubuntu 20.04 | PASS | SKIPPED | SKIPPED | SKIPPED | SKIPPED | SKIPPED | +-------------------------------+--------------------+-------------------------+-------------------+----------------------+-------------------+------------------+ | CentOS Stream 9 | PASS | SKIPPED | SKIPPED | SKIPPED | PEND | SKIPPED | +-------------------------------+--------------------+-------------------------+-------------------+----------------------+-------------------+------------------+ | CentOS Stream 10 | PASS | SKIPPED | SKIPPED | SKIPPED | SKIPPED | SKIPPED | +-------------------------------+--------------------+-------------------------+-------------------+----------------------+-------------------+------------------+ | Debian GNU/Linux 12 | PEND | SKIPPED | SKIPPED | SKIPPED | PEND | SKIPPED | +-------------------------------+--------------------+-------------------------+-------------------+----------------------+-------------------+------------------+ | Fedora Linux 40 | PEND | SKIPPED | SKIPPED | SKIPPED | PEND | SKIPPED | +-------------------------------+--------------------+-------------------------+-------------------+----------------------+-------------------+------------------+ | Fedora Linux 41 | PASS | SKIPPED | SKIPPED | SKIPPED | PASS | PASS | +-------------------------------+--------------------+-------------------------+-------------------+----------------------+-------------------+------------------+ | openSUSE Leap 15.6 | PASS | SKIPPED | SKIPPED | SKIPPED | SKIPPED | SKIPPED | +-------------------------------+--------------------+-------------------------+-------------------+----------------------+-------------------+------------------+ | Red Hat Enterprise Linux 9.5 | PASS | SKIPPED | SKIPPED | SKIPPED | SKIPPED | SKIPPED | +-------------------------------+--------------------+-------------------------+-------------------+----------------------+-------------------+------------------+ | Red Hat Enterprise Linux 8.10 | PASS | SKIPPED | SKIPPED | SKIPPED | SKIPPED | SKIPPED | +-------------------------------+--------------------+-------------------------+-------------------+----------------------+-------------------+------------------+ | Ubuntu 22.04 | PASS | SKIPPED | SKIPPED | SKIPPED | PASS | SKIPPED | +-------------------------------+--------------------+-------------------------+-------------------+----------------------+-------------------+------------------+ | Ubuntu 24.04 | PASS | SKIPPED | SKIPPED | SKIPPED | PEND | PEND | +-------------------------------+--------------------+-------------------------+-------------------+----------------------+-------------------+------------------+ | Alpine Linux 3.22.0 | PEND | SKIPPED | SKIPPED | SKIPPED | SKIPPED | SKIPPED | +-------------------------------+--------------------+-------------------------+-------------------+----------------------+-------------------+------------------+ | Arch Linux 20250613.0.365270 | PEND | SKIPPED | SKIPPED | SKIPPED | SKIPPED | SKIPPED | +-------------------------------+--------------------+-------------------------+-------------------+----------------------+-------------------+------------------+ | Windows Server 2022 | SKIPPED | PASS | PASS | PASS | SKIPPED | SKIPPED | +-------------------------------+--------------------+-------------------------+-------------------+----------------------+-------------------+------------------+ Ubuntu 20.04 Kernel: 4.19 Compiler: gcc gcc (Ubuntu 9.4.0-1ubuntu1~20.04.2) 9.4.0 CentOS Stream 9 Kernel: 5.15 Compiler: gcc gcc (GCC) 11.5.0 20240719 (Red Hat 11.5.0-7) CentOS Stream 10 Kernel: 5.15 Compiler: gcc gcc (GCC) 14.2.1 20250110 (Red Hat 14.2.1-8) Debian GNU/Linux 12 Kernel: 5.15 Compiler: gcc gcc (Debian 12.2.0-14+deb12u1) 12.2.0 Fedora Linux 40 Kernel: 5.15 Compiler: gcc gcc (GCC) 14.2.1 20240912 (Red Hat 14.2.1-3) Fedora Linux 41 Kernel: 5.15 Compiler: clang gcc (GCC) 14.3.1 20250523 (Red Hat 14.3.1-1) openSUSE Leap 15.6 Kernel: 5.15 Compiler: gcc gcc (SUSE Linux) 7.5.0 Red Hat Enterprise Linux 9.5 Kernel: 5.15 Compiler: gcc gcc (GCC) 11.5.0 20240719 (Red Hat 11.5.0-2) Red Hat Enterprise Linux 8.10 Kernel: 5.15 Compiler: gcc gcc (GCC) 8.5.0 20210514 (Red Hat 8.5.0-22) Ubuntu 22.04 Kernel: 5.15 Compiler: gcc gcc (Ubuntu 11.4.0-1ubuntu1~22.04) 11.4.0 Ubuntu 24.04 Kernel: 5.15 Compiler: gcc gcc (Ubuntu 13.3.0-6ubuntu2~24.04) 13.3.0 Alpine Linux 3.22.0 Kernel: 5.15 Compiler: gcc gcc (Alpine 14.2.0) 14.2.0 Arch Linux 20250613.0.365270 Kernel: 5.15 Compiler: gcc gcc (GCC) 15.1.1 20250425 Windows Server 2022 Kernel: 10.0.20348.2031 Compiler: clang 15.0.7, gcc 14.1.0 (MinGW), and MSVC VS 19.39.33521 To view detailed results, visit: https://lab.dpdk.org/results/dashboard/tarballs/34136/ UNH-IOL DPDK Community Lab To manage your email subscriptions, visit: https://lab.dpdk.org/results/dashboard/preferences/subscriptions/