From mboxrd@z Thu Jan 1 00:00:00 1970 Return-Path: Received: from mails.dpdk.org (mails.dpdk.org [217.70.189.124]) by inbox.dpdk.org (Postfix) with ESMTP id B74D146B00 for ; Fri, 4 Jul 2025 05:36:35 +0200 (CEST) Received: from mails.dpdk.org (localhost [127.0.0.1]) by mails.dpdk.org (Postfix) with ESMTP id 8E7E24027D; Fri, 4 Jul 2025 05:36:35 +0200 (CEST) Received: from mail-io1-f99.google.com (mail-io1-f99.google.com [209.85.166.99]) by mails.dpdk.org (Postfix) with ESMTP id DF1654027D for ; Fri, 4 Jul 2025 05:36:34 +0200 (CEST) Received: by mail-io1-f99.google.com with SMTP id ca18e2360f4ac-8760d31bd35so16529439f.2 for ; Thu, 03 Jul 2025 20:36:34 -0700 (PDT) DKIM-Signature: v=1; a=rsa-sha256; c=relaxed/relaxed; d=iol.unh.edu; s=unh-iol; t=1751600194; x=1752204994; darn=dpdk.org; h=cc:to:from:subject:message-id:date:from:to:cc:subject:date :message-id:reply-to; bh=7bjAyYb5fA76Vny0lAm5RwxWtwnxjypLdkHN5DQQoEE=; b=FPvuW+FjmZCm4kl/uTDT7QDswul4lHiJHar63L9L/sflHjYXdH8LqSFGc2qyXVvDvS Iq9VGszKyhixLaDW6/1dGnZg+R13huIzAPmAU9DjWXqfOHLTY8HZo8XiERx+ub3X1UCF Al6habvW4WvOHmuaS77PnBVhOJ0oQ9ujWPx9o= X-Google-DKIM-Signature: v=1; a=rsa-sha256; c=relaxed/relaxed; d=1e100.net; s=20230601; t=1751600194; x=1752204994; h=cc:to:from:subject:message-id:date:x-gm-message-state:from:to:cc :subject:date:message-id:reply-to; bh=7bjAyYb5fA76Vny0lAm5RwxWtwnxjypLdkHN5DQQoEE=; b=EWQLM19YS7NqbfNK1erAzA11jyv6a/e/5lFEPMLpj9lZ8r4YKmcHF3iaU4y2+5yiO+ xX6DR5aXZxPP3GgL6G/60GjKt1ABH9+amk2C91ntXhAJXjsFxHn7/2lDjlwR92IGUOnW rCn7u2PvDd63UVk85B16p6BEw+wUBlwmlZn0VnTrRCxEI9B4sjHtIGOFPpn5IcG98bUV 88Cmc3euh2pxA3IndtA3To8Gb2fEB5ZvfqFxKrEI1A7Tb9O9EwhnICyqENamwD2J5sCu gJp9bVD2xktQFjJeDLb+4LrIUR6YsBL5WpRaDpTzWxHGPYZWvWW8SBy/EaAp7a1Dk9c7 tdtw== X-Gm-Message-State: AOJu0YxPgh0WZedmap7YQDO8vLS9zoWWjmdDT0WMi3ouShCAhoHTNkcF TjXRzhUptiYIsgM2gB8bdtHML623XtZaPNl/sVBS9O7fIrEhN2Gyt/RSUNpRVo8Ob5HI22NA4// q8BSRvlk+Q4A9yz3xD0ZqrskQfm33b4qdMDjlHrigJJLwyTATBnHrPwBFbZGA X-Gm-Gg: ASbGncsQEA8CFMCzPX9dQRyvX29v/JZm6UTalRnVWMORptG348Fb5oyx4X3MFSqkkGo HPapkQpoqQ8yijJPlv0NYjo1cDouiL60XHFhtxMNFqaPWmHjIDicpQoS70rOEFN91tM8xSvwO2V xNXtxNlm92mai/nEm1Dporn3vzpTmC8TmcPL/pSltmx8vlerpaUlY5yRlkzUjdal+0ouDMz1tdp jSrl4HTvVv7vtUwqudSBgNJdV8tvfLplYkT8s6wjFKyvazTa3l/K8hTHRDopHhg8P6mSlZqWGX6 1sksS0Iy9uwQx2J8MLLFhibrXOVIzImaxGU027YBsKbZQ04= X-Google-Smtp-Source: AGHT+IGn6aB55OizJSSlqO/oP7gIFUAI3zLZcY/+nkZqvo8RCjU+9ngTsho8X1kPWlaud6khQiRkrTme+3Uz X-Received: by 2002:a05:6602:3e83:b0:875:b625:5ee9 with SMTP id ca18e2360f4ac-876e34dca71mr59981239f.13.1751600194107; Thu, 03 Jul 2025 20:36:34 -0700 (PDT) Received: from postal.iol.unh.edu (postal.iol.unh.edu. [2606:4100:3880:1234::84]) by smtp-relay.gmail.com with ESMTPS id ca18e2360f4ac-876e082d5a4sm3677739f.14.2025.07.03.20.36.34 (version=TLS1_2 cipher=ECDHE-ECDSA-AES128-GCM-SHA256 bits=128/128); Thu, 03 Jul 2025 20:36:34 -0700 (PDT) X-Relaying-Domain: iol.unh.edu Date: Thu, 03 Jul 2025 20:36:34 -0700 (PDT) Message-ID: <68674c42.050a0220.1721c0.2034SMTPIN_ADDED_MISSING@mx.google.com> Received: from [172.21.0.5] (unknown [172.18.0.240]) by postal.iol.unh.edu (Postfix) with ESMTP id 6D2776051830; Thu, 3 Jul 2025 23:36:33 -0400 (EDT) Subject: |WARNING| [GIT MASTER] 70c2297528e7c7789af452f78de1932e9a20c8a2 From: dpdklab@iol.unh.edu To: Test Report Cc: dpdk-test-reports@iol.unh.edu Content-Type: text/plain X-BeenThere: test-report@dpdk.org X-Mailman-Version: 2.1.29 Precedence: list List-Id: automatic DPDK test reports List-Unsubscribe: , List-Archive: List-Post: List-Help: List-Subscribe: , Errors-To: test-report-bounces@dpdk.org _Testing issues_ Branch: dpdk 70c2297528e7c7789af452f78de1932e9a20c8a2 --> testing issues Upstream job id: Generic-DPDK-Compile-Meson#405185 Test environment and result as below: +-------------------------------+--------------------+-------------------------+-------------------+----------------------+-------------------+------------------+ | Environment | dpdk_meson_compile | dpdk_llvm_clang_compile | dpdk_msvc_compile | dpdk_mingw64_compile | dpdk_compile_spdk | dpdk_compile_ovs | +===============================+====================+=========================+===================+======================+===================+==================+ | Ubuntu 20.04 | PASS | SKIPPED | SKIPPED | SKIPPED | SKIPPED | SKIPPED | +-------------------------------+--------------------+-------------------------+-------------------+----------------------+-------------------+------------------+ | CentOS Stream 9 | PASS | SKIPPED | SKIPPED | SKIPPED | PASS | SKIPPED | +-------------------------------+--------------------+-------------------------+-------------------+----------------------+-------------------+------------------+ | CentOS Stream 10 | PASS | SKIPPED | SKIPPED | SKIPPED | SKIPPED | SKIPPED | +-------------------------------+--------------------+-------------------------+-------------------+----------------------+-------------------+------------------+ | Debian GNU/Linux 12 | PASS | SKIPPED | SKIPPED | SKIPPED | PASS | SKIPPED | +-------------------------------+--------------------+-------------------------+-------------------+----------------------+-------------------+------------------+ | Fedora Linux 40 | PASS | SKIPPED | SKIPPED | SKIPPED | WARN | SKIPPED | +-------------------------------+--------------------+-------------------------+-------------------+----------------------+-------------------+------------------+ | Fedora Linux 41 | PASS | SKIPPED | SKIPPED | SKIPPED | PASS | PASS | +-------------------------------+--------------------+-------------------------+-------------------+----------------------+-------------------+------------------+ | openSUSE Leap 15.6 | PASS | SKIPPED | SKIPPED | SKIPPED | SKIPPED | SKIPPED | +-------------------------------+--------------------+-------------------------+-------------------+----------------------+-------------------+------------------+ | Red Hat Enterprise Linux 9.5 | PASS | SKIPPED | SKIPPED | SKIPPED | SKIPPED | SKIPPED | +-------------------------------+--------------------+-------------------------+-------------------+----------------------+-------------------+------------------+ | Red Hat Enterprise Linux 8.10 | PASS | SKIPPED | SKIPPED | SKIPPED | SKIPPED | SKIPPED | +-------------------------------+--------------------+-------------------------+-------------------+----------------------+-------------------+------------------+ | Ubuntu 22.04 | PASS | SKIPPED | SKIPPED | SKIPPED | PASS | SKIPPED | +-------------------------------+--------------------+-------------------------+-------------------+----------------------+-------------------+------------------+ | Ubuntu 24.04 | PASS | SKIPPED | SKIPPED | SKIPPED | PASS | PASS | +-------------------------------+--------------------+-------------------------+-------------------+----------------------+-------------------+------------------+ | Alpine Linux 3.22.0 | PASS | SKIPPED | SKIPPED | SKIPPED | SKIPPED | SKIPPED | +-------------------------------+--------------------+-------------------------+-------------------+----------------------+-------------------+------------------+ | Arch Linux 20250613.0.365270 | PASS | SKIPPED | SKIPPED | SKIPPED | SKIPPED | SKIPPED | +-------------------------------+--------------------+-------------------------+-------------------+----------------------+-------------------+------------------+ | Windows Server 2022 | SKIPPED | PASS | PASS | PASS | SKIPPED | SKIPPED | +-------------------------------+--------------------+-------------------------+-------------------+----------------------+-------------------+------------------+ ==== 20 line log output for Fedora Linux 40 (dpdk_compile_spdk): ==== --- Failed to get log output --- ==== End log output ==== Ubuntu 20.04 Kernel: 4.19 Compiler: gcc gcc (Ubuntu 9.4.0-1ubuntu1~20.04.2) 9.4.0 CentOS Stream 9 Kernel: 5.15 Compiler: gcc gcc (GCC) 11.5.0 20240719 (Red Hat 11.5.0-7) CentOS Stream 10 Kernel: 5.15 Compiler: gcc gcc (GCC) 14.2.1 20250110 (Red Hat 14.2.1-8) Debian GNU/Linux 12 Kernel: 5.15 Compiler: gcc gcc (Debian 12.2.0-14+deb12u1) 12.2.0 Fedora Linux 40 Kernel: 5.15 Compiler: gcc gcc (GCC) 14.2.1 20240912 (Red Hat 14.2.1-3) Fedora Linux 41 Kernel: 5.15 Compiler: clang gcc (GCC) 14.3.1 20250523 (Red Hat 14.3.1-1) openSUSE Leap 15.6 Kernel: 5.15 Compiler: gcc gcc (SUSE Linux) 7.5.0 Red Hat Enterprise Linux 9.5 Kernel: 5.15 Compiler: gcc gcc (GCC) 11.5.0 20240719 (Red Hat 11.5.0-2) Red Hat Enterprise Linux 8.10 Kernel: 5.15 Compiler: gcc gcc (GCC) 8.5.0 20210514 (Red Hat 8.5.0-22) Ubuntu 22.04 Kernel: 5.15 Compiler: gcc gcc (Ubuntu 11.4.0-1ubuntu1~22.04) 11.4.0 Ubuntu 24.04 Kernel: 5.15 Compiler: gcc gcc (Ubuntu 13.3.0-6ubuntu2~24.04) 13.3.0 Alpine Linux 3.22.0 Kernel: 5.15 Compiler: gcc gcc (Alpine 14.2.0) 14.2.0 Arch Linux 20250613.0.365270 Kernel: 5.15 Compiler: gcc gcc (GCC) 15.1.1 20250425 Windows Server 2022 Kernel: 10.0.20348.2031 Compiler: clang 15.0.7, gcc 14.1.0 (MinGW), and MSVC VS 19.39.33521 To view detailed results, visit: https://lab.dpdk.org/results/dashboard/tarballs/34136/ UNH-IOL DPDK Community Lab To manage your email subscriptions, visit: https://lab.dpdk.org/results/dashboard/preferences/subscriptions/