From mboxrd@z Thu Jan 1 00:00:00 1970 Return-Path: Received: from mails.dpdk.org (mails.dpdk.org [217.70.189.124]) by inbox.dpdk.org (Postfix) with ESMTP id 4EA3B46B00 for ; Fri, 4 Jul 2025 05:42:53 +0200 (CEST) Received: from mails.dpdk.org (localhost [127.0.0.1]) by mails.dpdk.org (Postfix) with ESMTP id 1A8DB4027D; Fri, 4 Jul 2025 05:42:53 +0200 (CEST) Received: from mail-pg1-f226.google.com (mail-pg1-f226.google.com [209.85.215.226]) by mails.dpdk.org (Postfix) with ESMTP id 858EA4027D for ; Fri, 4 Jul 2025 05:42:52 +0200 (CEST) Received: by mail-pg1-f226.google.com with SMTP id 41be03b00d2f7-b170c99aa49so368333a12.1 for ; Thu, 03 Jul 2025 20:42:52 -0700 (PDT) DKIM-Signature: v=1; a=rsa-sha256; c=relaxed/relaxed; d=iol.unh.edu; s=unh-iol; t=1751600571; x=1752205371; darn=dpdk.org; h=references:in-reply-to:cc:to:from:subject:message-id:date:from:to :cc:subject:date:message-id:reply-to; bh=pkwUvQiueceWcOa9MB3GMTgz4uhmHIpaa3D0GjITgHw=; b=fZ9B9D1srHwKb75v+O0OeKSWcGhPIlNeXSDZI9fxvIlW8gPtdwMw5YcCUJtqFepX7U aMxq80zar+omoWwaOiGRllAdPmSNO00b9muXjJvbnrnuux7QknwTX5BxjyBIFNMUOH8i 2i1Aet+B4gbbpvyo2H1lsnl6fILeggKn8Fg9c= X-Google-DKIM-Signature: v=1; a=rsa-sha256; c=relaxed/relaxed; d=1e100.net; s=20230601; t=1751600571; x=1752205371; h=references:in-reply-to:cc:to:from:subject:message-id:date :x-gm-message-state:from:to:cc:subject:date:message-id:reply-to; bh=pkwUvQiueceWcOa9MB3GMTgz4uhmHIpaa3D0GjITgHw=; b=aDmEI4R29SU/9EIcwTa9R6Ujn8C6Z7rcadxiFB4ypr+Scu/wDeUwOLzEwFgtRXmUPt ECqIJlEJ2yGaBks3xzjL/vMSXjEbilMOzyPEhY+QY3pzZ9FmC3G0dVtfDpmlcdnuJ2ux ujh395N1CAVjr0rZcXE6cqFfVl8moPC+JjPOcaiB3EXCJFW4YSPCW+UTxLJO49k2T/VC IbFlW8f9nmgZNOrHPbLuFiD6WpUIFOr6MY4MsZd0h20FHlMfkWxi3NB7+IJ43AgoCFFA Sw0E8mTn4mR8aiJIn5mNAx1/zkpzlm903jNRWc7JkMwg87EuyerAWzaVfp2vfFKRpCgc G/NA== X-Gm-Message-State: AOJu0YzCjDaNKebZR2Qy+Klm74gMslO/P0yiQPXLhGWWikn8NpAlJSXq y3qPbLpuwWBz3XN+wSP9nNn09x5ldfOdhB4a8JbWgbriwtxh+dSIoKLWgK+sOC1gcEBvqN+QMgI yishAgu9bZLRs7VfT4vnEJnqgngLp6NgPk+XxXrA8ClFD X-Gm-Gg: ASbGncu3tTMd0CkS/qz1wfT7PRa2yZ6Qg6oA1+cZtKR0WylgEPWdd41zScAXosOD+KN 1wvN1+Ns780NznvvpCBIAj+4VMhlXJS4cUs0g+hGSAUYrHg3c4CTRmhh2S5i1L7UNA4XLxICg6C M3P/C4JBeAgLhiSTn4/nwpn2j2R/7g6Z++5bF4c1G/0/IvjxxqACIsrx4pL5U34x+CKAfN67Kvi ry/4r2w+gM+O/pWKw5IwVBcchvce4Yl2npmPS7hlwAVNGoNEwb78uBkGEue1NJRndl92wIqz/n+ ZzG6L/XocnMaEnxz2CfyOOWCNMOcfqAyV2xHAFuBqBCdH21O48iq15vwmfO5fy8fgCSPog== X-Google-Smtp-Source: AGHT+IFXKdiwicVX5Yw1XH+0EQBCzAjmQtTyXmOjd8Pd0PINgohKGM/qkAFbgnRU9ykswJ+VQ97efY0oyLu/ X-Received: by 2002:a05:6a21:69a:b0:21a:ed12:bdf9 with SMTP id adf61e73a8af0-225bec077d9mr1669419637.17.1751600571597; Thu, 03 Jul 2025 20:42:51 -0700 (PDT) Received: from postal.iol.unh.edu (postal.iol.unh.edu. [132.177.123.84]) by smtp-relay.gmail.com with ESMTPS id d2e1a72fcca58-74ce3cfcfd2sm58024b3a.18.2025.07.03.20.42.51 (version=TLS1_2 cipher=ECDHE-ECDSA-AES128-GCM-SHA256 bits=128/128); Thu, 03 Jul 2025 20:42:51 -0700 (PDT) X-Relaying-Domain: iol.unh.edu Date: Thu, 03 Jul 2025 20:42:51 -0700 (PDT) Message-ID: <68674dbb.050a0220.38b9b7.3227SMTPIN_ADDED_MISSING@mx.google.com> Received: from [172.21.0.5] (unknown [172.18.0.240]) by postal.iol.unh.edu (Postfix) with ESMTP id C5FF46051830; Thu, 3 Jul 2025 23:42:50 -0400 (EDT) Subject: |WARNING| pw154914 [PATCH] [v3] test/argparse: change initialization From: dpdklab@iol.unh.edu To: Test Report Cc: dpdk-test-reports@iol.unh.edu In-Reply-To: <20250701154202.237442-1-stephen@networkplumber.org> References: <20250701154202.237442-1-stephen@networkplumber.org> Content-Type: text/plain X-BeenThere: test-report@dpdk.org X-Mailman-Version: 2.1.29 Precedence: list List-Id: automatic DPDK test reports List-Unsubscribe: , List-Archive: List-Post: List-Help: List-Subscribe: , Errors-To: test-report-bounces@dpdk.org Test-Label: iol-compile-amd64-testing Test-Status: WARNING http://dpdk.org/patch/154914 _Testing issues_ Submitter: Stephen Hemminger Date: Tuesday, July 01 2025 15:41:46 DPDK git baseline: Repo:dpdk Branch: master CommitID:70c2297528e7c7789af452f78de1932e9a20c8a2 154914 --> testing issues Upstream job id: Generic-DPDK-Compile-Meson#405219 Test environment and result as below: +-------------------------------+-------------------------+--------------------+-------------------+-------------------+------------------+----------------------+ | Environment | dpdk_llvm_clang_compile | dpdk_meson_compile | dpdk_msvc_compile | dpdk_compile_spdk | dpdk_compile_ovs | dpdk_mingw64_compile | +===============================+=========================+====================+===================+===================+==================+======================+ | Windows Server 2022 | PASS | SKIPPED | PASS | SKIPPED | SKIPPED | PASS | +-------------------------------+-------------------------+--------------------+-------------------+-------------------+------------------+----------------------+ | Ubuntu 20.04 | SKIPPED | PASS | SKIPPED | SKIPPED | SKIPPED | SKIPPED | +-------------------------------+-------------------------+--------------------+-------------------+-------------------+------------------+----------------------+ | CentOS Stream 10 | SKIPPED | PASS | SKIPPED | SKIPPED | SKIPPED | SKIPPED | +-------------------------------+-------------------------+--------------------+-------------------+-------------------+------------------+----------------------+ | Debian GNU/Linux 12 | SKIPPED | PASS | SKIPPED | PASS | SKIPPED | SKIPPED | +-------------------------------+-------------------------+--------------------+-------------------+-------------------+------------------+----------------------+ | Fedora Linux 40 | SKIPPED | PASS | SKIPPED | PASS | SKIPPED | SKIPPED | +-------------------------------+-------------------------+--------------------+-------------------+-------------------+------------------+----------------------+ | Fedora Linux 41 | SKIPPED | PASS | SKIPPED | WARN | PASS | SKIPPED | +-------------------------------+-------------------------+--------------------+-------------------+-------------------+------------------+----------------------+ | openSUSE Leap 15.6 | SKIPPED | PASS | SKIPPED | SKIPPED | SKIPPED | SKIPPED | +-------------------------------+-------------------------+--------------------+-------------------+-------------------+------------------+----------------------+ | Red Hat Enterprise Linux 8.10 | SKIPPED | PASS | SKIPPED | SKIPPED | SKIPPED | SKIPPED | +-------------------------------+-------------------------+--------------------+-------------------+-------------------+------------------+----------------------+ | Red Hat Enterprise Linux 9.5 | SKIPPED | PASS | SKIPPED | SKIPPED | SKIPPED | SKIPPED | +-------------------------------+-------------------------+--------------------+-------------------+-------------------+------------------+----------------------+ | Ubuntu 22.04 | SKIPPED | PASS | SKIPPED | PASS | SKIPPED | SKIPPED | +-------------------------------+-------------------------+--------------------+-------------------+-------------------+------------------+----------------------+ | Alpine Linux 3.22.0 | SKIPPED | PASS | SKIPPED | SKIPPED | SKIPPED | SKIPPED | +-------------------------------+-------------------------+--------------------+-------------------+-------------------+------------------+----------------------+ | Ubuntu 24.04 | SKIPPED | PASS | SKIPPED | PASS | PASS | SKIPPED | +-------------------------------+-------------------------+--------------------+-------------------+-------------------+------------------+----------------------+ | CentOS Stream 9 | SKIPPED | PASS | SKIPPED | PASS | SKIPPED | SKIPPED | +-------------------------------+-------------------------+--------------------+-------------------+-------------------+------------------+----------------------+ ==== 20 line log output for Fedora Linux 41 (dpdk_compile_spdk): ==== --- Failed to get log output --- ==== End log output ==== Windows Server 2022 Kernel: 10.0.20348.2031 Compiler: clang 15.0.7, gcc 14.1.0 (MinGW), and MSVC VS 19.39.33521 Ubuntu 20.04 Kernel: 4.19 Compiler: gcc gcc (Ubuntu 9.4.0-1ubuntu1~20.04.2) 9.4.0 CentOS Stream 10 Kernel: 5.15 Compiler: gcc gcc (GCC) 14.2.1 20250110 (Red Hat 14.2.1-8) Debian GNU/Linux 12 Kernel: 5.15 Compiler: gcc gcc (Debian 12.2.0-14+deb12u1) 12.2.0 Fedora Linux 40 Kernel: 5.15 Compiler: clang gcc (GCC) 14.2.1 20240912 (Red Hat 14.2.1-3) Fedora Linux 41 Kernel: 5.15 Compiler: gcc gcc (GCC) 14.3.1 20250523 (Red Hat 14.3.1-1) openSUSE Leap 15.6 Kernel: 5.15 Compiler: gcc gcc (SUSE Linux) 7.5.0 Red Hat Enterprise Linux 8.10 Kernel: 5.15 Compiler: gcc gcc (GCC) 8.5.0 20210514 (Red Hat 8.5.0-22) Red Hat Enterprise Linux 9.5 Kernel: 5.15 Compiler: gcc gcc (GCC) 11.5.0 20240719 (Red Hat 11.5.0-2) Ubuntu 22.04 Kernel: 5.15 Compiler: gcc gcc (Ubuntu 11.4.0-1ubuntu1~22.04) 11.4.0 Alpine Linux 3.22.0 Kernel: 5.15 Compiler: gcc gcc (Alpine 14.2.0) 14.2.0 Ubuntu 24.04 Kernel: 5.15 Compiler: gcc gcc (Ubuntu 13.3.0-6ubuntu2~24.04) 13.3.0 CentOS Stream 9 Kernel: 5.15 Compiler: gcc gcc (GCC) 11.5.0 20240719 (Red Hat 11.5.0-7) To view detailed results, visit: https://lab.dpdk.org/results/dashboard/patchsets/33557/ UNH-IOL DPDK Community Lab To manage your email subscriptions, visit: https://lab.dpdk.org/results/dashboard/preferences/subscriptions/