From mboxrd@z Thu Jan 1 00:00:00 1970 Return-Path: Received: from mails.dpdk.org (mails.dpdk.org [217.70.189.124]) by inbox.dpdk.org (Postfix) with ESMTP id 9D4CA46AFE for ; Fri, 4 Jul 2025 08:15:31 +0200 (CEST) Received: from mails.dpdk.org (localhost [127.0.0.1]) by mails.dpdk.org (Postfix) with ESMTP id 6CC484027D; Fri, 4 Jul 2025 08:15:31 +0200 (CEST) Received: from mail-pl1-f228.google.com (mail-pl1-f228.google.com [209.85.214.228]) by mails.dpdk.org (Postfix) with ESMTP id AE6B94027D for ; Fri, 4 Jul 2025 08:15:30 +0200 (CEST) Received: by mail-pl1-f228.google.com with SMTP id d9443c01a7336-234fcadde3eso10067955ad.0 for ; Thu, 03 Jul 2025 23:15:30 -0700 (PDT) DKIM-Signature: v=1; a=rsa-sha256; c=relaxed/relaxed; d=iol.unh.edu; s=unh-iol; t=1751609730; x=1752214530; darn=dpdk.org; h=references:in-reply-to:cc:to:from:subject:message-id:date:from:to :cc:subject:date:message-id:reply-to; bh=wyS2+m/ItW6ZS6Bt70eZUb+8DuoW/0Z9y2fpYtAouQs=; b=g4QCXaPwXpMfjyCEUQsBHNKGD5Ja4z2WD+HhDArOE6vwMmKo+tk4xmNs50WqCP1FCN mAA/7waotvBmkJ+pZfr8zeEn1ZBFwrexEqJtpFR2qYeD8yW/eGBViyPdBzemcZEQKPSZ PkJe067+H/eUT9ExNkbiw6SRG7EfPmslBcK8c= X-Google-DKIM-Signature: v=1; a=rsa-sha256; c=relaxed/relaxed; d=1e100.net; s=20230601; t=1751609730; x=1752214530; h=references:in-reply-to:cc:to:from:subject:message-id:date :x-gm-message-state:from:to:cc:subject:date:message-id:reply-to; bh=wyS2+m/ItW6ZS6Bt70eZUb+8DuoW/0Z9y2fpYtAouQs=; b=A6tvIrfLZnA0dTJ5L4MLze767aMZbrs2sqBdVY6YaWPVAZZeSlOPzpLKjHB/WFAkIq GS5uJeDzGPOJw8eT4ctNDK3I982B7j4Al00oARe6bHV7gIz2tJtjV9XYNKeqEBxMPdbN ZFvEGcAjfJNy5QMaUBKaVEOladrKbnHpXhT1d3iyDEIvd7xzuErgEGnmeUl7TqJ8MswP SAtPPaN/C1F7xewP8SaRJfsvlP0onLVSDrpEs39l85hTr/OiAznSkNzHiR/YWmBZnzN9 8bGc9LCSXsEDobWATjtv6UIoOvELABgtf2kAyRoXUmFhNND9/JE3m5+Ggs0+qEKL/FeU xCBw== X-Gm-Message-State: AOJu0YyZvBXlOg9nUg+f+1M3I22QTpyd4IQ00wKKhQSaYDgYQFM7bEVL 3tiBjhYBtjEIF/N/33m/nQ1BePPecYBYoI0eIWNWwz+60C24AcjG7uyeob/tIV3vGmXrAj0uA+K WNSBgUegpIHuElUHPBj7wPx8dU5ASVejyFJZcGEl2N1T4 X-Gm-Gg: ASbGncsCFh6+RS0TtTeA3tlXuUdySKIP9+0f3vhlYjpyJPDnLumHownaK9oyvDMF1Jp YFsC0DnSv+Fim2ken1mnxm6E5w0vi57sn2mWIVMIg7M3F9TXD1OWSozdvBFaRU374GM5NQy2d0u 7WlSDhdVtyTOQwe6J1iCbTarqe+qXSovLj2FpGT11e8H+xIbzLZor8zlwijZBwbnbK4JAHfRbv2 D7sSOpz5uQwa6bppuhxtlEVNKrScakKK05tc+J5R1nfWO0428bpvZBMxdixU0ClJnjOC1Rxp9x0 jX4jkt7iHm8JhKdeVja+pscrogaW5ML68d9rm/uh66dQKFoXg80iSWrajqitVLTavtK0Wg== X-Google-Smtp-Source: AGHT+IGgDBVI7t88kAH5P7bKtnqn34gTOgzLKx8dMV6/Wj6QfFfjTk0UGvyqaAeUPJFEF/ktUUGThoD6OYi+ X-Received: by 2002:a17:903:244e:b0:234:a033:b6f6 with SMTP id d9443c01a7336-23c8755bfeamr15827605ad.31.1751609729783; Thu, 03 Jul 2025 23:15:29 -0700 (PDT) Received: from postal.iol.unh.edu (postal.iol.unh.edu. [132.177.123.84]) by smtp-relay.gmail.com with ESMTPS id d9443c01a7336-23c842d0a4esm624315ad.44.2025.07.03.23.15.29 (version=TLS1_2 cipher=ECDHE-ECDSA-AES128-GCM-SHA256 bits=128/128); Thu, 03 Jul 2025 23:15:29 -0700 (PDT) X-Relaying-Domain: iol.unh.edu Date: Thu, 03 Jul 2025 23:15:29 -0700 (PDT) Message-ID: <68677181.170a0220.637f2.3608SMTPIN_ADDED_MISSING@mx.google.com> Received: from [172.21.0.5] (unknown [172.18.0.240]) by postal.iol.unh.edu (Postfix) with ESMTP id E546B6051830; Fri, 4 Jul 2025 02:15:28 -0400 (EDT) Subject: |SUCCESS| pw154914 [PATCH] [v3] test/argparse: change initialization From: dpdklab@iol.unh.edu To: Test Report Cc: dpdk-test-reports@iol.unh.edu In-Reply-To: <20250701154202.237442-1-stephen@networkplumber.org> References: <20250701154202.237442-1-stephen@networkplumber.org> Content-Type: text/plain X-BeenThere: test-report@dpdk.org X-Mailman-Version: 2.1.29 Precedence: list List-Id: automatic DPDK test reports List-Unsubscribe: , List-Archive: List-Post: List-Help: List-Subscribe: , Errors-To: test-report-bounces@dpdk.org Test-Label: iol-unit-arm64-testing Test-Status: SUCCESS http://dpdk.org/patch/154914 _Testing PASS_ Submitter: Stephen Hemminger Date: Tuesday, July 01 2025 15:41:46 DPDK git baseline: Repo:dpdk Branch: master CommitID:70c2297528e7c7789af452f78de1932e9a20c8a2 154914 --> testing pass Upstream job id: Generic-Unit-Test-DPDK#352443 Test environment and result as below: +------------------------------+--------------+----------------+------------------------------+---------------------------+ | Environment | lpm_autotest | dpdk_unit_test | cryptodev_sw_snow3g_autotest | cryptodev_sw_zuc_autotest | +==============================+==============+================+==============================+===========================+ | Ubuntu 20.04 | PASS | PASS | SKIPPED | SKIPPED | +------------------------------+--------------+----------------+------------------------------+---------------------------+ | Red Hat Enterprise Linux 9.5 | SKIPPED | PASS | SKIPPED | SKIPPED | +------------------------------+--------------+----------------+------------------------------+---------------------------+ | CentOS Stream 10 | SKIPPED | PASS | SKIPPED | SKIPPED | +------------------------------+--------------+----------------+------------------------------+---------------------------+ | Fedora Linux 41 | SKIPPED | PASS | SKIPPED | SKIPPED | +------------------------------+--------------+----------------+------------------------------+---------------------------+ | Debian GNU/Linux 12 | SKIPPED | PASS | SKIPPED | SKIPPED | +------------------------------+--------------+----------------+------------------------------+---------------------------+ | CentOS Stream 9 | SKIPPED | PASS | SKIPPED | SKIPPED | +------------------------------+--------------+----------------+------------------------------+---------------------------+ | Fedora Linux 40 | SKIPPED | PASS | SKIPPED | SKIPPED | +------------------------------+--------------+----------------+------------------------------+---------------------------+ | Ubuntu 22.04 | SKIPPED | PASS | SKIPPED | SKIPPED | +------------------------------+--------------+----------------+------------------------------+---------------------------+ | Ubuntu 24.04 | SKIPPED | PASS | SKIPPED | SKIPPED | +------------------------------+--------------+----------------+------------------------------+---------------------------+ | Debian 12 (arm) | SKIPPED | SKIPPED | PASS | PASS | +------------------------------+--------------+----------------+------------------------------+---------------------------+ Ubuntu 20.04 Kernel: 5.4 Compiler: gcc gcc (Ubuntu 9.4.0-1ubuntu1~20.04.2) 9.4.0 Red Hat Enterprise Linux 9.5 Kernel: 5.4 Compiler: gcc gcc (GCC) 11.5.0 20240719 (Red Hat 11.5.0-2) CentOS Stream 10 Kernel: 5.4 Compiler: gcc gcc (GCC) 14.2.1 20250110 (Red Hat 14.2.1-8) Fedora Linux 41 Kernel: 5.4 Compiler: clang gcc (GCC) 14.3.1 20250523 (Red Hat 14.3.1-1) Debian GNU/Linux 12 Kernel: 5.4 Compiler: gcc gcc (Debian 12.2.0-14+deb12u1) 12.2.0 CentOS Stream 9 Kernel: 5.4 Compiler: gcc gcc (GCC) 11.5.0 20240719 (Red Hat 11.5.0-7) Fedora Linux 40 Kernel: 5.4 Compiler: gcc gcc (GCC) 14.2.1 20240912 (Red Hat 14.2.1-3) Ubuntu 22.04 Kernel: 5.4 Compiler: gcc gcc (Ubuntu 11.4.0-1ubuntu1~22.04) 11.4.0 Ubuntu 24.04 Kernel: 5.4 Compiler: gcc gcc (Ubuntu 13.3.0-6ubuntu2~24.04) 13.3.0 Debian 12 (arm) Kernel: Depends on container host Compiler: gcc (Debian 12.2.0-14) 12.2.0 To view detailed results, visit: https://lab.dpdk.org/results/dashboard/patchsets/33557/ UNH-IOL DPDK Community Lab To manage your email subscriptions, visit: https://lab.dpdk.org/results/dashboard/preferences/subscriptions/