From mboxrd@z Thu Jan 1 00:00:00 1970 Return-Path: Received: from mails.dpdk.org (mails.dpdk.org [217.70.189.124]) by inbox.dpdk.org (Postfix) with ESMTP id 1122F46AF2 for ; Fri, 4 Jul 2025 10:41:21 +0200 (CEST) Received: from mails.dpdk.org (localhost [127.0.0.1]) by mails.dpdk.org (Postfix) with ESMTP id DD44440267; Fri, 4 Jul 2025 10:41:20 +0200 (CEST) Received: from mail-vs1-f98.google.com (mail-vs1-f98.google.com [209.85.217.98]) by mails.dpdk.org (Postfix) with ESMTP id B022140267 for ; Fri, 4 Jul 2025 10:41:19 +0200 (CEST) Received: by mail-vs1-f98.google.com with SMTP id ada2fe7eead31-4e9a7b4a412so449026137.0 for ; Fri, 04 Jul 2025 01:41:19 -0700 (PDT) DKIM-Signature: v=1; a=rsa-sha256; c=relaxed/relaxed; d=iol.unh.edu; s=unh-iol; t=1751618479; x=1752223279; darn=dpdk.org; h=references:in-reply-to:cc:to:from:subject:message-id:date:from:to :cc:subject:date:message-id:reply-to; bh=q6QtvihyX/9gvDv48o94sCCQwn9y93HHy/gg5a3GUYE=; b=Pyvi5YPt4X3Qv5BPyUdBejpKDMAbf5III9i4sZ5JhjY90eR2kHKTWD+htzmD79o+Kr KdFbk1H+Elh5MpGIrtT5vA84WRTTFo06WM101MAvATSUlkgald6zX6Etbr/+X5hUMlWZ nrGQlVBb31LKAKXf5M7WCmB6Yvp2VYFpEMQG0= X-Google-DKIM-Signature: v=1; a=rsa-sha256; c=relaxed/relaxed; d=1e100.net; s=20230601; t=1751618479; x=1752223279; h=references:in-reply-to:cc:to:from:subject:message-id:date :x-gm-message-state:from:to:cc:subject:date:message-id:reply-to; bh=q6QtvihyX/9gvDv48o94sCCQwn9y93HHy/gg5a3GUYE=; b=IM2mA5GujNIbEvDWwPm843z1LhurBIW/DIiEd+nop8m87AV+WlrjMFFkE1ipAeQ5nn bUjvZUt0H4pFlVCttDzHs2hhXzEKlHJp6PSqX+jW//sN/+/L5xCYMa3CY/ZZ72ksrsaA aSd7K7meJpvncrfivSxlxXTl5sZa/Xvk0Xb+2BCdJuySCBgbuHNkrlvNLt/tD0YbGIM6 smzIKhLT+joWSnzHFgdQSP4miD14PC/YMbRXCsJdMbUdm3EVCga+BRS5KsR1mT0TyDeT 1E4VWxU/Uc+/V0zg779oP7+bpml6AcPnqcAeuDAD0crGnSN+l7XziXwadQW9MPsFaQQs ZWsg== X-Gm-Message-State: AOJu0Yw3BUXroj8VexhHlvoN0nn3gkOgrRsNpvqAiESBYctT2PH5k81b FV8fSGr7zJJf1wcJNy8cmfmqqCtCkWzi1pXsCa5LCF6/KpsuLVib6m/WQmtK++2q7ANU70thG9I naziAwK+6vNU3nEmiMQ7nTGgHAH0ylmzNvfLFz+8tOSKE X-Gm-Gg: ASbGncvXy4lJ7f4aVLcVvIUE2hdFBDmNe4NZAJGMDod6E3Vnb7j7i11mfOOiwyJupT9 Sm8eK0VA3puz4V/d7aK2l8tD/ouETOiPRvvV5KcEZKeENnm9MYL+b8GwaLlgclk7AJws9HXheZR R3K7c97U2UOjSa3UcbJEzEIsn36ZpFKQYzfiDxgGDDQgjSx18y47jUWmaemijE/jStOOLm6HrNu 3OuGSYvXXXvcCbYwzHjXcpRRDgIGr3WT3j34mL8kVa3dtlEAA5XPyIWCQ8cTPdcCUtmBo6x7oLu SP2YdUBgkSM+pTwS3oOfjw9S3MmgWKj1gMEhDxopdi0Uw0+i8qHUa10f6Q+mSJYWDDUpWw== X-Google-Smtp-Source: AGHT+IHQcZz7BfuLFzZ7LicFGWk0m9BGl3y8T0EZ6p0FJ55Nmlike1v94HKRR2uL8ZolE0LpGn1p13yN/N0y X-Received: by 2002:a05:6102:c11:b0:4e9:b66d:3c11 with SMTP id ada2fe7eead31-4f2f1ef9485mr457512137.19.1751618478936; Fri, 04 Jul 2025 01:41:18 -0700 (PDT) Received: from postal.iol.unh.edu (postal.iol.unh.edu. [132.177.123.84]) by smtp-relay.gmail.com with ESMTPS id ada2fe7eead31-4f2ea6cec6csm12417137.3.2025.07.04.01.41.18 (version=TLS1_2 cipher=ECDHE-ECDSA-AES128-GCM-SHA256 bits=128/128); Fri, 04 Jul 2025 01:41:18 -0700 (PDT) X-Relaying-Domain: iol.unh.edu Date: Fri, 04 Jul 2025 01:41:18 -0700 (PDT) Message-ID: <686793ae.050a0220.51b26.0770SMTPIN_ADDED_MISSING@mx.google.com> Received: from [172.21.0.6] (unknown [172.18.0.240]) by postal.iol.unh.edu (Postfix) with ESMTP id 987026051830; Fri, 4 Jul 2025 04:41:18 -0400 (EDT) Subject: |SUCCESS| pw154914 [PATCH] [v3] test/argparse: change initialization From: dpdklab@iol.unh.edu To: Test Report Cc: dpdk-test-reports@iol.unh.edu In-Reply-To: <20250701154202.237442-1-stephen@networkplumber.org> References: <20250701154202.237442-1-stephen@networkplumber.org> Content-Type: text/plain X-BeenThere: test-report@dpdk.org X-Mailman-Version: 2.1.29 Precedence: list List-Id: automatic DPDK test reports List-Unsubscribe: , List-Archive: List-Post: List-Help: List-Subscribe: , Errors-To: test-report-bounces@dpdk.org Test-Label: iol-compile-arm64-testing Test-Status: SUCCESS http://dpdk.org/patch/154914 _Testing PASS_ Submitter: Stephen Hemminger Date: Tuesday, July 01 2025 15:41:46 DPDK git baseline: Repo:dpdk Branch: master CommitID:70c2297528e7c7789af452f78de1932e9a20c8a2 154914 --> testing pass Upstream job id: Generic-DPDK-Compile-Meson#405234 Test environment and result as below: +------------------------------+--------------------+ | Environment | dpdk_meson_compile | +==============================+====================+ | Red Hat Enterprise Linux 9.5 | PASS | +------------------------------+--------------------+ | Ubuntu 20.04 | PASS | +------------------------------+--------------------+ | Debian GNU/Linux 12 | PASS | +------------------------------+--------------------+ | Fedora Linux 40 | PASS | +------------------------------+--------------------+ | Fedora Linux 41 | PASS | +------------------------------+--------------------+ | Ubuntu 22.04 | PASS | +------------------------------+--------------------+ | Ubuntu 24.04 | PASS | +------------------------------+--------------------+ | CentOS Stream 9 | PASS | +------------------------------+--------------------+ | CentOS Stream 10 | PASS | +------------------------------+--------------------+ Red Hat Enterprise Linux 9.5 Kernel: 5.4 Compiler: gcc gcc (GCC) 11.5.0 20240719 (Red Hat 11.5.0-2) Ubuntu 20.04 Kernel: 5.15 Compiler: aarch64-linux-gnu-gcc gcc (Ubuntu 9.4.0-1ubuntu1~20.04.2) 9.4.0 Debian GNU/Linux 12 Kernel: 5.4 Compiler: gcc gcc (Debian 12.2.0-14+deb12u1) 12.2.0 Fedora Linux 40 Kernel: 5.4 Compiler: clang gcc (GCC) 14.2.1 20240912 (Red Hat 14.2.1-3) Fedora Linux 41 Kernel: 5.4 Compiler: gcc gcc (GCC) 14.3.1 20250523 (Red Hat 14.3.1-1) Ubuntu 22.04 Kernel: 5.4 Compiler: gcc gcc (Ubuntu 11.4.0-1ubuntu1~22.04) 11.4.0 Ubuntu 24.04 Kernel: 5.4 Compiler: gcc gcc (Ubuntu 13.3.0-6ubuntu2~24.04) 13.3.0 CentOS Stream 9 Kernel: 5.4 Compiler: gcc gcc (GCC) 11.5.0 20240719 (Red Hat 11.5.0-7) CentOS Stream 10 Kernel: 5.4 Compiler: gcc gcc (GCC) 14.2.1 20250110 (Red Hat 14.2.1-8) To view detailed results, visit: https://lab.dpdk.org/results/dashboard/patchsets/33557/ UNH-IOL DPDK Community Lab To manage your email subscriptions, visit: https://lab.dpdk.org/results/dashboard/preferences/subscriptions/