From mboxrd@z Thu Jan 1 00:00:00 1970 Return-Path: Received: from mails.dpdk.org (mails.dpdk.org [217.70.189.124]) by inbox.dpdk.org (Postfix) with ESMTP id 061B946AF2 for ; Fri, 4 Jul 2025 10:42:00 +0200 (CEST) Received: from mails.dpdk.org (localhost [127.0.0.1]) by mails.dpdk.org (Postfix) with ESMTP id 0045040267; Fri, 4 Jul 2025 10:42:00 +0200 (CEST) Received: from mail-io1-f100.google.com (mail-io1-f100.google.com [209.85.166.100]) by mails.dpdk.org (Postfix) with ESMTP id 9B97140267 for ; Fri, 4 Jul 2025 10:41:58 +0200 (CEST) Received: by mail-io1-f100.google.com with SMTP id ca18e2360f4ac-875ce3c8e24so23442639f.1 for ; Fri, 04 Jul 2025 01:41:58 -0700 (PDT) DKIM-Signature: v=1; a=rsa-sha256; c=relaxed/relaxed; d=iol.unh.edu; s=unh-iol; t=1751618518; x=1752223318; darn=dpdk.org; h=references:in-reply-to:cc:to:from:subject:message-id:date:from:to :cc:subject:date:message-id:reply-to; bh=JcTo0FGws4adgxFC13nSRtKXQlfzjJg1+BfXxBhagPQ=; b=gV4grLzskT9QlFShGzaqDXvTQY+dvfoY0tBi0oQ60rlhCNTtOyWOJ6bKsOUa0WEPRZ kXpOGRA5R4NsnR112T/BqKE3b5wl1RotyYPiMYxGWFz/WVBmVZPfxWHjhmg49FeQJ0Zb XIzBukWJaio+IWkYZjeaB6XRo1aeyPderN4Oo= X-Google-DKIM-Signature: v=1; a=rsa-sha256; c=relaxed/relaxed; d=1e100.net; s=20230601; t=1751618518; x=1752223318; h=references:in-reply-to:cc:to:from:subject:message-id:date :x-gm-message-state:from:to:cc:subject:date:message-id:reply-to; bh=JcTo0FGws4adgxFC13nSRtKXQlfzjJg1+BfXxBhagPQ=; b=qlMvUSvkM04inQRM1NJ+D2zsJgJJdWjjiP9afShwzEwRRNntsHsck+5aNILP3+pTI/ RZdX+ItIHZgvGq5fdYs5Y0mBHe0AFMOgZYaTYVzGPu21chVztmaWBWzAeKPVxz9qdKTa JPtCC7WP/iY6OhS3jpTsZzoBEuEYVJFQjb94JXQy/4N1IKpLHDWkUYZEsaSY+fB/D+ge oo+FENYLyJqUN2AxwT+O7QSv69uxsULKQkzWiGGZNL0T9B4RlLnFzV++Q/WOwZnrAifc RpO3UwAhXIFemYAMo4zEgNqA+GJbECBynIYlz9T9OfWiHTwJ6nqTRpyQTaqdlfOkJoi4 F8rA== X-Gm-Message-State: AOJu0Yyqk4Ih/MaoH2p/CccgNSug5oN/bSPpQoymWvJoiVd/jPqDNJVM 5PbltbSWNQjYPHQd7BBu4R8dN4NbSMuFz9rGkMm15sKXx5F6l8L1ljD8MX4jlC9TWsm8gtIkkro c/Vx8cew+bXDGrdWO7fqHdzXJbuspbXTvPKqAD7PlJkBv X-Gm-Gg: ASbGnctzkStXCXr9+8iYl3TjkoU2Sd61XIMv3RD4xEXvD9qZtgtTtVIn7bNcwcQWrkp 8U14HSdx1RuaW56hxCSltcSRhhHtdZq/EwyAH4YO+xFT0mcCkWScqvwRtDBtVbPxVE1sVC+CgnE P87GTILt0ZxBeTdHMUK4W7da3UwhiprGlQ0dD/0f/TqIySdkJccbyFU+IYLGOwHRCBlldSPw5JT 4FeAK0uI5+A7Ko7gGTvvqR1nushZHP4/MC5sGBdvdaM9Gnv4TDT5v3ywvJvZzaOTf9q9QLMLS9W BAMYG30MltuguYpuLajr0hJMQLaQlo46v8zVOCFjB5vO5+2DLdnlJaaFiLH7XOe5kRpJIA== X-Google-Smtp-Source: AGHT+IEl6B5YuLnVVcqKilzeGUQo6HooqBxVybkXuQxN/4Bo87VRuyAcLEhECUuEIS1HP85ptRxm3vJRxmxl X-Received: by 2002:a05:6e02:1a0a:b0:3e0:4564:4ef9 with SMTP id e9e14a558f8ab-3e13544f97amr15216705ab.4.1751618517866; Fri, 04 Jul 2025 01:41:57 -0700 (PDT) Received: from postal.iol.unh.edu (postal.iol.unh.edu. [132.177.123.84]) by smtp-relay.gmail.com with ESMTPS id e9e14a558f8ab-3e1004ba3a8sm1120905ab.67.2025.07.04.01.41.57 (version=TLS1_2 cipher=ECDHE-ECDSA-AES128-GCM-SHA256 bits=128/128); Fri, 04 Jul 2025 01:41:57 -0700 (PDT) X-Relaying-Domain: iol.unh.edu Date: Fri, 04 Jul 2025 01:41:57 -0700 (PDT) Message-ID: <686793d5.050a0220.1d85e2.61afSMTPIN_ADDED_MISSING@mx.google.com> Received: from [172.21.0.7] (unknown [172.18.0.240]) by postal.iol.unh.edu (Postfix) with ESMTP id 58B5E6051830; Fri, 4 Jul 2025 04:41:57 -0400 (EDT) Subject: |SUCCESS| pw154914 [PATCH] [v3] test/argparse: change initialization From: dpdklab@iol.unh.edu To: Test Report Cc: dpdk-test-reports@iol.unh.edu In-Reply-To: <20250701154202.237442-1-stephen@networkplumber.org> References: <20250701154202.237442-1-stephen@networkplumber.org> Content-Type: text/plain X-BeenThere: test-report@dpdk.org X-Mailman-Version: 2.1.29 Precedence: list List-Id: automatic DPDK test reports List-Unsubscribe: , List-Archive: List-Post: List-Help: List-Subscribe: , Errors-To: test-report-bounces@dpdk.org Test-Label: iol-compile-arm64-testing Test-Status: SUCCESS http://dpdk.org/patch/154914 _Testing PASS_ Submitter: Stephen Hemminger Date: Tuesday, July 01 2025 15:41:46 DPDK git baseline: Repo:dpdk Branch: master CommitID:70c2297528e7c7789af452f78de1932e9a20c8a2 154914 --> testing pass Upstream job id: Generic-DPDK-Compile-Meson#405236 Test environment and result as below: +------------------------------+--------------------+ | Environment | dpdk_meson_compile | +==============================+====================+ | Red Hat Enterprise Linux 9.5 | PASS | +------------------------------+--------------------+ | Ubuntu 20.04 | PASS | +------------------------------+--------------------+ | Debian GNU/Linux 12 | PASS | +------------------------------+--------------------+ | Fedora Linux 40 | PASS | +------------------------------+--------------------+ | Fedora Linux 41 | PASS | +------------------------------+--------------------+ | Ubuntu 22.04 | PASS | +------------------------------+--------------------+ | Ubuntu 24.04 | PASS | +------------------------------+--------------------+ | CentOS Stream 9 | PASS | +------------------------------+--------------------+ | CentOS Stream 10 | PASS | +------------------------------+--------------------+ Red Hat Enterprise Linux 9.5 Kernel: 5.4 Compiler: gcc gcc (GCC) 11.5.0 20240719 (Red Hat 11.5.0-2) Ubuntu 20.04 Kernel: 5.15 Compiler: aarch64-linux-gnu-gcc gcc (Ubuntu 9.4.0-1ubuntu1~20.04.2) 9.4.0 Debian GNU/Linux 12 Kernel: 5.4 Compiler: gcc gcc (Debian 12.2.0-14+deb12u1) 12.2.0 Fedora Linux 40 Kernel: 5.4 Compiler: clang gcc (GCC) 14.2.1 20240912 (Red Hat 14.2.1-3) Fedora Linux 41 Kernel: 5.4 Compiler: gcc gcc (GCC) 14.3.1 20250523 (Red Hat 14.3.1-1) Ubuntu 22.04 Kernel: 5.4 Compiler: gcc gcc (Ubuntu 11.4.0-1ubuntu1~22.04) 11.4.0 Ubuntu 24.04 Kernel: 5.4 Compiler: gcc gcc (Ubuntu 13.3.0-6ubuntu2~24.04) 13.3.0 CentOS Stream 9 Kernel: 5.4 Compiler: gcc gcc (GCC) 11.5.0 20240719 (Red Hat 11.5.0-7) CentOS Stream 10 Kernel: 5.4 Compiler: gcc gcc (GCC) 14.2.1 20250110 (Red Hat 14.2.1-8) To view detailed results, visit: https://lab.dpdk.org/results/dashboard/patchsets/33557/ UNH-IOL DPDK Community Lab To manage your email subscriptions, visit: https://lab.dpdk.org/results/dashboard/preferences/subscriptions/