From mboxrd@z Thu Jan 1 00:00:00 1970 Return-Path: Received: from mails.dpdk.org (mails.dpdk.org [217.70.189.124]) by inbox.dpdk.org (Postfix) with ESMTP id 4E2B946AF4 for ; Fri, 4 Jul 2025 11:32:38 +0200 (CEST) Received: from mails.dpdk.org (localhost [127.0.0.1]) by mails.dpdk.org (Postfix) with ESMTP id 2AC5140267; Fri, 4 Jul 2025 11:32:38 +0200 (CEST) Received: from mail-il1-f225.google.com (mail-il1-f225.google.com [209.85.166.225]) by mails.dpdk.org (Postfix) with ESMTP id 1227440267 for ; Fri, 4 Jul 2025 11:32:37 +0200 (CEST) Received: by mail-il1-f225.google.com with SMTP id e9e14a558f8ab-3df2ddd39c6so2766935ab.0 for ; Fri, 04 Jul 2025 02:32:37 -0700 (PDT) DKIM-Signature: v=1; a=rsa-sha256; c=relaxed/relaxed; d=iol.unh.edu; s=unh-iol; t=1751621556; x=1752226356; darn=dpdk.org; h=references:in-reply-to:cc:to:from:subject:message-id:date:from:to :cc:subject:date:message-id:reply-to; bh=3vxzL5zxEt8TdeiH/EMLHnQu+AK/3jjZmRGqRRNtL5M=; b=buuUr5hF+J8X6NzUkXBresMpmHA9aDwv01f6a/XvROo6erY2l0EAVgvT3womfMFmq6 bqqkLmu935C2HzBPjaG0Dj96TbD4JglWofjZOFkY61ps3USqqaY1M+JeGbpBNdaIpEJb c/dcE496cEF0T7UsaBZk3JpdDMrZJAPgIYhVE= X-Google-DKIM-Signature: v=1; a=rsa-sha256; c=relaxed/relaxed; d=1e100.net; s=20230601; t=1751621556; x=1752226356; h=references:in-reply-to:cc:to:from:subject:message-id:date :x-gm-message-state:from:to:cc:subject:date:message-id:reply-to; bh=3vxzL5zxEt8TdeiH/EMLHnQu+AK/3jjZmRGqRRNtL5M=; b=Fnp3i8fjgFwwcs3HH/EaN+vlLAnscCOlZzp+djAMksg6C5mlJRFpqqOBAiPhDk/8m3 rDQ7dX8ISm1Zq7GKKYEiUm4wkfz5ruG48zlOrgsjQaZ8mn7AcjYpYJ6h/i447k+yMmp7 yccXVGE6TKFMpQ6Nyp9BQDwYAeCnWAAYskINF9NM3DWzmIPb13mSROpB6yawgjMgIDV1 XOcT1SIAzgTts5fD70DXgd/gbLo4hCJN9HUcgki8/VdbU6LbYCH0qkiQdC27N6NesRHS 5uqRcz90O1+/7/BF7m4zavapjbCO0ZWTwqHHpedPyP9Ky97HBrYv0uZpR8wFrZnkPdAj 4Waw== X-Gm-Message-State: AOJu0Yxa9ZvB8dfjW6zzp8yO2w3OG3ebiLD75tFkxQT+tRbZYcAABlSn mNEBZfv5j8twUbwqhPKPprvokpwf/JXZCMr9ZQ9XVWvR0qq4tJgFDYTd36dNFQRaoBBGBK46PUR m5v8VuzACS4Yadit4452CO2ycStgs+3RTWBwNQIBGXrkd6a2JVkF1l7ahltrr X-Gm-Gg: ASbGncv95XR72BsPCsHd6gKgR7Mib3+RmqvsST4QqNkHCt25aTpOscTOMIsbiHH+Iku flp6RKNBmHGGDo+XaEUcXoiNxSqVQwp5CXKz3unp+w3tTqW/hQijR6XWEMaW+F9PF0rMMnM6o9E SzQuf0tTdtRW82L9Nz52C2ZgREG6IL4GkU8VO1A/H4qbUj50Bqzv18E6d2f2LVGIAWdvW4akfpQ aE5rkIAeuVaXr+nRIVIuLkZZW92HgTR4xONPR75Cz+tVGphjasYp28SfC3oTbAcjDEgJsJ0bV1B i6NWmZpIZHIB0bE0JoIILnWTAdrZ3GXHiUDisBq+wv8zVRs= X-Google-Smtp-Source: AGHT+IH47LsGSJc+abTvYNZCWbn/eb1FxGMYA03+dUDy9kSBjgT6HE89wNH+SRgq5zfIxXhPnmlwBjPh/2dz X-Received: by 2002:a05:6e02:1a4c:b0:3dd:bb7e:f1af with SMTP id e9e14a558f8ab-3e1371f6b2emr12291225ab.20.1751621556327; Fri, 04 Jul 2025 02:32:36 -0700 (PDT) Received: from postal.iol.unh.edu (postal.iol.unh.edu. [2606:4100:3880:1234::84]) by smtp-relay.gmail.com with ESMTPS id 8926c6da1cb9f-503b5a1322bsm58158173.19.2025.07.04.02.32.36 (version=TLS1_2 cipher=ECDHE-ECDSA-AES128-GCM-SHA256 bits=128/128); Fri, 04 Jul 2025 02:32:36 -0700 (PDT) X-Relaying-Domain: iol.unh.edu Date: Fri, 04 Jul 2025 02:32:36 -0700 (PDT) Message-ID: <68679fb4.050a0220.38a23d.3152SMTPIN_ADDED_MISSING@mx.google.com> Received: from [172.21.0.5] (unknown [172.18.0.240]) by postal.iol.unh.edu (Postfix) with ESMTP id D72FE6051830; Fri, 4 Jul 2025 05:32:35 -0400 (EDT) Subject: |SUCCESS| pw154914 [PATCH] [v3] test/argparse: change initialization From: dpdklab@iol.unh.edu To: Test Report Cc: dpdk-test-reports@iol.unh.edu In-Reply-To: <20250701154202.237442-1-stephen@networkplumber.org> References: <20250701154202.237442-1-stephen@networkplumber.org> Content-Type: text/plain X-BeenThere: test-report@dpdk.org X-Mailman-Version: 2.1.29 Precedence: list List-Id: automatic DPDK test reports List-Unsubscribe: , List-Archive: List-Post: List-Help: List-Subscribe: , Errors-To: test-report-bounces@dpdk.org Test-Label: iol-compile-arm64-testing Test-Status: SUCCESS http://dpdk.org/patch/154914 _Testing PASS_ Submitter: Stephen Hemminger Date: Tuesday, July 01 2025 15:41:46 DPDK git baseline: Repo:dpdk Branch: master CommitID:70c2297528e7c7789af452f78de1932e9a20c8a2 154914 --> testing pass Upstream job id: Generic-DPDK-Compile-Meson#405178 Test environment and result as below: +------------------------------+--------------------+ | Environment | dpdk_meson_compile | +==============================+====================+ | Red Hat Enterprise Linux 9.5 | PASS | +------------------------------+--------------------+ | Ubuntu 20.04 | PASS | +------------------------------+--------------------+ | Debian GNU/Linux 12 | PASS | +------------------------------+--------------------+ | Fedora Linux 40 | PASS | +------------------------------+--------------------+ | Fedora Linux 41 | PASS | +------------------------------+--------------------+ | Ubuntu 22.04 | PASS | +------------------------------+--------------------+ | CentOS Stream 9 | PASS | +------------------------------+--------------------+ | CentOS Stream 10 | PASS | +------------------------------+--------------------+ | Ubuntu 24.04 | PASS | +------------------------------+--------------------+ Red Hat Enterprise Linux 9.5 Kernel: 5.4 Compiler: gcc gcc (GCC) 11.5.0 20240719 (Red Hat 11.5.0-2) Ubuntu 20.04 Kernel: 5.15 Compiler: aarch64-linux-gnu-gcc gcc (Ubuntu 9.4.0-1ubuntu1~20.04.2) 9.4.0 Debian GNU/Linux 12 Kernel: 5.4 Compiler: gcc gcc (Debian 12.2.0-14+deb12u1) 12.2.0 Fedora Linux 40 Kernel: 5.4 Compiler: gcc gcc (GCC) 14.2.1 20240912 (Red Hat 14.2.1-3) Fedora Linux 41 Kernel: 5.4 Compiler: gcc gcc (GCC) 14.3.1 20250523 (Red Hat 14.3.1-1) Ubuntu 22.04 Kernel: 5.4 Compiler: gcc gcc (Ubuntu 11.4.0-1ubuntu1~22.04) 11.4.0 CentOS Stream 9 Kernel: 5.4 Compiler: gcc gcc (GCC) 11.5.0 20240719 (Red Hat 11.5.0-7) CentOS Stream 10 Kernel: 5.4 Compiler: gcc gcc (GCC) 14.2.1 20250110 (Red Hat 14.2.1-8) Ubuntu 24.04 Kernel: 5.4 Compiler: gcc gcc (Ubuntu 13.3.0-6ubuntu2~24.04) 13.3.0 To view detailed results, visit: https://lab.dpdk.org/results/dashboard/patchsets/33557/ UNH-IOL DPDK Community Lab To manage your email subscriptions, visit: https://lab.dpdk.org/results/dashboard/preferences/subscriptions/