From mboxrd@z Thu Jan 1 00:00:00 1970 Return-Path: Received: from mails.dpdk.org (mails.dpdk.org [217.70.189.124]) by inbox.dpdk.org (Postfix) with ESMTP id 79B5B46AF4 for ; Fri, 4 Jul 2025 11:48:44 +0200 (CEST) Received: from mails.dpdk.org (localhost [127.0.0.1]) by mails.dpdk.org (Postfix) with ESMTP id 5D86B40267; Fri, 4 Jul 2025 11:48:44 +0200 (CEST) Received: from mail-qv1-f100.google.com (mail-qv1-f100.google.com [209.85.219.100]) by mails.dpdk.org (Postfix) with ESMTP id 9AD9540267 for ; Fri, 4 Jul 2025 11:48:42 +0200 (CEST) Received: by mail-qv1-f100.google.com with SMTP id 6a1803df08f44-6face367320so7459666d6.3 for ; Fri, 04 Jul 2025 02:48:42 -0700 (PDT) DKIM-Signature: v=1; a=rsa-sha256; c=relaxed/relaxed; d=iol.unh.edu; s=unh-iol; t=1751622522; x=1752227322; darn=dpdk.org; h=cc:to:from:subject:message-id:date:from:to:cc:subject:date :message-id:reply-to; bh=kut4EZmijpxLPZO7NDky12gAMKmurS+BlDxWO+d49Y8=; b=AdLskyKP2xSFroEQngvItW/ksCf2tOQ/GTxqBXJKI06Lenf/d2xW2RRuuAeD2v0h+B eXKaJKjS7OgPGZBfO24bUM/+R8QtaWwGnQwgZOc38I8+9F0cPZumTluX1QwN8AOQe1MO GboTCNYyHJyrb352X7EBNzWZk1AtTEWgt1MD4= X-Google-DKIM-Signature: v=1; a=rsa-sha256; c=relaxed/relaxed; d=1e100.net; s=20230601; t=1751622522; x=1752227322; h=cc:to:from:subject:message-id:date:x-gm-message-state:from:to:cc :subject:date:message-id:reply-to; bh=kut4EZmijpxLPZO7NDky12gAMKmurS+BlDxWO+d49Y8=; b=hecTkTPo7/rmUHwVO49e2J01NiDnWEaBS0WiS2qMKq93GgYdeLx3sddDOF/FbCIOhV OcO1ScE1GUvGuwCvSJBpskuKrcUddA/CT/hVMbkunqM3H+YmV31xYDIaOxrDRQZH+ysE 6DZcEKTwoHKvQqiyvRALRah4l+A/ZeRDOwqtL5yKgiuOjRwcViIuwlHymVp7q/9DXpCH AgmQ0icT2ZUcuGen4XAxup3rVnCaMHXAohR/M10DiKEFmsA7nXb1AfZY8llszeU46O/Q 0mZRc4AyFLfYYeZfhGYgmzgQqQVEf4IYSXpMuhCrJ2D3MKA9BpS/3QgXi15gsB6LJTNR MEvQ== X-Gm-Message-State: AOJu0YzyX2b4cKNdvatUkPUVwWKNNxHlYKGjPk6iqsxaTjCkyvDn60UY oUuVosli4At6uKWibpaWqhYV0KKvQ1RCAgpEuAxdNItwKCvDglbkeEdBJS1ZTEPhVe87MFCT42B Oq83wa2R2PZaRrUhAHrW1SuTTTgZ9HmoJgpJjR632TXjjYP3tXwUAEJW4aqVi X-Gm-Gg: ASbGncsf65yL7EcsqB5mOFmyPEI5roQS+PoJaI/3Zbyd1nP1SIzUGq9BEhmWTU+R319 mRb0niclWc9KuDhDBAcqPjkJ/Iw0gBDBt4GxhhmKDMPiuj99g2oX8NGHHuXBV6xTG3CJBlzEYse mCzg8uLAMbwgS6ozN43YlcPlGA3HrimhHo9MnWt3aEzQ/ZIsDLFvVbvLtcB86XS82NKJC9c5/qi QngB+xlJdnLMce9YlJsE2b2var7RfNoD2AjwclEWjNvM60aDwTnj0cjD5MNAwVdvNT5GPgtvdob TE+lT9fV2lrHYsWuz7s2ZNf/YDcda/93JjNB7vlJmLv+ouY= X-Google-Smtp-Source: AGHT+IGhELdszKOoqkFWAupNOR7cnV54FFjWnaZ47sVnhkOYFbE+Du/clVIxEv7QgmtW3U/W6NBfQoIu8U9X X-Received: by 2002:a05:6214:5985:b0:6fa:bd17:32a with SMTP id 6a1803df08f44-702c6d8c22bmr20403766d6.29.1751622521923; Fri, 04 Jul 2025 02:48:41 -0700 (PDT) Received: from postal.iol.unh.edu (postal.iol.unh.edu. [2606:4100:3880:1234::84]) by smtp-relay.gmail.com with ESMTPS id 6a1803df08f44-702c4d5b4a3sm783546d6.63.2025.07.04.02.48.41 (version=TLS1_2 cipher=ECDHE-ECDSA-AES128-GCM-SHA256 bits=128/128); Fri, 04 Jul 2025 02:48:41 -0700 (PDT) X-Relaying-Domain: iol.unh.edu Date: Fri, 04 Jul 2025 02:48:41 -0700 (PDT) Message-ID: <6867a379.050a0220.384e0b.42edSMTPIN_ADDED_MISSING@mx.google.com> Received: from [172.21.0.5] (unknown [172.18.0.240]) by postal.iol.unh.edu (Postfix) with ESMTP id A3EBD6051830; Fri, 4 Jul 2025 05:48:41 -0400 (EDT) Subject: |SUCCESS| [GIT MASTER] 70c2297528e7c7789af452f78de1932e9a20c8a2 From: dpdklab@iol.unh.edu To: Test Report Cc: dpdk-test-reports@iol.unh.edu Content-Type: text/plain X-BeenThere: test-report@dpdk.org X-Mailman-Version: 2.1.29 Precedence: list List-Id: automatic DPDK test reports List-Unsubscribe: , List-Archive: List-Post: List-Help: List-Subscribe: , Errors-To: test-report-bounces@dpdk.org _Testing PASS_ Branch: dpdk 70c2297528e7c7789af452f78de1932e9a20c8a2 --> testing pass Upstream job id: Generic-DPDK-Compile-Meson#405202 Test environment and result as below: +------------------------------+--------------------+ | Environment | dpdk_meson_compile | +==============================+====================+ | Red Hat Enterprise Linux 9.5 | PASS | +------------------------------+--------------------+ | Ubuntu 20.04 | PASS | +------------------------------+--------------------+ | Debian GNU/Linux 12 | PASS | +------------------------------+--------------------+ | Fedora Linux 40 | PASS | +------------------------------+--------------------+ | Fedora Linux 41 | PASS | +------------------------------+--------------------+ | Ubuntu 22.04 | PASS | +------------------------------+--------------------+ | Ubuntu 24.04 | PASS | +------------------------------+--------------------+ | CentOS Stream 9 | PASS | +------------------------------+--------------------+ | CentOS Stream 10 | PASS | +------------------------------+--------------------+ Red Hat Enterprise Linux 9.5 Kernel: 5.4 Compiler: gcc gcc (GCC) 11.5.0 20240719 (Red Hat 11.5.0-2) Ubuntu 20.04 Kernel: 5.15 Compiler: aarch64-linux-gnu-gcc gcc (Ubuntu 9.4.0-1ubuntu1~20.04.2) 9.4.0 Debian GNU/Linux 12 Kernel: 5.4 Compiler: gcc gcc (Debian 12.2.0-14+deb12u1) 12.2.0 Fedora Linux 40 Kernel: 5.4 Compiler: gcc gcc (GCC) 14.2.1 20240912 (Red Hat 14.2.1-3) Fedora Linux 41 Kernel: 5.4 Compiler: gcc gcc (GCC) 14.3.1 20250523 (Red Hat 14.3.1-1) Ubuntu 22.04 Kernel: 5.4 Compiler: gcc gcc (Ubuntu 11.4.0-1ubuntu1~22.04) 11.4.0 Ubuntu 24.04 Kernel: 5.4 Compiler: gcc gcc (Ubuntu 13.3.0-6ubuntu2~24.04) 13.3.0 CentOS Stream 9 Kernel: 5.4 Compiler: gcc gcc (GCC) 11.5.0 20240719 (Red Hat 11.5.0-7) CentOS Stream 10 Kernel: 5.4 Compiler: gcc gcc (GCC) 14.2.1 20250110 (Red Hat 14.2.1-8) To view detailed results, visit: https://lab.dpdk.org/results/dashboard/tarballs/34136/ UNH-IOL DPDK Community Lab To manage your email subscriptions, visit: https://lab.dpdk.org/results/dashboard/preferences/subscriptions/