From mboxrd@z Thu Jan 1 00:00:00 1970 Return-Path: Received: from mails.dpdk.org (mails.dpdk.org [217.70.189.124]) by inbox.dpdk.org (Postfix) with ESMTP id 4EDAD46AE7 for ; Fri, 4 Jul 2025 19:43:34 +0200 (CEST) Received: from mails.dpdk.org (localhost [127.0.0.1]) by mails.dpdk.org (Postfix) with ESMTP id 3300E4028E; Fri, 4 Jul 2025 19:43:34 +0200 (CEST) Received: from mail-ua1-f97.google.com (mail-ua1-f97.google.com [209.85.222.97]) by mails.dpdk.org (Postfix) with ESMTP id A32474028E for ; Fri, 4 Jul 2025 19:43:32 +0200 (CEST) Received: by mail-ua1-f97.google.com with SMTP id a1e0cc1a2514c-87ed676e631so661711241.3 for ; Fri, 04 Jul 2025 10:43:32 -0700 (PDT) DKIM-Signature: v=1; a=rsa-sha256; c=relaxed/relaxed; d=iol.unh.edu; s=unh-iol; t=1751651012; x=1752255812; darn=dpdk.org; h=references:in-reply-to:cc:to:from:subject:message-id:date:from:to :cc:subject:date:message-id:reply-to; bh=inOpiWDsdYhjfePpFnIit97XRqp1kgphxDrgK1xZXTo=; b=KLLpPpFxSqaFARMfnnsRQsJsXlYJY43+xfD+wCV02jFB07GlovJOvh1GuSGupkg7eB 5k+0NJhUT+43PX2mI43f8PiEw1grrjnBr4oO8hR9JzW6/pQKHgLC/z3DbCu44YspLSrH LNmb9vEEXGG2bsiTyPx57jlh3ga6cxmXUd6TM= X-Google-DKIM-Signature: v=1; a=rsa-sha256; c=relaxed/relaxed; d=1e100.net; s=20230601; t=1751651012; x=1752255812; h=references:in-reply-to:cc:to:from:subject:message-id:date :x-gm-message-state:from:to:cc:subject:date:message-id:reply-to; bh=inOpiWDsdYhjfePpFnIit97XRqp1kgphxDrgK1xZXTo=; b=JD+nRUm8qbrKlZ4VhPSTadpuu7sKPramUWMJ02SuklEhOu0Y8UVL6pU8cQs2iGtROC kcenOCsrGeyaBTnjRMovz+nZ+Rci1ayeOWIiYE2VDOT70H63AjHQMBgF1wG31fqFtyhx 0V+vJ4yQ9c/pbZvFVpRGOay0+za61XfwqLdjReT54Tdm4v7e7wBh87+iyl9/WqDNTgdz 58CAeJN3YeL3bHLdndGyE4ZufJ85xDDL6GhXKCS6dB8LGN21geHTXlUXQwYQyHbm6rT4 VuRHqWZPnBJI/r7D6pya11NPtWkOFRzySCXQvDSoit5AlongLZInLyCmD2JTSP3NZ1P7 xt4g== X-Gm-Message-State: AOJu0YzgwtezbrjX1zNeMWz15zm4hA/27fQ96CzHdjUw+8Lc+RjPuMfu jGLt6NZdNmCquJjC26uTwX8SObAenewjI/EJlDCUMgkPW/p1uojYNNtbeZ8KcVPgEMYhgEiJAxY YXd46evER/VL2MXIiMYRlo5NrVwXXHztGWhSLeiEpWWr5/ir2LYoY28Pmz8Px X-Gm-Gg: ASbGncvgXsjQU0+o2o/m1vC8diujiG7qibYGWMV/nukGEOdzhuYjJH6Rd+Ke9NhcWiU iF5P7AiHIu8nc37g+j4DIVmakT0lSWNycEoJPiJaqx+Sh/4ShkvcOzup42We0zqLVkFtXuFfMYH ZXmy9OrvQyg+25tz5T2US3CAv1eYRoOkhUcFid2gH5yEhWa2szQPzd+/rz7UVKEiKpwtXTUOgFn 4yd45BWY7AFSbZrF5FOJAeqSDUYCzsuvja3dzYTpu1383xncabvpf89jdn7/8WGbjoC2jfDfSZE KghkE9Tr0W6LfGP1IGQ2TTPcJMhySHa3Z/ggbWr89Gs1XXo= X-Google-Smtp-Source: AGHT+IEyaI1kSxjdfIz6p0Dbp6+ryBB9RUIFpIElllz5Bo3S3F5LoNPo0JfvBU0ZW5JS/trGld1n58g2Xqsj X-Received: by 2002:a05:6102:5cc8:b0:4ec:b36e:ad0b with SMTP id ada2fe7eead31-4f2f17e708amr2692749137.11.1751651011617; Fri, 04 Jul 2025 10:43:31 -0700 (PDT) Received: from postal.iol.unh.edu (postal.iol.unh.edu. [2606:4100:3880:1234::84]) by smtp-relay.gmail.com with ESMTPS id a1e0cc1a2514c-886e937d439sm29508241.15.2025.07.04.10.43.31 (version=TLS1_2 cipher=ECDHE-ECDSA-AES128-GCM-SHA256 bits=128/128); Fri, 04 Jul 2025 10:43:31 -0700 (PDT) X-Relaying-Domain: iol.unh.edu Date: Fri, 04 Jul 2025 10:43:31 -0700 (PDT) Message-ID: <686812c3.050a0220.366677.1605SMTPIN_ADDED_MISSING@mx.google.com> Received: from [172.21.0.8] (unknown [172.18.0.240]) by postal.iol.unh.edu (Postfix) with ESMTP id 4B1EF6050A62; Fri, 4 Jul 2025 13:43:31 -0400 (EDT) Subject: |SUCCESS| pw154952 [PATCH] net/mlx5: fix inline data size adjustment From: dpdklab@iol.unh.edu To: Test Report Cc: dpdk-test-reports@iol.unh.edu In-Reply-To: <20250702093459.102142-1-shperetz@nvidia.com> References: <20250702093459.102142-1-shperetz@nvidia.com> Content-Type: text/plain X-BeenThere: test-report@dpdk.org X-Mailman-Version: 2.1.29 Precedence: list List-Id: automatic DPDK test reports List-Unsubscribe: , List-Archive: List-Post: List-Help: List-Subscribe: , Errors-To: test-report-bounces@dpdk.org Test-Label: iol-abi-testing Test-Status: SUCCESS http://dpdk.org/patch/154952 _Testing PASS_ Submitter: Shani Peretz Date: Wednesday, July 02 2025 09:34:59 DPDK git baseline: Repo:dpdk Branch: master CommitID:5c0c1a13c34aa57c6e18f9ba852a9b5807c58b72 154952 --> testing pass Upstream job id: Generic-DPDK-Compile-ABI#133043 Test environment and result as below: +-------------------------------+----------+ | Environment | abi_test | +===============================+==========+ | CentOS Stream 9 | PASS | +-------------------------------+----------+ | Fedora Linux 40 | PASS | +-------------------------------+----------+ | Debian GNU/Linux 12 | PASS | +-------------------------------+----------+ | CentOS Stream 10 | PASS | +-------------------------------+----------+ | Fedora Linux 41 | PASS | +-------------------------------+----------+ | Ubuntu 22.04 | PASS | +-------------------------------+----------+ | Ubuntu 24.04 | PASS | +-------------------------------+----------+ | openSUSE Leap 15.6 | PASS | +-------------------------------+----------+ | Red Hat Enterprise Linux 9.5 | PASS | +-------------------------------+----------+ | Red Hat Enterprise Linux 8.10 | PASS | +-------------------------------+----------+ CentOS Stream 9 Kernel: 5.15 Compiler: gcc gcc (GCC) 11.5.0 20240719 (Red Hat 11.5.0-7) Fedora Linux 40 Kernel: 5.15 Compiler: clang gcc (GCC) 14.2.1 20240912 (Red Hat 14.2.1-3) Debian GNU/Linux 12 Kernel: 5.15 Compiler: gcc gcc (Debian 12.2.0-14+deb12u1) 12.2.0 CentOS Stream 10 Kernel: 5.15 Compiler: gcc gcc (GCC) 14.2.1 20250110 (Red Hat 14.2.1-8) Fedora Linux 41 Kernel: 5.15 Compiler: gcc gcc (GCC) 14.3.1 20250523 (Red Hat 14.3.1-1) Ubuntu 22.04 Kernel: 5.15 Compiler: gcc gcc (Ubuntu 11.4.0-1ubuntu1~22.04) 11.4.0 Ubuntu 24.04 Kernel: 5.15 Compiler: gcc gcc (Ubuntu 13.3.0-6ubuntu2~24.04) 13.3.0 openSUSE Leap 15.6 Kernel: 5.15 Compiler: gcc gcc (SUSE Linux) 7.5.0 Red Hat Enterprise Linux 9.5 Kernel: 5.15 Compiler: gcc gcc (GCC) 11.5.0 20240719 (Red Hat 11.5.0-2) Red Hat Enterprise Linux 8.10 Kernel: 5.15 Compiler: gcc gcc (GCC) 8.5.0 20210514 (Red Hat 8.5.0-22) To view detailed results, visit: https://lab.dpdk.org/results/dashboard/patchsets/33564/ UNH-IOL DPDK Community Lab To manage your email subscriptions, visit: https://lab.dpdk.org/results/dashboard/preferences/subscriptions/