From mboxrd@z Thu Jan 1 00:00:00 1970 Return-Path: Received: from mails.dpdk.org (mails.dpdk.org [217.70.189.124]) by inbox.dpdk.org (Postfix) with ESMTP id 4B7A646AE7 for ; Fri, 4 Jul 2025 19:43:57 +0200 (CEST) Received: from mails.dpdk.org (localhost [127.0.0.1]) by mails.dpdk.org (Postfix) with ESMTP id 45A334028E; Fri, 4 Jul 2025 19:43:57 +0200 (CEST) Received: from mail-il1-f227.google.com (mail-il1-f227.google.com [209.85.166.227]) by mails.dpdk.org (Postfix) with ESMTP id C43644028E for ; Fri, 4 Jul 2025 19:43:55 +0200 (CEST) Received: by mail-il1-f227.google.com with SMTP id e9e14a558f8ab-3df2ccbb895so11522475ab.3 for ; Fri, 04 Jul 2025 10:43:55 -0700 (PDT) DKIM-Signature: v=1; a=rsa-sha256; c=relaxed/relaxed; d=iol.unh.edu; s=unh-iol; t=1751651035; x=1752255835; darn=dpdk.org; h=references:in-reply-to:cc:to:from:subject:message-id:date:from:to :cc:subject:date:message-id:reply-to; bh=/EP4K2923q2B+C+ncdH+m7fj/EhSgI242oXQYY+GaVg=; b=AinCCKDTcxsFwwtSk2OcaephB5Wge9hA3mQApFDWVki7YLoeah/F0Jh3vazuO9F0ZH cGi28VYAmA4kExpzZGknpZcD2ml2liuLXpwKOhepfQMcIVx/0s/ZpJunzaEsFFiDfj6k aJYC0Qk8g7GdwrvxU0o2Ds4vodBEd/PdhAG88= X-Google-DKIM-Signature: v=1; a=rsa-sha256; c=relaxed/relaxed; d=1e100.net; s=20230601; t=1751651035; x=1752255835; h=references:in-reply-to:cc:to:from:subject:message-id:date :x-gm-message-state:from:to:cc:subject:date:message-id:reply-to; bh=/EP4K2923q2B+C+ncdH+m7fj/EhSgI242oXQYY+GaVg=; b=TUxdPwk0ASqfzQDQ7Knv9DY6LFr4jUiKLkqOX4vQR2Jqze3aNhCoyEsj+Dt+zZzNT9 xK1z3z6wxBRzfxanaqBMSTBIm63sZmaQ+SaEqeQH503vk8uHtAV1Bme+BmbeRi2XdihC GGoOtZt9ZTFpHrCnXAXEtXyM3AlC2T2KPnuACw3fh7YJPWEH6DCh1Dz3hEZnTtbGdKip i41BLsGuk2gEiedChw+SXUN8ezyY13/eaNYGkxGGyIoP5sFuEZeH4a4xMBq9EOhKOps2 RX6X7VZBZabe/KFQyhtODexG5FKcqhj9s+9tPOKVtptJMNV8eRs0LFO29x9XEDZanXi9 UnoQ== X-Gm-Message-State: AOJu0YysIi21brvDeXn4n4G4B9t/M/jAP5qD7NBlsR1c1eqD+OKt9dyl 17rn8BQIrhi9jqWoekyHOs42EpwOvPXM81P2wL7Zwb9PiKAftcxgdU5RrIIgP71g7iUdA0Tt4sC qpwLbNWjbFW/Y3OzNR8Zy/o54mZnUZ/BeMdki6Vol78b6 X-Gm-Gg: ASbGncuzXYXprY9tF5B76+UxAj8uhMlCKG/i0PNCQ6Wry1AgZ5Dt6uneYlr+J8Obk2a 41r04ezbhUk/8i2Pix91fR+LIoxy2cr9LonPjrmAnjNZSla8OBc/QrV207gn5F9+uaw7+/Btgk1 ef0A0kBKaU7gsdrNj9aVcgVWQUlHmcgEelUnrCvYS0OjmlmDqs9cXR7hOZPD65Uc1xQboNlKNMQ hSmuPqsj7YKvYt+oTdXU+5i8zKIMBfES+xE9CQ7kP35TYrBUdmsUfuFZmMjQ5ThEkFeUn07o9GO BI7rdFL8sMiMsmOBr0g6FUyhEoEPk0s5hdErx38KVQ/YScb+Mj6Oh6g8D/Y/IgtbvZGx9w== X-Google-Smtp-Source: AGHT+IGZUSVdXwoKV0UYfnLQ0RUMmzi8CSBYWWHqLDc3emdSsBtMbx6qQpd7rXKDuVgJb61HKXg6/dHDnCDH X-Received: by 2002:a05:6e02:258c:b0:3da:71c7:5c7f with SMTP id e9e14a558f8ab-3e1371fcf1bmr28952735ab.15.1751651035007; Fri, 04 Jul 2025 10:43:55 -0700 (PDT) Received: from postal.iol.unh.edu (postal.iol.unh.edu. [132.177.123.84]) by smtp-relay.gmail.com with ESMTPS id 8926c6da1cb9f-503b59bd4besm91254173.13.2025.07.04.10.43.54 (version=TLS1_2 cipher=ECDHE-ECDSA-AES128-GCM-SHA256 bits=128/128); Fri, 04 Jul 2025 10:43:55 -0700 (PDT) X-Relaying-Domain: iol.unh.edu Date: Fri, 04 Jul 2025 10:43:55 -0700 (PDT) Message-ID: <686812db.050a0220.3373a0.4b4eSMTPIN_ADDED_MISSING@mx.google.com> Received: from [172.21.0.5] (unknown [172.18.0.240]) by postal.iol.unh.edu (Postfix) with ESMTP id 769036050A62; Fri, 4 Jul 2025 13:43:54 -0400 (EDT) Subject: |SUCCESS| pw154952 [PATCH] net/mlx5: fix inline data size adjustment From: dpdklab@iol.unh.edu To: Test Report Cc: dpdk-test-reports@iol.unh.edu In-Reply-To: <20250702093459.102142-1-shperetz@nvidia.com> References: <20250702093459.102142-1-shperetz@nvidia.com> Content-Type: text/plain X-BeenThere: test-report@dpdk.org X-Mailman-Version: 2.1.29 Precedence: list List-Id: automatic DPDK test reports List-Unsubscribe: , List-Archive: List-Post: List-Help: List-Subscribe: , Errors-To: test-report-bounces@dpdk.org Test-Label: iol-abi-testing Test-Status: SUCCESS http://dpdk.org/patch/154952 _Testing PASS_ Submitter: Shani Peretz Date: Wednesday, July 02 2025 09:34:59 DPDK git baseline: Repo:dpdk Branch: master CommitID:5c0c1a13c34aa57c6e18f9ba852a9b5807c58b72 154952 --> testing pass Upstream job id: Generic-DPDK-Compile-ABI#133045 Test environment and result as below: +-------------------------------+----------+ | Environment | abi_test | +===============================+==========+ | CentOS Stream 9 | PASS | +-------------------------------+----------+ | Fedora Linux 40 | PASS | +-------------------------------+----------+ | Debian GNU/Linux 12 | PASS | +-------------------------------+----------+ | CentOS Stream 10 | PASS | +-------------------------------+----------+ | Fedora Linux 41 | PASS | +-------------------------------+----------+ | Ubuntu 22.04 | PASS | +-------------------------------+----------+ | Ubuntu 24.04 | PASS | +-------------------------------+----------+ | openSUSE Leap 15.6 | PASS | +-------------------------------+----------+ | Red Hat Enterprise Linux 9.5 | PASS | +-------------------------------+----------+ | Red Hat Enterprise Linux 8.10 | PASS | +-------------------------------+----------+ CentOS Stream 9 Kernel: 5.15 Compiler: gcc gcc (GCC) 11.5.0 20240719 (Red Hat 11.5.0-7) Fedora Linux 40 Kernel: 5.15 Compiler: clang gcc (GCC) 14.2.1 20240912 (Red Hat 14.2.1-3) Debian GNU/Linux 12 Kernel: 5.15 Compiler: gcc gcc (Debian 12.2.0-14+deb12u1) 12.2.0 CentOS Stream 10 Kernel: 5.15 Compiler: gcc gcc (GCC) 14.2.1 20250110 (Red Hat 14.2.1-8) Fedora Linux 41 Kernel: 5.15 Compiler: gcc gcc (GCC) 14.3.1 20250523 (Red Hat 14.3.1-1) Ubuntu 22.04 Kernel: 5.15 Compiler: gcc gcc (Ubuntu 11.4.0-1ubuntu1~22.04) 11.4.0 Ubuntu 24.04 Kernel: 5.15 Compiler: gcc gcc (Ubuntu 13.3.0-6ubuntu2~24.04) 13.3.0 openSUSE Leap 15.6 Kernel: 5.15 Compiler: gcc gcc (SUSE Linux) 7.5.0 Red Hat Enterprise Linux 9.5 Kernel: 5.15 Compiler: gcc gcc (GCC) 11.5.0 20240719 (Red Hat 11.5.0-2) Red Hat Enterprise Linux 8.10 Kernel: 5.15 Compiler: gcc gcc (GCC) 8.5.0 20210514 (Red Hat 8.5.0-22) To view detailed results, visit: https://lab.dpdk.org/results/dashboard/patchsets/33564/ UNH-IOL DPDK Community Lab To manage your email subscriptions, visit: https://lab.dpdk.org/results/dashboard/preferences/subscriptions/