From mboxrd@z Thu Jan 1 00:00:00 1970 Return-Path: Received: from mails.dpdk.org (mails.dpdk.org [217.70.189.124]) by inbox.dpdk.org (Postfix) with ESMTP id 5781F46AE7 for ; Fri, 4 Jul 2025 19:44:11 +0200 (CEST) Received: from mails.dpdk.org (localhost [127.0.0.1]) by mails.dpdk.org (Postfix) with ESMTP id 5335F4028E; Fri, 4 Jul 2025 19:44:11 +0200 (CEST) Received: from mail-qv1-f98.google.com (mail-qv1-f98.google.com [209.85.219.98]) by mails.dpdk.org (Postfix) with ESMTP id E6B8D4028E for ; Fri, 4 Jul 2025 19:44:09 +0200 (CEST) Received: by mail-qv1-f98.google.com with SMTP id 6a1803df08f44-6facf4d8e9eso11542876d6.1 for ; Fri, 04 Jul 2025 10:44:09 -0700 (PDT) DKIM-Signature: v=1; a=rsa-sha256; c=relaxed/relaxed; d=iol.unh.edu; s=unh-iol; t=1751651049; x=1752255849; darn=dpdk.org; h=references:in-reply-to:cc:to:from:subject:message-id:date:from:to :cc:subject:date:message-id:reply-to; bh=bJmE6l214tbm+Mdlx6G3TQXHRE1TIuWNU9ehYheaVoo=; b=TwIqrtBxkkXrPTIR0J1FXaPCUFso2S7iJEKTK1Lwe/UYhdE4uxCr5C+hL/j+g0xXdq eyBdtqYf9gkX9yBWCUJ5ivUWvXlIt3mihH8l5f3lIhopc5ZRs/0BEis5SAf30Qeu5ry6 PU7wQLdttJ8pPUKRTvks1sPH7doSZRAT5wkAo= X-Google-DKIM-Signature: v=1; a=rsa-sha256; c=relaxed/relaxed; d=1e100.net; s=20230601; t=1751651049; x=1752255849; h=references:in-reply-to:cc:to:from:subject:message-id:date :x-gm-message-state:from:to:cc:subject:date:message-id:reply-to; bh=bJmE6l214tbm+Mdlx6G3TQXHRE1TIuWNU9ehYheaVoo=; b=vGbrzpdd9UjRcVU7uV+W4AxYtgSkOlW/m2pYzN6MP0oxL6xck0I6w/bx5SdO7ex+Hf UHOubJhJHPM4ftWkWMvRdOYlAyWRmdyXmS92B1dMBCT5Omo538vmrW5VuChZZCjgzEdT Ka85CEBM7WA4/6lF5qZMDYHcUdlvdJKh9dcw4yiexHID1f6MlKzAQT9IGtK7DhqehPHN leR4YNkOE7zzutZDvSjjWljhQb/Z2sIoJOo1r0xWYfQ9HgxYuJIaUZUfu23LBd1noq2Q gvvxgAqLc2DWBvJooULa9hXtwAoEMVA5FvUajGYCieEPQUea4N+TcYg2I8xLdIIdEYy6 DM6Q== X-Gm-Message-State: AOJu0YxwdlxV2kfTc3YPGcn9AiUDDSzGLngfQqhOM+ujugthVnSBD1FM ytSow9XpP1S6sba0XCLl7E8yZxV2eFhQIMtQX1yQkBYnjzZb6XpEtBDns3K7FZXcLItTK7ljDaL QCEeljACF5OpRdxwhIYSR6ssbDyP0Wv4qwCASTTyyD0AB X-Gm-Gg: ASbGncsqsEO0XWRP2a9JTBh+wuW7tHBPZ8NhvKW+w/IYpCSmwYZt93/ziIZHL74H/Wt zitDMvPaHFJKodJc6/KVrBdWpw/7EAOvdqtBb61IXT15MxMuw5hFUXyifHeARDh9kl/5UqQpuT6 F7JaqgaCtqpYg9rsgwikcrIUmdLsemf1PIJDqG7vswC7nLmCzVqBIxvPLQSrVcKDqT4fsFiDsen cw8RjijV4TH0wlQNIgET+kuFuth1b09s+3vw7OCMcQFyzA/kYadMZKeg0j47hzVAhOObe/fvwSI yBxeqlidWnyWyfjaxrdhxdwFULIu8XsED0PDb0EdhyniBDajV6oiPkLsJrq7BEiSZuhhkA== X-Google-Smtp-Source: AGHT+IHJ+GhBuE2Kby5m7Tt+nLCXgNy5dCLOchCIUbJee35+YHDyk/xZHTO3dsopLltbdT0T/R9p0H35XiQm X-Received: by 2002:a05:6214:250c:b0:6fa:d95d:d0b0 with SMTP id 6a1803df08f44-702c8bcebf7mr34290126d6.29.1751651049258; Fri, 04 Jul 2025 10:44:09 -0700 (PDT) Received: from postal.iol.unh.edu (postal.iol.unh.edu. [132.177.123.84]) by smtp-relay.gmail.com with ESMTPS id 6a1803df08f44-702c4cc505bsm1115176d6.2.2025.07.04.10.44.09 (version=TLS1_2 cipher=ECDHE-ECDSA-AES128-GCM-SHA256 bits=128/128); Fri, 04 Jul 2025 10:44:09 -0700 (PDT) X-Relaying-Domain: iol.unh.edu Date: Fri, 04 Jul 2025 10:44:09 -0700 (PDT) Message-ID: <686812e9.d40a0220.cc295.6c81SMTPIN_ADDED_MISSING@mx.google.com> Received: from [172.21.0.5] (unknown [172.18.0.240]) by postal.iol.unh.edu (Postfix) with ESMTP id 0091F6050A62; Fri, 4 Jul 2025 13:44:09 -0400 (EDT) Subject: |SUCCESS| pw154952 [PATCH] net/mlx5: fix inline data size adjustment From: dpdklab@iol.unh.edu To: Test Report Cc: dpdk-test-reports@iol.unh.edu In-Reply-To: <20250702093459.102142-1-shperetz@nvidia.com> References: <20250702093459.102142-1-shperetz@nvidia.com> Content-Type: text/plain X-BeenThere: test-report@dpdk.org X-Mailman-Version: 2.1.29 Precedence: list List-Id: automatic DPDK test reports List-Unsubscribe: , List-Archive: List-Post: List-Help: List-Subscribe: , Errors-To: test-report-bounces@dpdk.org Test-Label: iol-abi-testing Test-Status: SUCCESS http://dpdk.org/patch/154952 _Testing PASS_ Submitter: Shani Peretz Date: Wednesday, July 02 2025 09:34:59 DPDK git baseline: Repo:dpdk Branch: master CommitID:5c0c1a13c34aa57c6e18f9ba852a9b5807c58b72 154952 --> testing pass Upstream job id: Generic-DPDK-Compile-ABI#133044 Test environment and result as below: +-------------------------------+----------+ | Environment | abi_test | +===============================+==========+ | CentOS Stream 9 | PASS | +-------------------------------+----------+ | Fedora Linux 40 | PASS | +-------------------------------+----------+ | Debian GNU/Linux 12 | PASS | +-------------------------------+----------+ | CentOS Stream 10 | PASS | +-------------------------------+----------+ | Fedora Linux 41 | PASS | +-------------------------------+----------+ | Ubuntu 22.04 | PASS | +-------------------------------+----------+ | Ubuntu 24.04 | PASS | +-------------------------------+----------+ | openSUSE Leap 15.6 | PASS | +-------------------------------+----------+ | Red Hat Enterprise Linux 9.5 | PASS | +-------------------------------+----------+ | Red Hat Enterprise Linux 8.10 | PASS | +-------------------------------+----------+ CentOS Stream 9 Kernel: 5.15 Compiler: gcc gcc (GCC) 11.5.0 20240719 (Red Hat 11.5.0-7) Fedora Linux 40 Kernel: 5.15 Compiler: clang gcc (GCC) 14.2.1 20240912 (Red Hat 14.2.1-3) Debian GNU/Linux 12 Kernel: 5.15 Compiler: gcc gcc (Debian 12.2.0-14+deb12u1) 12.2.0 CentOS Stream 10 Kernel: 5.15 Compiler: gcc gcc (GCC) 14.2.1 20250110 (Red Hat 14.2.1-8) Fedora Linux 41 Kernel: 5.15 Compiler: gcc gcc (GCC) 14.3.1 20250523 (Red Hat 14.3.1-1) Ubuntu 22.04 Kernel: 5.15 Compiler: gcc gcc (Ubuntu 11.4.0-1ubuntu1~22.04) 11.4.0 Ubuntu 24.04 Kernel: 5.15 Compiler: gcc gcc (Ubuntu 13.3.0-6ubuntu2~24.04) 13.3.0 openSUSE Leap 15.6 Kernel: 5.15 Compiler: gcc gcc (SUSE Linux) 7.5.0 Red Hat Enterprise Linux 9.5 Kernel: 5.15 Compiler: gcc gcc (GCC) 11.5.0 20240719 (Red Hat 11.5.0-2) Red Hat Enterprise Linux 8.10 Kernel: 5.15 Compiler: gcc gcc (GCC) 8.5.0 20210514 (Red Hat 8.5.0-22) To view detailed results, visit: https://lab.dpdk.org/results/dashboard/patchsets/33564/ UNH-IOL DPDK Community Lab To manage your email subscriptions, visit: https://lab.dpdk.org/results/dashboard/preferences/subscriptions/