From mboxrd@z Thu Jan 1 00:00:00 1970 Return-Path: Received: from mails.dpdk.org (mails.dpdk.org [217.70.189.124]) by inbox.dpdk.org (Postfix) with ESMTP id 6B08446AE7 for ; Fri, 4 Jul 2025 19:44:34 +0200 (CEST) Received: from mails.dpdk.org (localhost [127.0.0.1]) by mails.dpdk.org (Postfix) with ESMTP id 657114028E; Fri, 4 Jul 2025 19:44:34 +0200 (CEST) Received: from mail-yb1-f226.google.com (mail-yb1-f226.google.com [209.85.219.226]) by mails.dpdk.org (Postfix) with ESMTP id CAEBD402AE for ; Fri, 4 Jul 2025 19:44:32 +0200 (CEST) Received: by mail-yb1-f226.google.com with SMTP id 3f1490d57ef6-e8259b783f6so965486276.3 for ; Fri, 04 Jul 2025 10:44:32 -0700 (PDT) DKIM-Signature: v=1; a=rsa-sha256; c=relaxed/relaxed; d=iol.unh.edu; s=unh-iol; t=1751651072; x=1752255872; darn=dpdk.org; h=references:in-reply-to:cc:to:from:subject:message-id:date:from:to :cc:subject:date:message-id:reply-to; bh=mPj4BMwwTGoN1/wJPlig/Vg24ynM6OpinvlvyDnN18s=; b=GHjZMtBcguncXHsWAafYe2Eg8NOo8BH2IY11ozzJmvxEpnYtGLREt2E9z762TW0/H5 nZeOXVf24Ff11OgSn9fUMQF92h8/PyQtP5xJ2u0zboUS75O/Ckrikxj0iHPb11UW/Ad/ 01Pspu3o//G+L94oLaIJSmeczq8TILzX6nmhQ= X-Google-DKIM-Signature: v=1; a=rsa-sha256; c=relaxed/relaxed; d=1e100.net; s=20230601; t=1751651072; x=1752255872; h=references:in-reply-to:cc:to:from:subject:message-id:date :x-gm-message-state:from:to:cc:subject:date:message-id:reply-to; bh=mPj4BMwwTGoN1/wJPlig/Vg24ynM6OpinvlvyDnN18s=; b=Qm9MrnjupS2v7nNadqS5OlJ94blyEZPi+Haj/1Zl4El5DEcYt2D7Q0B6xWCrynd2N6 RAtjSqqB8GAiQzjDnVtJhLv5gtAuwT4UvaYwcMdGuieWk0SUTVKskX7vjdAqIm1PAyiy sN05x4/ZauDkzG4HhyvZLlyLDZfYhvsD9s2HqHyT51W/1ho5BwB3pxsuoODYUWpnYXN8 OcjX+HNzvSacBPb8mhxY1ZdGhIZV9iphik207MJ93JA4GQWB396rbBl3Ggsi15+kzBct cLo2S9RRavB6FvFbTQOllKsqlpYDpgYvnbkR3Nze5c4yTqQeEzlaBRXFxCeX8ezhV902 cYXg== X-Gm-Message-State: AOJu0YyCRvxYd1ct38C09bRrfWFGaUJocAJLfHKI7R9h+bbuS2mB6Uw6 WB2Hg+Wr8D3rQ5PK+Cq04gqWAO82QZgiuuOVX7jYntrO3UynDpXEWmRY26s4yqBtWRCKeEqVUKx dxkN3r/uAcpMmMMAWkEWZqmVvHG3U3f69qL2NBWV4wxpa X-Gm-Gg: ASbGncsUbijWuqKNjmOmAeXDAmwoWw+g355VS4w35R6+5IN2bE90wzycvUs1gZXw8UY 1js387MWz15IKqp52DxO+Rwkb9mQPmH4leGf5eBIJTqgjjOc9QDrAN87csmiOVC0lgBJxgl6EEY Hj229CL3Cmt0EGB3MAbdPiY/sDe1fGsEAa9VL+XiwEnMs7boUGqMJc2ICBH/Ovntr2T2iYTZvdK e3fdx0cKii2VpZtLu8XGx9muvUwpem6VjYlE7SL2tgleUTPzDLjnvWB/T/0A1Sy1scuS+iUSQSH kWUbe1aSmxb+2vweHRKJGwSM3PAfKoZDcwoOOVKL+8J69VxCH0EtSDxQRb63JU3syqjL6A== X-Google-Smtp-Source: AGHT+IGgGtyM60zijT61wLAHDpyQrQTSPJTeujj9JP6UsOzlK35iLeK3GNJLQHyYtuXXexrk0ig3a9rjrh7k X-Received: by 2002:a05:6902:4807:b0:e89:7ee3:5de6 with SMTP id 3f1490d57ef6-e89a0cc5185mr3077532276.29.1751651072134; Fri, 04 Jul 2025 10:44:32 -0700 (PDT) Received: from postal.iol.unh.edu (postal.iol.unh.edu. [132.177.123.84]) by smtp-relay.gmail.com with ESMTPS id 3f1490d57ef6-e899c40e66fsm119849276.19.2025.07.04.10.44.32 (version=TLS1_2 cipher=ECDHE-ECDSA-AES128-GCM-SHA256 bits=128/128); Fri, 04 Jul 2025 10:44:32 -0700 (PDT) X-Relaying-Domain: iol.unh.edu Date: Fri, 04 Jul 2025 10:44:32 -0700 (PDT) Message-ID: <68681300.250a0220.bd16c.6496SMTPIN_ADDED_MISSING@mx.google.com> Received: from [172.21.0.6] (unknown [172.18.0.240]) by postal.iol.unh.edu (Postfix) with ESMTP id C90816050A62; Fri, 4 Jul 2025 13:44:31 -0400 (EDT) Subject: |SUCCESS| pw154952 [PATCH] net/mlx5: fix inline data size adjustment From: dpdklab@iol.unh.edu To: Test Report Cc: dpdk-test-reports@iol.unh.edu In-Reply-To: <20250702093459.102142-1-shperetz@nvidia.com> References: <20250702093459.102142-1-shperetz@nvidia.com> Content-Type: text/plain X-BeenThere: test-report@dpdk.org X-Mailman-Version: 2.1.29 Precedence: list List-Id: automatic DPDK test reports List-Unsubscribe: , List-Archive: List-Post: List-Help: List-Subscribe: , Errors-To: test-report-bounces@dpdk.org Test-Label: iol-abi-testing Test-Status: SUCCESS http://dpdk.org/patch/154952 _Testing PASS_ Submitter: Shani Peretz Date: Wednesday, July 02 2025 09:34:59 DPDK git baseline: Repo:dpdk Branch: master CommitID:5c0c1a13c34aa57c6e18f9ba852a9b5807c58b72 154952 --> testing pass Upstream job id: Generic-DPDK-Compile-ABI#133040 Test environment and result as below: +-------------------------------+----------+ | Environment | abi_test | +===============================+==========+ | CentOS Stream 9 | PASS | +-------------------------------+----------+ | Fedora Linux 40 | PASS | +-------------------------------+----------+ | Debian GNU/Linux 12 | PASS | +-------------------------------+----------+ | CentOS Stream 10 | PASS | +-------------------------------+----------+ | Fedora Linux 41 | PASS | +-------------------------------+----------+ | Ubuntu 22.04 | PASS | +-------------------------------+----------+ | Ubuntu 24.04 | PASS | +-------------------------------+----------+ | openSUSE Leap 15.6 | PASS | +-------------------------------+----------+ | Red Hat Enterprise Linux 9.5 | PASS | +-------------------------------+----------+ | Red Hat Enterprise Linux 8.10 | PASS | +-------------------------------+----------+ CentOS Stream 9 Kernel: 5.15 Compiler: gcc gcc (GCC) 11.5.0 20240719 (Red Hat 11.5.0-7) Fedora Linux 40 Kernel: 5.15 Compiler: clang gcc (GCC) 14.2.1 20240912 (Red Hat 14.2.1-3) Debian GNU/Linux 12 Kernel: 5.15 Compiler: gcc gcc (Debian 12.2.0-14+deb12u1) 12.2.0 CentOS Stream 10 Kernel: 5.15 Compiler: gcc gcc (GCC) 14.2.1 20250110 (Red Hat 14.2.1-8) Fedora Linux 41 Kernel: 5.15 Compiler: gcc gcc (GCC) 14.3.1 20250523 (Red Hat 14.3.1-1) Ubuntu 22.04 Kernel: 5.15 Compiler: gcc gcc (Ubuntu 11.4.0-1ubuntu1~22.04) 11.4.0 Ubuntu 24.04 Kernel: 5.15 Compiler: gcc gcc (Ubuntu 13.3.0-6ubuntu2~24.04) 13.3.0 openSUSE Leap 15.6 Kernel: 5.15 Compiler: gcc gcc (SUSE Linux) 7.5.0 Red Hat Enterprise Linux 9.5 Kernel: 5.15 Compiler: gcc gcc (GCC) 11.5.0 20240719 (Red Hat 11.5.0-2) Red Hat Enterprise Linux 8.10 Kernel: 5.15 Compiler: gcc gcc (GCC) 8.5.0 20210514 (Red Hat 8.5.0-22) To view detailed results, visit: https://lab.dpdk.org/results/dashboard/patchsets/33564/ UNH-IOL DPDK Community Lab To manage your email subscriptions, visit: https://lab.dpdk.org/results/dashboard/preferences/subscriptions/