From mboxrd@z Thu Jan 1 00:00:00 1970 Return-Path: Received: from mails.dpdk.org (mails.dpdk.org [217.70.189.124]) by inbox.dpdk.org (Postfix) with ESMTP id 76ABC46AE7 for ; Fri, 4 Jul 2025 19:44:45 +0200 (CEST) Received: from mails.dpdk.org (localhost [127.0.0.1]) by mails.dpdk.org (Postfix) with ESMTP id 72E6E4028E; Fri, 4 Jul 2025 19:44:45 +0200 (CEST) Received: from mail-il1-f225.google.com (mail-il1-f225.google.com [209.85.166.225]) by mails.dpdk.org (Postfix) with ESMTP id AEF83402AE for ; Fri, 4 Jul 2025 19:44:43 +0200 (CEST) Received: by mail-il1-f225.google.com with SMTP id e9e14a558f8ab-3d948ce7d9dso6194745ab.2 for ; Fri, 04 Jul 2025 10:44:43 -0700 (PDT) DKIM-Signature: v=1; a=rsa-sha256; c=relaxed/relaxed; d=iol.unh.edu; s=unh-iol; t=1751651083; x=1752255883; darn=dpdk.org; h=references:in-reply-to:cc:to:from:subject:message-id:date:from:to :cc:subject:date:message-id:reply-to; bh=0bMHepjSSf4spUV8Mc42TAoQ19+sojaME6GlbS8B94I=; b=fzO4xASEJrPDCzJiR7R797voaSPGFM+tZ15w8C/9SV9A1TzrWXWGn67j0QKkog5NmJ pJe3cHR8ngVMddPPPiEU5JMYzLY46rOEKLXk+3yayhvx+J28gEp5QE1C4ylHNEDUF/54 zTNdfHPAsQRuM3KTydOiC3SP9fi7dp+Nu90ao= X-Google-DKIM-Signature: v=1; a=rsa-sha256; c=relaxed/relaxed; d=1e100.net; s=20230601; t=1751651083; x=1752255883; h=references:in-reply-to:cc:to:from:subject:message-id:date :x-gm-message-state:from:to:cc:subject:date:message-id:reply-to; bh=0bMHepjSSf4spUV8Mc42TAoQ19+sojaME6GlbS8B94I=; b=lyOJyUaF0wl142YuiD9n6hvufwCyGB4Jmrk7lQAX9EL/WdcMIgtalUUjAN4EUsCvGu O6R6yml5MKcD14MfNpMcO1pvJFE1HqGv4aeGcdUZcbXjzwgtSoA4k7o6n/rEgzWbxDLE G6PLIcIT+SeY95t1uz1CyXsZUsNBfFYkvRuUL6TL/WcqjRKDwhU0vI9Hr5N1I/tXJGUV cz3ob83ULPEsDfDtYAUbSVaVa6ctKufRHjCpBExbZhIHr1BsZnBBRt6h/1gD8O4X7Xha iq4JVPlRfXqUUJC8IxPGBVzvN076cuhwUgHgyF97XqWBfkVIr8NbvLmpauidNxbekfcD /5wA== X-Gm-Message-State: AOJu0YwqFcgR0p8tKihynrVmTHItsjwAJ6TzKaEE4ljXZI61cnrVmyxh j8WXUZE+iRTKJw9excPT4Z1mEaa02PHMKfjCrZRS2gqWhkw8jfo23ERHE/8xSMM/PQIqhz3Q8dd lFXJvBCxpX4Og2mXHAPlDmCnSmqyZlhLhBdHTM5crLEd7Ug9zjBbgYR0Z43O7 X-Gm-Gg: ASbGncviXBFHFsSGyqqQydBal9cyS894ivqN1yqOWFVEXuTjXnXIVTxqfdOQSP2fnO4 Xaz5ZMlwOiqhgIZ/+BZciNG8aEasmCb0vEAAxc53QewJztJhJ2jo/92DxKrxQFnHL1Ljj7UKsys FjwPiW55ThQRHTr2uyiwm+o7gcO/OmVa+p87798zD32Xp+/LPtSp+4sXBcm6h4E0pu8+0k0cFzO koZLRG4zt2wL4sY5y7BU9r1tHPodlP8iDWa+7NxjnQsC4auXnO4fQAOgOHnrmALRh8TNXt7wPHQ KeGcEYcNv2ZRxP3tJ5OL2JK2YiuurTMfoBSqiEQH37JEGcg= X-Google-Smtp-Source: AGHT+IEFsNaOuYRj55BYtm7O6x0/PbtxdE+6Ek31B5x/LSLzJmTPc2+OwazKU8Ndax1bMYhXo2ErL0rxPvvb X-Received: by 2002:a05:6e02:3c86:b0:3df:3598:7688 with SMTP id e9e14a558f8ab-3e137218d1cmr28010805ab.21.1751651083089; Fri, 04 Jul 2025 10:44:43 -0700 (PDT) Received: from postal.iol.unh.edu (postal.iol.unh.edu. [2606:4100:3880:1234::84]) by smtp-relay.gmail.com with ESMTPS id e9e14a558f8ab-3e0f9b557e0sm1543945ab.15.2025.07.04.10.44.43 (version=TLS1_2 cipher=ECDHE-ECDSA-AES128-GCM-SHA256 bits=128/128); Fri, 04 Jul 2025 10:44:43 -0700 (PDT) X-Relaying-Domain: iol.unh.edu Date: Fri, 04 Jul 2025 10:44:43 -0700 (PDT) Message-ID: <6868130b.050a0220.207de2.8097SMTPIN_ADDED_MISSING@mx.google.com> Received: from [172.21.0.7] (unknown [172.18.0.240]) by postal.iol.unh.edu (Postfix) with ESMTP id 9C00F6050A62; Fri, 4 Jul 2025 13:44:42 -0400 (EDT) Subject: |SUCCESS| pw154952 [PATCH] net/mlx5: fix inline data size adjustment From: dpdklab@iol.unh.edu To: Test Report Cc: dpdk-test-reports@iol.unh.edu In-Reply-To: <20250702093459.102142-1-shperetz@nvidia.com> References: <20250702093459.102142-1-shperetz@nvidia.com> Content-Type: text/plain X-BeenThere: test-report@dpdk.org X-Mailman-Version: 2.1.29 Precedence: list List-Id: automatic DPDK test reports List-Unsubscribe: , List-Archive: List-Post: List-Help: List-Subscribe: , Errors-To: test-report-bounces@dpdk.org Test-Label: iol-abi-testing Test-Status: SUCCESS http://dpdk.org/patch/154952 _Testing PASS_ Submitter: Shani Peretz Date: Wednesday, July 02 2025 09:34:59 DPDK git baseline: Repo:dpdk Branch: master CommitID:5c0c1a13c34aa57c6e18f9ba852a9b5807c58b72 154952 --> testing pass Upstream job id: Generic-DPDK-Compile-ABI#133035 Test environment and result as below: +-------------------------------+----------+ | Environment | abi_test | +===============================+==========+ | CentOS Stream 9 | PASS | +-------------------------------+----------+ | Fedora Linux 40 | PASS | +-------------------------------+----------+ | Debian GNU/Linux 12 | PASS | +-------------------------------+----------+ | CentOS Stream 10 | PASS | +-------------------------------+----------+ | Fedora Linux 41 | PASS | +-------------------------------+----------+ | Ubuntu 22.04 | PASS | +-------------------------------+----------+ | Ubuntu 24.04 | PASS | +-------------------------------+----------+ | openSUSE Leap 15.6 | PASS | +-------------------------------+----------+ | Red Hat Enterprise Linux 9.5 | PASS | +-------------------------------+----------+ | Red Hat Enterprise Linux 8.10 | PASS | +-------------------------------+----------+ CentOS Stream 9 Kernel: 5.15 Compiler: gcc gcc (GCC) 11.5.0 20240719 (Red Hat 11.5.0-7) Fedora Linux 40 Kernel: 5.15 Compiler: clang gcc (GCC) 14.2.1 20240912 (Red Hat 14.2.1-3) Debian GNU/Linux 12 Kernel: 5.15 Compiler: gcc gcc (Debian 12.2.0-14+deb12u1) 12.2.0 CentOS Stream 10 Kernel: 5.15 Compiler: gcc gcc (GCC) 14.2.1 20250110 (Red Hat 14.2.1-8) Fedora Linux 41 Kernel: 5.15 Compiler: gcc gcc (GCC) 14.3.1 20250523 (Red Hat 14.3.1-1) Ubuntu 22.04 Kernel: 5.15 Compiler: gcc gcc (Ubuntu 11.4.0-1ubuntu1~22.04) 11.4.0 Ubuntu 24.04 Kernel: 5.15 Compiler: gcc gcc (Ubuntu 13.3.0-6ubuntu2~24.04) 13.3.0 openSUSE Leap 15.6 Kernel: 5.15 Compiler: gcc gcc (SUSE Linux) 7.5.0 Red Hat Enterprise Linux 9.5 Kernel: 5.15 Compiler: gcc gcc (GCC) 11.5.0 20240719 (Red Hat 11.5.0-2) Red Hat Enterprise Linux 8.10 Kernel: 5.15 Compiler: gcc gcc (GCC) 8.5.0 20210514 (Red Hat 8.5.0-22) To view detailed results, visit: https://lab.dpdk.org/results/dashboard/patchsets/33564/ UNH-IOL DPDK Community Lab To manage your email subscriptions, visit: https://lab.dpdk.org/results/dashboard/preferences/subscriptions/