From mboxrd@z Thu Jan 1 00:00:00 1970 Return-Path: Received: from mails.dpdk.org (mails.dpdk.org [217.70.189.124]) by inbox.dpdk.org (Postfix) with ESMTP id 844E346AE7 for ; Fri, 4 Jul 2025 19:44:58 +0200 (CEST) Received: from mails.dpdk.org (localhost [127.0.0.1]) by mails.dpdk.org (Postfix) with ESMTP id 7FBB04028E; Fri, 4 Jul 2025 19:44:58 +0200 (CEST) Received: from mail-pf1-f226.google.com (mail-pf1-f226.google.com [209.85.210.226]) by mails.dpdk.org (Postfix) with ESMTP id 5AB794028E for ; Fri, 4 Jul 2025 19:44:57 +0200 (CEST) Received: by mail-pf1-f226.google.com with SMTP id d2e1a72fcca58-74b27c1481bso732836b3a.2 for ; Fri, 04 Jul 2025 10:44:57 -0700 (PDT) DKIM-Signature: v=1; a=rsa-sha256; c=relaxed/relaxed; d=iol.unh.edu; s=unh-iol; t=1751651096; x=1752255896; darn=dpdk.org; h=references:in-reply-to:cc:to:from:subject:message-id:date:from:to :cc:subject:date:message-id:reply-to; bh=Kb3ggTrCDEMTMe7ZEAsjsUdYqUhaO6aiFTGXSkHIBsg=; b=I54j9GZezsBIlmsY1mJDZEcwUl8ZjZZd2W73Rp4jBv+REtdXoihws4raeoh+x6TOf/ Vr8mG3b0wR/tJ2Y664NN6JJa8Mi4SmX/imPswgKXkRubHyAs0TwhY3Gbf7+cIIdkP/s4 QQ0xK/rZkbJuYzLxdNNSJyRogMWhVk6WsS1qQ= X-Google-DKIM-Signature: v=1; a=rsa-sha256; c=relaxed/relaxed; d=1e100.net; s=20230601; t=1751651096; x=1752255896; h=references:in-reply-to:cc:to:from:subject:message-id:date :x-gm-message-state:from:to:cc:subject:date:message-id:reply-to; bh=Kb3ggTrCDEMTMe7ZEAsjsUdYqUhaO6aiFTGXSkHIBsg=; b=F3cR6eZoFiEe1APvGZAlKW1gqdkWK77QGzq3YNwcNs+c4H2vLjkj/PKcl7kKfnvqkI ZGHxJCQqrzXe6Y+VMx9NtazwbJgfvOtZYUyYqetpVE+hkyJo8eVpdKNxRRKFl7A9GukJ 7nEkglmjybP1lvnK+7nIHUemDSgbluYVokENgjD42DMZi9zGM+EZtPTS2EnVmzDmhMMD D1BjkjjOafS8E8SiXxQ7PJP5NrMff9PGhUUyFsqReg/WoCf28WgfCoMsfyhH4S6xBjro vwVZ9NjG2AnvRFses/XxbZU7HgNhddzn7QdBFIOQ4OiS55n5f3Mi2f/hixzLEn+gwQbR F2YA== X-Gm-Message-State: AOJu0YyMz0+Kt4bpqqvgFio7yCfQJb9feOoGtuY39qn1dp1ULeL/FeOy ikw/FKt/6jERpStvg5BWNmkhdvUTmtgKq0U71Ctg1MWquHIJTs2A1NCW0XKyTeYYu+XIf7rtSeJ dsbNaWNH/05UrV+1J+NOxWB1jBgsQA5+Pjglt64jHl/SaxWRD/kfMRAQNAsda X-Gm-Gg: ASbGncuimOyrM5oW4U4sApHI1p8vOzF5FV/TXDMKXzuyz7y3YaflFrO/fwWJdwf9cAm +1V3uMOvN31Av+bJB/p611G7YtsaIiu8mBiuH/9kQG1rbyspnPHSFQ2DhexVt3DQAnkG4+F0+/e Ixnft8KzUqnHwXKvquhzKRsNEOQlCJK/5ZqItS5X7+pEQ/72X/ogTJzZIEczjmVRZonpGeUJkJD XHHquN5rb6V0M8YsXU7LXispNRHT5ss3vhwlj+UukrwuhavSce2hU2ncCVsgYb68UAIuUoJE3eI uezEpK8/H1kO95uwqzjAF3/rxCEwY4GQc0LFEThyIQf0Wbw= X-Google-Smtp-Source: AGHT+IEjiDEnlpOG/P+BkqJ3QVWRwNh0o0W1JpRC52TqIPltEcnAo7zCMeR8KFxBG2n5rNR9dFdyPi1jy35/ X-Received: by 2002:a05:6a00:4612:b0:746:2ae9:fc42 with SMTP id d2e1a72fcca58-74ce69ce243mr4954762b3a.19.1751651096464; Fri, 04 Jul 2025 10:44:56 -0700 (PDT) Received: from postal.iol.unh.edu (postal.iol.unh.edu. [2606:4100:3880:1234::84]) by smtp-relay.gmail.com with ESMTPS id d2e1a72fcca58-74ce3cfd51bsm135782b3a.17.2025.07.04.10.44.56 (version=TLS1_2 cipher=ECDHE-ECDSA-AES128-GCM-SHA256 bits=128/128); Fri, 04 Jul 2025 10:44:56 -0700 (PDT) X-Relaying-Domain: iol.unh.edu Date: Fri, 04 Jul 2025 10:44:56 -0700 (PDT) Message-ID: <68681318.a70a0220.34eab7.771fSMTPIN_ADDED_MISSING@mx.google.com> Received: from [172.21.0.5] (unknown [172.18.0.240]) by postal.iol.unh.edu (Postfix) with ESMTP id 9BA1D6050A62; Fri, 4 Jul 2025 13:44:55 -0400 (EDT) Subject: |SUCCESS| pw154952 [PATCH] net/mlx5: fix inline data size adjustment From: dpdklab@iol.unh.edu To: Test Report Cc: dpdk-test-reports@iol.unh.edu In-Reply-To: <20250702093459.102142-1-shperetz@nvidia.com> References: <20250702093459.102142-1-shperetz@nvidia.com> Content-Type: text/plain X-BeenThere: test-report@dpdk.org X-Mailman-Version: 2.1.29 Precedence: list List-Id: automatic DPDK test reports List-Unsubscribe: , List-Archive: List-Post: List-Help: List-Subscribe: , Errors-To: test-report-bounces@dpdk.org Test-Label: iol-abi-testing Test-Status: SUCCESS http://dpdk.org/patch/154952 _Testing PASS_ Submitter: Shani Peretz Date: Wednesday, July 02 2025 09:34:59 DPDK git baseline: Repo:dpdk Branch: master CommitID:5c0c1a13c34aa57c6e18f9ba852a9b5807c58b72 154952 --> testing pass Upstream job id: Generic-DPDK-Compile-ABI#133038 Test environment and result as below: +-------------------------------+----------+ | Environment | abi_test | +===============================+==========+ | CentOS Stream 9 | PASS | +-------------------------------+----------+ | Fedora Linux 40 | PASS | +-------------------------------+----------+ | Debian GNU/Linux 12 | PASS | +-------------------------------+----------+ | CentOS Stream 10 | PASS | +-------------------------------+----------+ | Fedora Linux 41 | PASS | +-------------------------------+----------+ | Ubuntu 22.04 | PASS | +-------------------------------+----------+ | Ubuntu 24.04 | PASS | +-------------------------------+----------+ | openSUSE Leap 15.6 | PASS | +-------------------------------+----------+ | Red Hat Enterprise Linux 9.5 | PASS | +-------------------------------+----------+ | Red Hat Enterprise Linux 8.10 | PASS | +-------------------------------+----------+ CentOS Stream 9 Kernel: 5.15 Compiler: gcc gcc (GCC) 11.5.0 20240719 (Red Hat 11.5.0-7) Fedora Linux 40 Kernel: 5.15 Compiler: clang gcc (GCC) 14.2.1 20240912 (Red Hat 14.2.1-3) Debian GNU/Linux 12 Kernel: 5.15 Compiler: gcc gcc (Debian 12.2.0-14+deb12u1) 12.2.0 CentOS Stream 10 Kernel: 5.15 Compiler: gcc gcc (GCC) 14.2.1 20250110 (Red Hat 14.2.1-8) Fedora Linux 41 Kernel: 5.15 Compiler: gcc gcc (GCC) 14.3.1 20250523 (Red Hat 14.3.1-1) Ubuntu 22.04 Kernel: 5.15 Compiler: gcc gcc (Ubuntu 11.4.0-1ubuntu1~22.04) 11.4.0 Ubuntu 24.04 Kernel: 5.15 Compiler: gcc gcc (Ubuntu 13.3.0-6ubuntu2~24.04) 13.3.0 openSUSE Leap 15.6 Kernel: 5.15 Compiler: gcc gcc (SUSE Linux) 7.5.0 Red Hat Enterprise Linux 9.5 Kernel: 5.15 Compiler: gcc gcc (GCC) 11.5.0 20240719 (Red Hat 11.5.0-2) Red Hat Enterprise Linux 8.10 Kernel: 5.15 Compiler: gcc gcc (GCC) 8.5.0 20210514 (Red Hat 8.5.0-22) To view detailed results, visit: https://lab.dpdk.org/results/dashboard/patchsets/33564/ UNH-IOL DPDK Community Lab To manage your email subscriptions, visit: https://lab.dpdk.org/results/dashboard/preferences/subscriptions/