From mboxrd@z Thu Jan 1 00:00:00 1970 Return-Path: Received: from mails.dpdk.org (mails.dpdk.org [217.70.189.124]) by inbox.dpdk.org (Postfix) with ESMTP id DCAD546AE7 for ; Fri, 4 Jul 2025 19:59:34 +0200 (CEST) Received: from mails.dpdk.org (localhost [127.0.0.1]) by mails.dpdk.org (Postfix) with ESMTP id D7C1E4028E; Fri, 4 Jul 2025 19:59:34 +0200 (CEST) Received: from mail-pl1-f227.google.com (mail-pl1-f227.google.com [209.85.214.227]) by mails.dpdk.org (Postfix) with ESMTP id CEC104028E for ; Fri, 4 Jul 2025 19:59:32 +0200 (CEST) Received: by mail-pl1-f227.google.com with SMTP id d9443c01a7336-237311f5a54so11415395ad.2 for ; Fri, 04 Jul 2025 10:59:32 -0700 (PDT) DKIM-Signature: v=1; a=rsa-sha256; c=relaxed/relaxed; d=iol.unh.edu; s=unh-iol; t=1751651972; x=1752256772; darn=dpdk.org; h=references:in-reply-to:cc:to:from:subject:message-id:date:from:to :cc:subject:date:message-id:reply-to; bh=60bsaF3Jcgp/LK7zIFT1VdbRwercO3xOO740/27h82A=; b=aJDVje56dnApvugnQBdZKvW3dnU2ZIfatMtIUmm7qeDAxlP1Sg/IRG0fO3pxP7jkQC x1r2TDquewxxf8pAXaYSUNS8aqHQwcSFlqvIb9SmaTEAIzhQtnHbVEqFy8e+k9Cdl/aW 5SVEPKUu48ylEUqP5mo10p8hTLWeEXyaS5y5o= X-Google-DKIM-Signature: v=1; a=rsa-sha256; c=relaxed/relaxed; d=1e100.net; s=20230601; t=1751651972; x=1752256772; h=references:in-reply-to:cc:to:from:subject:message-id:date :x-gm-message-state:from:to:cc:subject:date:message-id:reply-to; bh=60bsaF3Jcgp/LK7zIFT1VdbRwercO3xOO740/27h82A=; b=Ii9QgFn6yxmJYgOpTDFWf738At3speR8OoZF72NpRafO9SpLHAwd6ndqAuQXSiXIj4 Ql9cWJqujb7CVvWAVyvWzyuyuQjv08ya+DAoyuu4bzKcQh2SFCLcjfvklMQEJAMCj6ES 1qJmfIDpmxBkHE/05rsdJMFpib02RklrIqQiUnwrVAKb6ecYOs8s+OXNjMrcd+FiYaKo QkcEJkR/8mWOj+7nMMlNgMnQfwxOF9so+5s3oDdQhydUw+9XjLIDY3Cu6de8UmzxySmy +bZz4BWdSDUrO4QEv9rsg9spaWvUXbT6GrhVn67o+popIhgS7O6KFPNK4/xageUieeRU Dnfw== X-Gm-Message-State: AOJu0YzHZTYpXzYtno6FPr58yOz3sKZyq4SsOwFFX4/IZOxPQampQ8fE wamVkts1LODjYMb7b2EPYjDDgcvCYn4todqCpZ1HBX+eSlbz3tazbSAw8B/rBmkTY07xSDCEjz0 SthqjnPubfzsUi5ePnQoiXgAX9HGfHQH+AJagREJy3FsXc6JwXWuxe6REIFj2 X-Gm-Gg: ASbGncuTGqzWZtC201PiKxUNP9v5Snj4udjbsVJOa5ezUMg6xi/V3HE2X1qjiPhq0ii ETPE/XAznDMVmYk/x2/4Q9HcTnRVRSLjUyMl9Gu+LrdwIU0+woM+qTfI2OHH4pL5C/UeXlIvfly OmELF2fNMBgZdr6bQKSeux4gFTVDc6NBj35ArcrqbAKEvqQ432Ek6NBQN36zdyU4AMjptSczm+O xczL0e80N0Uv7SpqvoNBMZS/XNX9SEFyH2j/7emaoTHG88YNp7nY0P09OrOv4/6nurFLPhwax/l z+qiVlrirO82mE+EY4rSlGZxJSGhapxwNePSVOX0dEuuxhU= X-Google-Smtp-Source: AGHT+IGuPigHuCgSg1k38ypuTTUMdmINON7DXo/F1Tup7asWSPro5F4hSuj2EYZR7qL0O4SQCVFKncShQiv0 X-Received: by 2002:a17:902:d48c:b0:235:779:edf0 with SMTP id d9443c01a7336-23c875dba17mr42804095ad.50.1751651971944; Fri, 04 Jul 2025 10:59:31 -0700 (PDT) Received: from postal.iol.unh.edu (postal.iol.unh.edu. [2606:4100:3880:1234::84]) by smtp-relay.gmail.com with ESMTPS id d9443c01a7336-23c844e0dd8sm1100625ad.58.2025.07.04.10.59.31 (version=TLS1_2 cipher=ECDHE-ECDSA-AES128-GCM-SHA256 bits=128/128); Fri, 04 Jul 2025 10:59:31 -0700 (PDT) X-Relaying-Domain: iol.unh.edu Date: Fri, 04 Jul 2025 10:59:31 -0700 (PDT) Message-ID: <68681683.170a0220.1b8b54.5f10SMTPIN_ADDED_MISSING@mx.google.com> Received: from [172.21.0.7] (unknown [172.18.0.240]) by postal.iol.unh.edu (Postfix) with ESMTP id 218EF6050A62; Fri, 4 Jul 2025 13:59:31 -0400 (EDT) Subject: |SUCCESS| pw154952 [PATCH] net/mlx5: fix inline data size adjustment From: dpdklab@iol.unh.edu To: Test Report Cc: dpdk-test-reports@iol.unh.edu In-Reply-To: <20250702093459.102142-1-shperetz@nvidia.com> References: <20250702093459.102142-1-shperetz@nvidia.com> Content-Type: text/plain X-BeenThere: test-report@dpdk.org X-Mailman-Version: 2.1.29 Precedence: list List-Id: automatic DPDK test reports List-Unsubscribe: , List-Archive: List-Post: List-Help: List-Subscribe: , Errors-To: test-report-bounces@dpdk.org Test-Label: iol-unit-arm64-testing Test-Status: SUCCESS http://dpdk.org/patch/154952 _Testing PASS_ Submitter: Shani Peretz Date: Wednesday, July 02 2025 09:34:59 DPDK git baseline: Repo:dpdk Branch: master CommitID:5c0c1a13c34aa57c6e18f9ba852a9b5807c58b72 154952 --> testing pass Upstream job id: Generic-Unit-Test-DPDK#352541 Test environment and result as below: +------------------------------+------------------------------+--------------+---------------------------+----------------+ | Environment | cryptodev_sw_snow3g_autotest | lpm_autotest | cryptodev_sw_zuc_autotest | dpdk_unit_test | +==============================+==============================+==============+===========================+================+ | Debian 12 (arm) | PASS | SKIPPED | PASS | SKIPPED | +------------------------------+------------------------------+--------------+---------------------------+----------------+ | Ubuntu 20.04 | SKIPPED | PASS | SKIPPED | PASS | +------------------------------+------------------------------+--------------+---------------------------+----------------+ | Fedora Linux 40 | SKIPPED | SKIPPED | SKIPPED | PASS | +------------------------------+------------------------------+--------------+---------------------------+----------------+ | CentOS Stream 9 | SKIPPED | SKIPPED | SKIPPED | PASS | +------------------------------+------------------------------+--------------+---------------------------+----------------+ | CentOS Stream 10 | SKIPPED | SKIPPED | SKIPPED | PASS | +------------------------------+------------------------------+--------------+---------------------------+----------------+ | Debian GNU/Linux 12 | SKIPPED | SKIPPED | SKIPPED | PASS | +------------------------------+------------------------------+--------------+---------------------------+----------------+ | Fedora Linux 41 | SKIPPED | SKIPPED | SKIPPED | PASS | +------------------------------+------------------------------+--------------+---------------------------+----------------+ | Ubuntu 22.04 | SKIPPED | SKIPPED | SKIPPED | PASS | +------------------------------+------------------------------+--------------+---------------------------+----------------+ | Red Hat Enterprise Linux 9.5 | SKIPPED | SKIPPED | SKIPPED | PASS | +------------------------------+------------------------------+--------------+---------------------------+----------------+ | Ubuntu 24.04 | SKIPPED | SKIPPED | SKIPPED | PASS | +------------------------------+------------------------------+--------------+---------------------------+----------------+ Debian 12 (arm) Kernel: Depends on container host Compiler: gcc (Debian 12.2.0-14) 12.2.0 Ubuntu 20.04 Kernel: 5.4 Compiler: gcc gcc (Ubuntu 9.4.0-1ubuntu1~20.04.2) 9.4.0 Fedora Linux 40 Kernel: 5.4 Compiler: gcc gcc (GCC) 14.2.1 20240912 (Red Hat 14.2.1-3) CentOS Stream 9 Kernel: 5.4 Compiler: gcc gcc (GCC) 11.5.0 20240719 (Red Hat 11.5.0-7) CentOS Stream 10 Kernel: 5.4 Compiler: gcc gcc (GCC) 14.2.1 20250110 (Red Hat 14.2.1-8) Debian GNU/Linux 12 Kernel: 5.4 Compiler: gcc gcc (Debian 12.2.0-14+deb12u1) 12.2.0 Fedora Linux 41 Kernel: 5.4 Compiler: gcc gcc (GCC) 14.3.1 20250523 (Red Hat 14.3.1-1) Ubuntu 22.04 Kernel: 5.4 Compiler: gcc gcc (Ubuntu 11.4.0-1ubuntu1~22.04) 11.4.0 Red Hat Enterprise Linux 9.5 Kernel: 5.4 Compiler: gcc gcc (GCC) 11.5.0 20240719 (Red Hat 11.5.0-2) Ubuntu 24.04 Kernel: 5.4 Compiler: gcc gcc (Ubuntu 13.3.0-6ubuntu2~24.04) 13.3.0 To view detailed results, visit: https://lab.dpdk.org/results/dashboard/patchsets/33564/ UNH-IOL DPDK Community Lab To manage your email subscriptions, visit: https://lab.dpdk.org/results/dashboard/preferences/subscriptions/