From mboxrd@z Thu Jan 1 00:00:00 1970 Return-Path: Received: from mails.dpdk.org (mails.dpdk.org [217.70.189.124]) by inbox.dpdk.org (Postfix) with ESMTP id A5D5B46AE8 for ; Fri, 4 Jul 2025 20:06:38 +0200 (CEST) Received: from mails.dpdk.org (localhost [127.0.0.1]) by mails.dpdk.org (Postfix) with ESMTP id 7CE424028E; Fri, 4 Jul 2025 20:06:38 +0200 (CEST) Received: from mail-qv1-f100.google.com (mail-qv1-f100.google.com [209.85.219.100]) by mails.dpdk.org (Postfix) with ESMTP id DE6854028E for ; Fri, 4 Jul 2025 20:06:36 +0200 (CEST) Received: by mail-qv1-f100.google.com with SMTP id 6a1803df08f44-702cbfe860cso5992066d6.1 for ; Fri, 04 Jul 2025 11:06:36 -0700 (PDT) DKIM-Signature: v=1; a=rsa-sha256; c=relaxed/relaxed; d=iol.unh.edu; s=unh-iol; t=1751652396; x=1752257196; darn=dpdk.org; h=references:in-reply-to:cc:to:from:subject:message-id:date:from:to :cc:subject:date:message-id:reply-to; bh=GLBxfvWay+173B9+DhXxNX04jCyyPeWzFIULLKaetbo=; b=FjZVDpI+TLpGiFNB+qLraN6US1hiNuFtPIgnHY6iodq2QcFxr8L1oX1cfoqtUq5yvG nPJ548jjd9cMhsJFPD4q/7AfzU5Nej53OVMGFivwESFiQqCS4jqhOgWwzAoLUI/VesI6 WXNM6ISdgpa47kLTmJRiKICU78ZCVtpypWLx4= X-Google-DKIM-Signature: v=1; a=rsa-sha256; c=relaxed/relaxed; d=1e100.net; s=20230601; t=1751652396; x=1752257196; h=references:in-reply-to:cc:to:from:subject:message-id:date :x-gm-message-state:from:to:cc:subject:date:message-id:reply-to; bh=GLBxfvWay+173B9+DhXxNX04jCyyPeWzFIULLKaetbo=; b=Qc5KesODFBgD7UmU4ucDRAMTq7sLU9cNSHdMVSR9oAEgwWjXDMMEKgFcxg2v7tIlt/ 1EPV3lcW1BnyMttQU/K/bOHbZEuxQDG5AjUnu1Rxh1MtlHbCA7Tnv71+SFOGnAhMIbNW XjQCh+vDXtrjpeYLUyRyhLaNSwiT/zJB+0zLraCrajsbf4inVyarnTOvNxSl1KZORCba 9krOCk476VfeLXkyE7iWifnDyPdlzr67AsLcr+SLZeZSqwdxMQkZKcZnAWUg61I70pHZ HKqLUGxF9jzJqEKEWTXCeH+npf+F49X3AFmtBYtEu9Q4YiPxoC9bcbW+WLMZHjdXDlmK zGHg== X-Gm-Message-State: AOJu0Yyt4NLNZTB7r7ooBRcWCS1gKAu79mbb9yjJ5iQIdCbx1I7OpF8o LGiXANnOrsETS2iRFJWvgZ73qoKLkgUspdyjTwyfXllv2dfGA0sTUVmHy63b+UVZHYUDiNKBauE qgBu0t2cxTSMpf+QpalP2H8W/RKZxUJw98Z0WIekXArXD X-Gm-Gg: ASbGncsIe2hGD3haN+9z6e6BFySYc5Z71IKGnnarUeDMm5m1CmoOGWMm2ihkn8t2cBf ezbwSRmRcGHMmTDJ5LAaStP8Y2YjBjln2SCfxA+tj02rViJuw6DcjYWAEzpedNXiwqbD3/XzMS4 kjyoz07cCJ/clHPGUZMQ5Nc+wXKe9owR4qScaGFZOvWtSkdNAiqgeRpB9ujOe1eeQbdniDHTYw/ elvJVUM/HJ/yuFvmcZ0GjKCnLd/ryjmKlVfxUotvS+XG/ZrvSsbPlX3i7kv0KCZHepqvfuyzpi1 hPwJ11BPRwOMsHxMsEWCYVw+/nmdMN698TnZDXfC6bNbZJCI2xtVuxnG2a5F6GEE4RSORQ== X-Google-Smtp-Source: AGHT+IFuh1AtOjda9hSIPOOgKmsOm0CjFr+EyzsOjFPlAW5b+gVgu2i6opzwm6spgqI83ScJb6VJC4dMOEBk X-Received: by 2002:a05:6214:519b:b0:6fb:4cbc:5b86 with SMTP id 6a1803df08f44-702c6d3bb51mr48434846d6.18.1751652396177; Fri, 04 Jul 2025 11:06:36 -0700 (PDT) Received: from postal.iol.unh.edu (postal.iol.unh.edu. [132.177.123.84]) by smtp-relay.gmail.com with ESMTPS id 6a1803df08f44-702c4d33aafsm1073336d6.34.2025.07.04.11.06.36 (version=TLS1_2 cipher=ECDHE-ECDSA-AES128-GCM-SHA256 bits=128/128); Fri, 04 Jul 2025 11:06:36 -0700 (PDT) X-Relaying-Domain: iol.unh.edu Date: Fri, 04 Jul 2025 11:06:36 -0700 (PDT) Message-ID: <6868182c.050a0220.9573c.5b2aSMTPIN_ADDED_MISSING@mx.google.com> Received: from [172.21.0.7] (unknown [172.18.0.240]) by postal.iol.unh.edu (Postfix) with ESMTP id D0E3160003E8; Fri, 4 Jul 2025 14:06:35 -0400 (EDT) Subject: |SUCCESS| pw154952 [PATCH] net/mlx5: fix inline data size adjustment From: dpdklab@iol.unh.edu To: Test Report Cc: dpdk-test-reports@iol.unh.edu In-Reply-To: <20250702093459.102142-1-shperetz@nvidia.com> References: <20250702093459.102142-1-shperetz@nvidia.com> Content-Type: text/plain X-BeenThere: test-report@dpdk.org X-Mailman-Version: 2.1.29 Precedence: list List-Id: automatic DPDK test reports List-Unsubscribe: , List-Archive: List-Post: List-Help: List-Subscribe: , Errors-To: test-report-bounces@dpdk.org Test-Label: iol-unit-amd64-testing Test-Status: SUCCESS http://dpdk.org/patch/154952 _Testing PASS_ Submitter: Shani Peretz Date: Wednesday, July 02 2025 09:34:59 DPDK git baseline: Repo:dpdk Branch: master CommitID:5c0c1a13c34aa57c6e18f9ba852a9b5807c58b72 154952 --> testing pass Upstream job id: Generic-Unit-Test-DPDK#352563 Test environment and result as below: +-------------------------------+----------------+ | Environment | dpdk_unit_test | +===============================+================+ | Fedora Linux 40 | PASS | +-------------------------------+----------------+ | CentOS Stream 10 | PASS | +-------------------------------+----------------+ | CentOS Stream 9 | PASS | +-------------------------------+----------------+ | Debian GNU/Linux 12 | PASS | +-------------------------------+----------------+ | Fedora Linux 41 | PASS | +-------------------------------+----------------+ | Ubuntu 20.04 | PASS | +-------------------------------+----------------+ | Red Hat Enterprise Linux 9.5 | PASS | +-------------------------------+----------------+ | Red Hat Enterprise Linux 8.10 | PASS | +-------------------------------+----------------+ | Ubuntu 24.04 | PASS | +-------------------------------+----------------+ | Ubuntu 22.04 | PASS | +-------------------------------+----------------+ | Windows Server 2022 | PASS | +-------------------------------+----------------+ Fedora Linux 40 Kernel: 5.15 Compiler: gcc gcc (GCC) 14.2.1 20240912 (Red Hat 14.2.1-3) CentOS Stream 10 Kernel: 5.15 Compiler: gcc gcc (GCC) 14.2.1 20250110 (Red Hat 14.2.1-8) CentOS Stream 9 Kernel: 5.15 Compiler: gcc gcc (GCC) 11.5.0 20240719 (Red Hat 11.5.0-7) Debian GNU/Linux 12 Kernel: 5.15 Compiler: gcc gcc (Debian 12.2.0-14+deb12u1) 12.2.0 Fedora Linux 41 Kernel: 5.15 Compiler: clang gcc (GCC) 14.3.1 20250523 (Red Hat 14.3.1-1) Ubuntu 20.04 Kernel: 5.15 Compiler: gcc gcc (Ubuntu 9.4.0-1ubuntu1~20.04.2) 9.4.0 Red Hat Enterprise Linux 9.5 Kernel: 5.15 Compiler: gcc gcc (GCC) 11.5.0 20240719 (Red Hat 11.5.0-2) Red Hat Enterprise Linux 8.10 Kernel: 5.15 Compiler: gcc gcc (GCC) 8.5.0 20210514 (Red Hat 8.5.0-22) Ubuntu 24.04 Kernel: 5.15 Compiler: gcc gcc (Ubuntu 13.3.0-6ubuntu2~24.04) 13.3.0 Ubuntu 22.04 Kernel: 5.15 Compiler: gcc gcc (Ubuntu 11.4.0-1ubuntu1~22.04) 11.4.0 Windows Server 2022 Kernel: 10.0.20348.2031 Compiler: clang 15.0.7, gcc 14.1.0 (MinGW), and MSVC VS 19.39.33521 To view detailed results, visit: https://lab.dpdk.org/results/dashboard/patchsets/33564/ UNH-IOL DPDK Community Lab To manage your email subscriptions, visit: https://lab.dpdk.org/results/dashboard/preferences/subscriptions/