From mboxrd@z Thu Jan 1 00:00:00 1970 Return-Path: Received: from mails.dpdk.org (mails.dpdk.org [217.70.189.124]) by inbox.dpdk.org (Postfix) with ESMTP id 7BA1946AE8 for ; Fri, 4 Jul 2025 20:15:02 +0200 (CEST) Received: from mails.dpdk.org (localhost [127.0.0.1]) by mails.dpdk.org (Postfix) with ESMTP id 588344028E; Fri, 4 Jul 2025 20:15:02 +0200 (CEST) Received: from mail-il1-f228.google.com (mail-il1-f228.google.com [209.85.166.228]) by mails.dpdk.org (Postfix) with ESMTP id 89BE64028E for ; Fri, 4 Jul 2025 20:15:01 +0200 (CEST) Received: by mail-il1-f228.google.com with SMTP id e9e14a558f8ab-3e058c64a76so6667275ab.0 for ; Fri, 04 Jul 2025 11:15:01 -0700 (PDT) DKIM-Signature: v=1; a=rsa-sha256; c=relaxed/relaxed; d=iol.unh.edu; s=unh-iol; t=1751652901; x=1752257701; darn=dpdk.org; h=references:in-reply-to:cc:to:from:subject:message-id:date:from:to :cc:subject:date:message-id:reply-to; bh=t5Eh+874YP6uKgYOlfCMvyeitZ/E6Co1GW9axRbbfsw=; b=FYyGfvuZrPkR5z+8SQk+++NpFdoW3KreDt2AlVCy4l+tCx9yLjKDtiK3w9WH5W8IMl Jk+a40Qc1cSqJY4pdGSmBkJW743EJTTsj7S6Io2xzwgvQVR2Mm/Z9s1sXJR96XG2zSPZ WOF+H+RJVrYi57Wo+9pF9wW8+GFfeTInrP6L0= X-Google-DKIM-Signature: v=1; a=rsa-sha256; c=relaxed/relaxed; d=1e100.net; s=20230601; t=1751652901; x=1752257701; h=references:in-reply-to:cc:to:from:subject:message-id:date :x-gm-message-state:from:to:cc:subject:date:message-id:reply-to; bh=t5Eh+874YP6uKgYOlfCMvyeitZ/E6Co1GW9axRbbfsw=; b=qx1MhEA77Ij1KYMcIdTL1paI1rQPA/ultKh1eiKvL38MDW6knUtpWpB1QRaN1IzkQf D1QU8QI8QUN+1n2+JrkOvXPKPCauGFI3aDil1NxElzJBnnmEAyhqfgqCKGKTBD7qb/Lj PIoz5Nyxejx+eKOJAzGet4lu9W1tgFdjju7+HEhfygukISqdqsipcnlLaFuXQhvlM+Pz kwwoob+sS1/tsDady2CKN5s9DTF+pQURvVQX21B1ExYwB6aISPiQFeSE9YS+js4ENCoH Gy3oJFmBY/Z8Fn71cmvffb1dDx3UmTFCo89ZxoBgbBiJXMqK3xfU+HRNAfhq1BmCYHgp 5QlQ== X-Gm-Message-State: AOJu0YzagbnjNWZrs2f9bgxqBXMxln7kkRNrZ3YhjkklFym8Sm2kzzFa AL59rBXZeC1vGNk46nmWpN+zk6aItUrAxwgNMd+eG9fy99x5PZiUTw/EYPARu3SYx85sjBLa9kz 8xW/PbqtaYUUYAy8z4VUtkB+NaowW7kbSGm+388KZTyFNyPJ7AUUfk9Jjw6GF X-Gm-Gg: ASbGnctje8wguYBWm6WGtjbiCu5LfqLScPcz53az+UC+x6mOA+LmeaNAldsA2qGGLCz dQlbx1Bu8TENZCEfyq6KRukgy4avrgrQZIY1C3+d5vN8Dsp9HSoR2gCKpEM5c418bZBsZoBuHAS 0qAbkdH1o/L5m5zc4nfQNr71mRgFLmd/n3SKwkP/YhWEGcm4kXJk7LzkF9ZWZdn0YIUl8IjOz8w vwwRoPut37VKHt/b6ZbnhAMjhRpvTDztMD4XGPmGH5opc/1BZb//6rz5TBqmCJElJdENKHbv7/r 6nsRiq4YTpsvNhwJiONxnw2uoOoyPLV6pZXWHymKBtA7Wdg= X-Google-Smtp-Source: AGHT+IHIvc6aUIGLzLWHtViYC+pJqU7W6qKbVzb3q0gbqwzGyGwnWqsjQM6Nl+ZSD1/CsPMP8Oni5/pI874n X-Received: by 2002:a05:6602:4009:b0:867:6680:cfd with SMTP id ca18e2360f4ac-876e4789991mr251044239f.1.1751652900749; Fri, 04 Jul 2025 11:15:00 -0700 (PDT) Received: from postal.iol.unh.edu (postal.iol.unh.edu. [2606:4100:3880:1234::84]) by smtp-relay.gmail.com with ESMTPS id ca18e2360f4ac-876e06c5654sm10095239f.0.2025.07.04.11.15.00 (version=TLS1_2 cipher=ECDHE-ECDSA-AES128-GCM-SHA256 bits=128/128); Fri, 04 Jul 2025 11:15:00 -0700 (PDT) X-Relaying-Domain: iol.unh.edu Date: Fri, 04 Jul 2025 11:15:00 -0700 (PDT) Message-ID: <68681a24.050a0220.32a0f9.56aaSMTPIN_ADDED_MISSING@mx.google.com> Received: from [172.21.0.6] (unknown [172.18.0.240]) by postal.iol.unh.edu (Postfix) with ESMTP id 424A56051830; Fri, 4 Jul 2025 14:15:00 -0400 (EDT) Subject: |WARNING| pw154969 [PATCH] [v2] build/x86: fix support for older com From: dpdklab@iol.unh.edu To: Test Report Cc: dpdk-test-reports@iol.unh.edu In-Reply-To: <20250702160138.3441279-1-bruce.richardson@intel.com> References: <20250702160138.3441279-1-bruce.richardson@intel.com> Content-Type: text/plain X-BeenThere: test-report@dpdk.org X-Mailman-Version: 2.1.29 Precedence: list List-Id: automatic DPDK test reports List-Unsubscribe: , List-Archive: List-Post: List-Help: List-Subscribe: , Errors-To: test-report-bounces@dpdk.org Test-Label: iol-unit-amd64-testing Test-Status: WARNING http://dpdk.org/patch/154969 _Testing issues_ Submitter: Bruce Richardson Date: Wednesday, July 02 2025 16:00:45 DPDK git baseline: Repo:dpdk Branch: master CommitID:70c2297528e7c7789af452f78de1932e9a20c8a2 154969 --> testing issues Upstream job id: Generic-Unit-Test-DPDK#352580 Test environment and result as below: +-------------------------------+----------------+ | Environment | dpdk_unit_test | +===============================+================+ | Fedora Linux 40 | WARN | +-------------------------------+----------------+ | CentOS Stream 10 | WARN | +-------------------------------+----------------+ | Debian GNU/Linux 12 | WARN | +-------------------------------+----------------+ | Fedora Linux 41 | WARN | +-------------------------------+----------------+ | CentOS Stream 9 | WARN | +-------------------------------+----------------+ | Red Hat Enterprise Linux 9.5 | WARN | +-------------------------------+----------------+ | Red Hat Enterprise Linux 8.10 | WARN | +-------------------------------+----------------+ | Ubuntu 24.04 | WARN | +-------------------------------+----------------+ | Ubuntu 22.04 | WARN | +-------------------------------+----------------+ | Ubuntu 20.04 | WARN | +-------------------------------+----------------+ ==== 20 line log output for Ubuntu 20.04 (dpdk_unit_test): ==== Compiler for C supports arguments -Wsign-compare: YES Compiler for C supports arguments -Wstrict-prototypes: YES Compiler for C supports arguments -Wundef: YES Compiler for C supports arguments -Wwrite-strings: YES Compiler for C supports arguments -Wno-packed-not-aligned: YES Compiler for C supports arguments -Wno-missing-field-initializers: YES Compiler for C supports arguments -fzero-init-padding-bits=all: NO Fetching value of define "__AVX2__" : 1 Fetching value of define "__znver1__" : Fetching value of define "__znver2__" : Fetching value of define "__znver3__" : Fetching value of define "__znver4__" : Fetching value of define "__znver5__" : Program objdump found: YES (/usr/bin/objdump) Compiler for C supports arguments -march=x86-64-v4: NO Fetching value of define "__AVX512F__" : 1 config/x86/meson.build:81:6: ERROR: List item must be one of , not A full log can be found at /root/workspace/Generic-Unit-Test-DPDK/dpdk/build/meson-logs/meson-log.txt ==== End log output ==== Fedora Linux 40 Kernel: 5.15 Compiler: clang gcc (GCC) 14.2.1 20240912 (Red Hat 14.2.1-3) CentOS Stream 10 Kernel: 5.15 Compiler: gcc gcc (GCC) 14.2.1 20250110 (Red Hat 14.2.1-8) Debian GNU/Linux 12 Kernel: 5.15 Compiler: gcc gcc (Debian 12.2.0-14+deb12u1) 12.2.0 Fedora Linux 41 Kernel: 5.15 Compiler: gcc gcc (GCC) 14.3.1 20250523 (Red Hat 14.3.1-1) CentOS Stream 9 Kernel: 5.15 Compiler: gcc gcc (GCC) 11.5.0 20240719 (Red Hat 11.5.0-7) Red Hat Enterprise Linux 9.5 Kernel: 5.15 Compiler: gcc gcc (GCC) 11.5.0 20240719 (Red Hat 11.5.0-2) Red Hat Enterprise Linux 8.10 Kernel: 5.15 Compiler: gcc gcc (GCC) 8.5.0 20210514 (Red Hat 8.5.0-22) Ubuntu 24.04 Kernel: 5.15 Compiler: gcc gcc (Ubuntu 13.3.0-6ubuntu2~24.04) 13.3.0 Ubuntu 22.04 Kernel: 5.15 Compiler: gcc gcc (Ubuntu 11.4.0-1ubuntu1~22.04) 11.4.0 Ubuntu 20.04 Kernel: 5.15 Compiler: gcc gcc (Ubuntu 9.4.0-1ubuntu1~20.04.2) 9.4.0 To view detailed results, visit: https://lab.dpdk.org/results/dashboard/patchsets/33570/ UNH-IOL DPDK Community Lab To manage your email subscriptions, visit: https://lab.dpdk.org/results/dashboard/preferences/subscriptions/